Workbook
Name df: #REF!
Name df: #REF!
Name 동양유사: #REF!
Name 동양유사: #REF!
Name 동양유사: #REF!
Name 동양유사: #REF!
Name 동양유사: #REF!
Name ㄹㄹㄹㄹㄹㄹㄹㄹ: #REF!
Name ㄹㄹㄹㄹㄹㄹㄹㄹ: #REF!
Name ㄹㄹㄹㄹㄹㄹㄹㄹ: #REF!
Name 문: [2]문유사!$1:$1048576
Name 문ENG: #REF!
Name 문ENG: #REF!
Name 문유사: [11]문유사!$A:$IV
Name 문유사: #REF!
Name 문유사: [3]문유사!$A:$IV
Name 배성호: #REF!
Name 배성호: #REF!
Name 배성호1: [4]문유사!$A:$IV
Name ㅇㅇ: [7]문유사!$A:$IV
Name ㅇㅇㅇㅇㅇㅇㅇㅇ: #REF!
Name ㅇㅇㅇㅇㅇㅇㅇㅇ: #REF!
Name ㅇㅇㅇㅇㅇㅇㅇㅇ: #REF!
Name 유사: #REF!
Name 유사: #REF!
Name 유사: #REF!
Name 유사1: #REF!
Name 유사1: #REF!
Name 유사1: #REF!
Name 유사2: #REF!
Name 유사2: #REF!
Name 유사2: #REF!
Name 인원: #REF!
Name 인원: #REF!
Name 인원: #REF!
Name 인원1: '[14]2016년'!$A$1:$N$65536
Name 인원1: #REF!
Name 인원1: '[5]2016년'!$A$1:$N$65536
Name 한종기: [4]문유사!$A:$IV

Sheet PQ접수조서
A1: 사업수행능력평가 접수조서
A3: PQ접수 마감일 : 2026년10월13일
A4: 공 고 명 | B4: 호남고속철도 2단계(고막원~목포) 통신설비 신설 기타공사 감리용역
A5: 공고번호 | B5: 제 2026-02-000515-00 호
A6: 공고일자 | B6: 2026년09월21일 | C6: 개찰일시 | D6: 2026년11월03일
A7: 설계금액 | B7: 금 4,298,104,800원
A9: 번호 | B9: 회 사 명 | C9: 대표자 | D9: 지분율(%) | E9: 공동/분담분야 | F9: 비 고
A10: 1 | B10: 주식회사 진하엔지니어링 | C10: 윤은수 | D10: 55%
B11: 주식회사 안세기술 | C11: 이용안 | D11: 45%
A12: 2 | B12: 주식회사 세영통신 | C12: 고영복 | D12: 100%
A13: 3 | B13: 대영유비텍 주식회사 | C13: 김경탁 | D13: 100%
A14: 4 | B14: 주식회사 케이씨에이 | C14: 문대원 | D14: 100%
A15: 5 | B15: 문엔지니어링(주) | C15: 김성만 | D15: 100%
A16: 6 | B16: 대한엔지니어링(주) | C16: 설일환 | D16: 100%
A17: 7 | B17: (주)효원엔지니어링 | C17: 진재권 | D17: 100%
A18: 8 | B18: 주식회사 예향엔지니어링 | C18: 이창현 | D18: 100%
A19: 9 | B19: 주식회사 자람앤수엔지니어링 | C19: 오대영 | D19: 100%
A20: 10 | B20: 주식회사 세영 | C20: 김진영 | D20: 100%

Sheet 1. (주)진하엔지니어링
A1: 업무중첩도
A3: 참여감리원 | D3: 용역명 | E3: 발주처 | F3: 용역금액 | G3: 용역기간 | I3: 근무형태 | J3: 평가점수
A4: 구분 | B4: 성명 | C4: 생년월일 | G4: 착수일 | H4: 종료일
A5: 책임감리원 | B5: 김동섭 | C5: 21708 | D5: 해당없음 | J5: 4 | K5: 4
A6: 보조감리원 | B6: 조래홍 | C6: 21444 | D6: 해당없음 | J6: 2 | K6: 2
A7: 보조감리원 | B7: 조한석 | C7: 22454 | D7: 해당없음
A8: 보조감리원 | B8: 김종원 | C8: 22407 | D8: 해당없음
A9: 보조감리원 | B9: 김흥기 | C9: 21904 | D9: 해당없음
A10: 비상주 감리원 | B10: 박원기 | C10: 18961 | D10: 충청권광역철도 지장통신설비 이설 기타공사 감리용역 | E10: 국가철도공단 | F10: 572189000 | G10: 25.4.9 | H10: 27.6.30 | I10: 비상주 | J10: 4 | K10: 4
D11: 평택~오송 2복선화 통신설비 지장물 이설 기타공사 외 2건 감리용역 | E11: 국가철도공단 | F11: 1071430000 | G11: 26.5.20 | H11: 29.8.20 | I11: 비상주
D12: 2026년 실시간 유량측정시스템 구축 정보통신공사감리(한강,낙동강) | E12: 한국수자원조사기술원 | F12: 135434000 | G12: 26.6.18 | H12: 27.1.13 | I12: 비상주
D13: 호남고속철도 2단계(고막원~목포) 통신설비 신설 기타공사 감리용역 [PQ] | E13: 국가철도공단 | F13: 입찰참가 | I13: 비상주 입찰참가
A15: ※ 첨부서류 및 주의사항
A16: 1. 진행중인 사업용역수행실적확인서(관련수탁기관 발급)
A17: 2. 현재 참여중인 모든 감리용역에 대하여 기재하며 관련 수탁기관에서 발급한 감리용역 수행실적 확인서의 진행중인 사업의 오류,
A18: 누락사항 및 미등록사항에 대하여 수정 또는 추가하여 작성하여야 하며, 비고란에는 수정 또는 추가사유를 기재하고 필요시
A19: 증명자료를 첨부하여야 한다.
A20: 3. 다른 공사현장의 배치기간이 완료되어 당해 감리용역의 배치기간과 중복되지 않는 경우에는 중복배치에서 제외하여 평가하며,
A21: 이 경우 해당 공사현장의 발주청장이 확인한 "완료 철수예정 확인서"를 제출하여야 한다.
A22: 4. 용역금액 및 용역기간은 전체분, 계획공정기간은 감리원 배치계획상의 공정기간, 근무형태는 상주 또는 비상주로 구분하여
A23: 표기한다.
A24: 5. 증빙서류에 표기되는 모든 기간은 반드시 년,월,일로 표시하여야 하며, 일(day) 표시가 없는 경우에는 당해 월의 마지막일(day)
A25: 로 간주한다.
A26: 6. 해당사항이 없는 경우에는 "해당없음"을 표기한다.

Sheet 2. (주)세영통신
A1: 업 무 중 첩 도
A3: 참여감리원 | D3: 용역명 | E3: 발주처 | F3: 용역금액 | G3: 용역기간 | I3: 근무 형태 | J3: 평가점수
A4: 구분 | B4: 성명 | C4: 생년월일 | G4: 착수일 | H4: 종료일
A5: 책 임 감리원 | B5: =[6]감리원현황!C5 -> 손경철 | C5: =[6]감리원현황!D5 -> 1962.04.06 | D5: "해당없음" | J5: 0 | K5: 4
A6: 상주보조 감리원 | B6: =[6]감리원현황!C6 -> 이준상 | C6: =[6]감리원현황!D6 -> 1964.04.27 | D6: "해당없음" | J6: 0 | K6: 2
A7: 상주보조 감리원 | B7: =[6]감리원현황!C7 -> 양진천 | C7: =[6]감리원현황!D7 -> 1955.05.11 | D7: "해당없음" | J7: 0
A8: 상주보조 감리원 | B8: =[6]감리원현황!C8 -> 장원규 | C8: =[6]감리원현황!D8 -> 1961.08.25 | D8: "해당없음" | J8: 0
A9: 상주보조 감리원 | B9: =[6]감리원현황!C9 -> 손인봉 | C9: =[6]감리원현황!D9 -> 1948.08.02 | D9: "해당없음" | J9: 0
A10: 비상주 감리원 | B10: =[6]감리원현황!C10 -> 구세연 | C10: =[6]감리원현황!D10 -> 1958.08.10 | D10: 도봉산~옥정 광역철도 시스템분야 공사 감리용역 | E10: 경기도청 북부청사 | F10: 1293925000 | G10: 21.06.21 | H10: 28.02.17 | I10: 비상주 | J10: 0 | K10: 4
D11: 수원발 KTX 통신설비 감리용역 | E11: 국가철도공단 | F11: 909667000 | G11: 24.07.01 | H11: 26.12.31 | I11: 비상주
D12: 경인선 주안전철변전소 통신설비 개량 외 3개사업 기타공사 외 11건 감리용역 | E12: 국가철도공단 | F12: 2973753000 | G12: 26.06.22 | H12: 29.11.30 | I12: 비상주
D13: 호남고속철도 2단계(고막원~목포) 통신설비 신설 기타공사 감리용역 | E13: 국가철도공단 | F13: 4298104800 | G13: 당해 용역 입찰참여
A16: ※ 첨부서류 및 주의사항
A17: 1. 진행중인 사업용역수행실적확인서(관련수탁기관 발급)
A18: 2. 현재 참여중인 모든 감리용역에 대하여 기재하며 관련 수탁기관에서 발급한 감리용역 수행실적 확인서의 진행중인 사업의 오류,
A19: 누락사항 및 미등록사항에 대하여 수정 또는 추가하여 작성하여야 하며, 비고란에는 수정 또는 추가사유를 기재하고 필요시
A20: 증명자료를 첨부하여야 한다.
A21: 3. 다른 공사현장의 배치기간이 완료되어 당해 감리용역의 배치기간과 중복되지 않는 경우에는 중복배치에서 제외하여 평가하며,
A22: 이 경우 해당 공사현장의 발주청장이 확인한 "완료 철수예정 확인서"를 제출하여야 한다.
A23: 4. 용역금액 및 용역기간은 전체분, 계획공정기간은 감리원 배치계획상의 공정기간, 근무형태는 상주 또는 비상주로 구분하여
A24: 표기한다.
A25: 5. 증빙서류에 표기되는 모든 기간은 반드시 년,월,일로 표시하여야 하며, 일(day) 표시가 없는 경우에는 당해 월의 마지막일(day)
A26: 로 간주한다.
A27: 6. 해당사항이 없는 경우에는 "해당없음"을 표기한다.

Sheet 3. 대영유비텍(주)
A1: 업무중첩도
A3: 참여감리원 | D3: 용역명 | E3: 발주처 | F3: 용역금액 | G3: 용역기간 | I3: 근무형태 | J3: 평가점수
A4: 구 분 | B4: 성 명 | C4: 생년월일 | G4: 착수일 | H4: 종료일
A5: 책임감리원 | B5: =[8]제5호!C5 -> 최 병 구 | C5: =[8]제5호!D5 -> 26460 | D5: "해당없음" | K5: =4-SUM(J5) -> 4
A6: 보조감리원 | B6: =[8]제5호!C6 -> 고 병 관 | C6: =[8]제5호!D6 -> 20894 | D6: "해당없음" | K6: =2-SUM(J6:J9) -> 2
B7: =[8]제5호!C7 -> 유 영 헌 | C7: =[8]제5호!D7 -> 21427 | D7: "해당없음"
B8: =[8]제5호!C8 -> 정 규 성 | C8: =[8]제5호!D8 -> 20649 | D8: "해당없음"
B9: =[8]제5호!C9 -> 한 상 호 | C9: =[8]제5호!D9 -> 20901 | D9: "해당없음"
A10: 비상주감리원 | B10: =[8]제5호!C10 -> 김 형 태 | C10: =[8]제5호!D10 -> 20236 | D10: 광주도시철도 1호선 철도통합무선망(LTE-R) 구매설치 책임감리용역 | E10: 광주교통공사 | F10: 993612000 | G10: 46001 | H10: 46730 | I10: 비상주 | K10: =4-SUM(J10) -> 4

Sheet 4. (주)케이씨에이
A1: 업무중첩도
A3: 참여감리원 | D3: 용역명 | E3: 발주처 | F3: 용역금액 | G3: 용역기간 | I3: 근무형태 | J3: 평가점수
A4: 구분 | B4: 성명 | C4: 생년월일 | G4: 착수일 | H4: 종료일
A5: 책 임 감리원 | B5: =[9]제5호!C5 -> 이용우 | C5: =[9]제5호!D5 -> 23701 | D5: 해당없음 | K5: 4
A7: 상주보조 감리원 | B7: =[9]제5호!C6 -> 강원구 | C7: =[9]제5호!D6 -> 21978 | D7: 해당없음 | K7: 2
B9: =[9]제5호!C7 -> 양용만 | C9: =[9]제5호!D7 -> 21829 | D9: 해당없음
B11: =[9]제5호!C8 -> 신창영 | C11: =[9]제5호!D8 -> 22268 | D11: 해당없음
B13: =[9]제5호!C9 -> 한용희 | C13: =[9]제5호!D9 -> 19721 | D13: 해당없음
A15: 비상주 감리원 | B15: =[9]제5호!C10 -> 김동하 | C15: =[9]제5호!D10 -> 24106 | D15: 해당없음 | K15: 4
A18: ※ 첨부서류 및 주의사항
A19: 1. 진행중인 사업용역수행실적확인서(관련수탁기관 발급)
A20: 2. 현재 참여중인 모든 감리용역에 대하여 기재하며 관련 수탁기관에서 발급한 감리용역 수행실적 확인서의 진행중인 사업의 오류,
A21: 누락사항 및 미등록사항에 대하여 수정 또는 추가하여 작성하여야 하며, 비고란에는 수정 또는 추가사유를 기재하고 필요시
A22: 증명자료를 첨부하여야 한다.
A23: 3. 다른 공사현장의 배치기간이 완료되어 당해 감리용역의 배치기간과 중복되지 않는 경우에는 중복배치에서 제외하여 평가하며,
A24: 이 경우 해당 공사현장의 발주청장이 확인한 "완료 철수예정 확인서"를 제출하여야 한다.
A25: 4. 용역금액 및 용역기간은 전체분, 계획공정기간은 감리원 배치계획상의 공정기간, 근무형태는 상주 또는 비상주로 구분하여
A26: 표기한다.
A27: 5. 증빙서류에 표기되는 모든 기간은 반드시 년,월,일로 표시하여야 하며, 일(day) 표시가 없는 경우에는 당해 월의 마지막일(day)
A28: 로 간주한다.
A29: 6. 해당사항이 없는 경우에는 "해당없음"을 표기한다.

Sheet 5. 문엔지니어링(주)
A1: 업무중첩도
A3: 참여감리원 | D3: 용역명 | E3: 발주처 | F3: 용역금액 | G3: 용역기간 | I3: 근무형태 | J3: 평가점수
A4: 구분 | B4: 성명 | C4: 생년월일 | G4: 착수일 | H4: 종료일
A5: 책 임 감리원 | B5: =[10]감리원현황!C5 -> 이택수 | C5: =[10]감리원현황!D5 -> 25588 | D5: "해당없음" | J5: 4 | K5: 10
A6: 상조보조 감리원 | B6: =[10]감리원현황!C6 -> 강호기 | C6: =[10]감리원현황!D6 -> 23605 | D6: "해당없음" | J6: 2
B7: =[10]감리원현황!C7 -> 김진기 | C7: =[10]감리원현황!D7 -> 21894 | D7: "해당없음"
B8: =[10]감리원현황!C8 -> 임형종 | C8: =[10]감리원현황!D8 -> 22137 | D8: "해당없음"
B9: =[10]감리원현황!C9 -> 주규철 | C9: =[10]감리원현황!D9 -> 21890 | D9: "해당없음"
A10: 비상주 감리원 | B10: =[10]감리원현황!C10 -> 은정기 | C10: =[10]감리원현황!D10 -> 22728 | D10: 강릉~제진 철도건설 외 1개 사업 통신설비 기본 및 실시설계 용역 | E10: 국가철도공단 | F10: 2071610000 | G10: 44740 | H10: 46583 | I10: 차수 미계약 | J10: 4
D11: 수도권광역급행철도 B노선(용산~상봉) 통신설비 기본 및 실시설계 용역 | E11: 국가철도공단 | F11: 1205427000 | G11: 45072 | H11: 46660 | I11: 참여기술자
D12: 남부내륙철도 합천~거제간 통신설비 기본 및 실시설계 용역 | E12: 국가철도공단 | F12: 1745709000 | G12: 45107 | H12: 46752 | I12: 참여기술자
D13: 장항선 천안~대천 철도통합무선망(LTE-R) 개량 기타공사 등 2건 감리용역 외 3건(1사1건) | E13: 국가철도공단 | F13: 2730519000 | G13: 착수일로부터 | H13: 37개월 | I13: 비상주 (입찰참여중)

Sheet 6. 대한엔지니어링(주)
A1: 업 무 중 첩 도
A3: 참여감리원 | D3: 용역명 | E3: 발주처 | F3: 용역금액 | G3: 용역기간 | I3: 근무 형태 | J3: 평가점수
A4: 구분 | B4: 성명 | C4: 생년월일 | G4: 착수일 | H4: 종료일
A5: 책 임 감리원 | B5: =[12]감리원현황!C5 -> 손성찬 | C5: =[12]감리원현황!D5 -> 20110 | D5: "해당없음" | J5: 0 | K5: 4
A6: 상주보조 감리원 | B6: =[12]감리원현황!C6 -> 임동열 | C6: =[12]감리원현황!D6 -> 20306 | D6: "해당없음" | J6: 0 | K6: 2
B7: =[12]감리원현황!C7 -> 이용기 | C7: =[12]감리원현황!D7 -> 20192 | D7: "해당없음" | J7: 0
B8: =[12]감리원현황!C8 -> 국태호 | C8: =[12]감리원현황!D8 -> 22703 | D8: "해당없음" | J8: 0
B9: =[12]감리원현황!C9 -> 신동석 | C9: =[12]감리원현황!D9 -> 20152 | D9: "해당없음" | J9: 0
A10: 비상주 감리원 | B10: =[12]감리원현황!C10 -> 이재연 | C10: =[12]감리원현황!D10 -> 20213 | D10: 수인분당선 수원역 등 87개역 역무자동화설비 개량 제조설치 감리용역 | E10: 국가철도공단 | F10: 955325000 | G10: 46087 | H10: 46477 | I10: 비상주감리원 | J10: 0 | K10: 4
D11: 태백선 제천~백산 통신선로 개량공사 감리용역 | E11: 국가철도공단 | F11: 2659331000 | G11: 46266 | H11: 46966 | I11: 비상주감리원 | J11: 0
D12: 호남고속철도 2단계(고막원~목포) 통신설비 신설 기타공사 감리용역 | E12: 국가철도공단 | F12: 본 용역 입찰 참여 | I12: 비상주감리원 | J12: 0
A14: ※ 첨부서류 및 주의사항
A15: 1. 진행중인 사업용역수행실적확인서(관련수탁기관 발급)
A16: 2. 현재 참여중인 모든 감리용역에 대하여 기재하며 관련 수탁기관에서 발급한 감리용역 수행실적 확인서의 진행중인 사업의 오류,
A17: 누락사항 및 미등록사항에 대하여 수정 또는 추가하여 작성하여야 하며, 비고란에는 수정 또는 추가사유를 기재하고 필요시
A18: 증명자료를 첨부하여야 한다.
A19: 3. 다른 공사현장의 배치기간이 완료되어 당해 감리용역의 배치기간과 중복되지 않는 경우에는 중복배치에서 제외하여 평가하며,
A20: 이 경우 해당 공사현장의 발주청장이 확인한 "완료 철수예정 확인서"를 제출하여야 한다.
A21: 4. 용역금액 및 용역기간은 전체분, 계획공정기간은 감리원 배치계획상의 공정기간, 근무형태는 상주 또는 비상주로 구분하여
A22: 표기한다.
A23: 5. 증빙서류에 표기되는 모든 기간은 반드시 년,월,일로 표시하여야 하며, 일(day) 표시가 없는 경우에는 당해 월의 마지막일(day)
A24: 로 간주한다.
A25: 6. 해당사항이 없는 경우에는 "해당없음"을 표기한다.

Sheet 7. (주)효원엔지니어링
A1: 업무중첩도
A3: 참여감리원 | D3: 용역명 | E3: 발주처 | F3: 용역금액 | G3: 용역기간 | I3: 근무형태 | J3: 평가점수
A4: 구분 | B4: 성명 | C4: 생년월일 | G4: 착수일 | H4: 종료일
A5: 책 임 감리원 | B5: =[13]참여감리원현황!C5 -> 권영관 | C5: =[13]참여감리원현황!D5 -> 19731 | D5: 울산TG 하이패스차로 정보통신시설 복구공사 감리용역 * 감리원 철수예정확인서 첨부 | E5: 한국도로공사 울산지사 | F5: 9961000 | G5: 46258 | H5: 46317 | I5: 비상주 | J5: - | K5: 4
A6: 상주보조 감리원 | B6: =[13]참여감리원현황!C6 -> 김봉진 | C6: =[13]참여감리원현황!D6 -> 20692 | D6: "해당없음" | J6: - | K6: 2
B7: =[13]참여감리원현황!C7 -> 박동화 | C7: =[13]참여감리원현황!D7 -> 20644 | D7: "해당없음" | J7: -
B8: =[13]참여감리원현황!C8 -> 김영수 | C8: =[13]참여감리원현황!D8 -> 18459 | D8: "해당없음" | J8: -
B9: =[13]참여감리원현황!C9 -> 조백동 | C9: =[13]참여감리원현황!D9 -> 20245 | D9: "해당없음" | J9: -
A10: 비상주 감리원 | B10: =[13]참여감리원현황!C10 -> 이재훈 | C10: =[13]참여감리원현황!D10 -> 20250 | D10: 일산선 개량 외 3개사업 철도통합무선망(LTE-R) 구매설치 감리용역 * 차수 미계약 | E10: 국가철도 공단 | F10: 2450856000 | G10: 44176 | H10: 46387 | I10: 비상주 | J10: - | K10: 4
D11: 경강선 개량 외 5개사업 철도통합무선망(LTE-R) 구매설치 등 2건 감리용역 | E11: 국가철도공단 | F11: 2872684000 | G11: 낙찰 | I11: 비상주 | J11: -
D12: 호남고속철도 2단계(고막원~목포) 통신설비 신설 기타공사 감리용역 | E12: 국가철도공단 | F12: 4298104800 | G12: 입찰참여중 | I12: 비상주 | J12: -
A14: ※ 첨부서류 및 주의사항
A15: 1. 진행중인 사업용역수행실적확인서(관련수탁기관 발급)
A16: 2. 현재 참여중인 모든 감리용역에 대하여 기재하며 관련 수탁기관에서 발급한 감리용역 수행실적 확인서의 진행중인 사업의 오류,
A17: 누락사항 및 미등록사항에 대하여 수정 또는 추가하여 작성하여야 하며, 비고란에는 수정 또는 추가사유를 기재하고 필요시
A18: 증명자료를 첨부하여야 한다.
A19: 3. 다른 공사현장의 배치기간이 완료되어 당해 감리용역의 배치기간과 중복되지 않는 경우에는 중복배치에서 제외하여 평가하며,
A20: 이 경우 해당 공사현장의 발주청장이 확인한 "완료 철수예정 확인서"를 제출하여야 한다.
A21: 4. 용역금액 및 용역기간은 전체분, 계획공정기간은 감리원 배치계획상의 공정기간, 근무형태는 상주 또는 비상주로 구분하여
A22: 표기한다.
A23: 5. 증빙서류에 표기되는 모든 기간은 반드시 년,월,일로 표시하여야 하며, 일(day) 표시가 없는 경우에는 당해 월의 마지막일(day)
A24: 로 간주한다.
A25: 6. 해당사항이 없는 경우에는 "해당없음"을 표기한다.

Sheet 8. (주)예향엔지니어링
A1: 업무중첩도
K2: (단위 : 원)
A3: 참여감리원 | D3: 용역명 | E3: 발주처 | F3: 용역금액 | G3: 용역기간 | I3: 근무형태 | J3: 평가점수
A4: 구분 | B4: 성명 | C4: 생년월일 | G4: 착수일 | H4: 종료일
A5: 책임 감리원 | B5: =[15]제5호!$C5 -> 이홍로 | C5: =[15]제5호!$D5 -> 21469 | D5: "해당없음" | J5: 6 | K5: 6
A6: 보조 감리원 | B6: =[15]제5호!$C6 -> 남경우 | C6: =[15]제5호!$D6 -> 21470 | D6: "해당없음" | J6: 4 | K6: 4
B7: =[15]제5호!$C7 -> 김인철 | C7: =[15]제5호!$D7 -> 22329 | D7: "해당없음"
B8: =[15]제5호!$C8 -> 이찬희 | C8: =[15]제5호!$D8 -> 22513 | D8: "해당없음"
B9: =[15]제5호!$C9 -> 유병철 | C9: =[15]제5호!$D9 -> 22356 | D9: "해당없음"
A10: 비상주 감리원 | B10: =[15]제5호!$C10 -> 임석범 | C10: =[15]제5호!$D10 -> 25660 | D10: 호남고속철도 2단계(고막원~목포) 통신설비 신설 기타공사 감리용역 | E10: 국가철도공단 | F10: 4298104800 | G10: 착수일로부터 36개월 | I10: 비상주 (입찰참여중)
A12: ※ 첨부서류 및 주의사항
A13: 1. 진행중인 사업용역수행실적확인서(관련수탁기관 발급)
A14: 2. 현재 참여중인 모든 감리용역에 대하여 기재하며 관련 수탁기관에서 발급한 감리용역 수행실적 확인서의 진행중인 사업의 오류,
A15: 누락사항 및 미등록사항에 대하여 수정 또는 추가하여 작성하여야 하며, 비고란에는 수정 또는 추가사유를 기재하고 필요시
A16: 증명자료를 첨부하여야 한다.
A17: 3. 다른 공사현장의 배치기간이 완료되어 당해 감리용역의 배치기간과 중복되지 않는 경우에는 중복배치에서 제외하여 평가하며,
A18: 이 경우 해당 공사현장의 발주청장이 확인한 "완료 철수예정 확인서"를 제출하여야 한다.
A19: 4. 용역금액 및 용역기간은 전체분, 계획공정기간은 감리원 배치계획상의 공정기간, 근무형태는 상주 또는 비상주로 구분하여
A20: 표기한다.
A21: 5. 증빙서류에 표기되는 모든 기간은 반드시 년,월,일로 표시하여야 하며, 일(day) 표시가 없는 경우에는 당해 월의 마지막일(day)
A22: 로 간주한다.
A23: 6. 해당사항이 없는 경우에는 "해당없음"을 표기한다.

Sheet 9. (주)자람앤수엔지니어링
A1: 업무중첩도
A3: 참여감리원 | D3: 용역명 | E3: 발주처 | F3: 용역금액 | G3: 용역기간 | I3: 근무형태 | J3: 평가점수
A4: 구분 | B4: 성명 | C4: 생년월일 | G4: 착수일 | H4: 종료일
A5: 책 임 감리원 | B5: 염동빈 | C5: 23313 | D5: 해당사항없음 | J5: 4 | K5: 4
A6: 상주보조 감리원 | B6: 서일원 | C6: 21957 | D6: 해당사항없음 | J6: 2 | K6: 2
B7: 오상설 | C7: 20751 | D7: 해당사항없음
B8: 정형식 | C8: 21920 | D8: 해당사항없음
B9: 김동선 | C9: 23556 | D9: 해당사항없음
A10: 비상주 감리원 | B10: 김완용 | C10: 20010 | D10: 일반철도전송망(충청,영남,호남)광중화장치(MPLS-TP)실시설계용역 | E10: 국가철도공단 | F10: 1282000000 | G10: 26.09.09 | H10: 27.06.30 | I10: 비상주 | J10: 4 | K10: 4
D11: 광명시흥 도시첨단산업단지 스마트도시 정보통신공사 감리용역 | E11: 경기주택도시공사 | F11: 234392700 | G11: 26.06.12 | H11: 28.01.31 | I11: 비상주
D12: 웅진군덕적도지하수저류댐설치공사건설사업관리용역 | E12: 한국수자원공사 | F12: 439890000 | G12: 24.11.25 | H12: 26.09.29 | I12: 비상주
D13: 국지도 23호선 소음저감시설(방음터널)방재시설 정보통신공사 감리용역 | E13: 한국토지주택공사 | F13: 623447000 | G13: 입찰참여 | I13: 비상주
D14: 호남고속철도 2단계(고막원~목포) 통신설비 신설 기타공사 감리용역 | E14: 국가철도공단 | F14: 4298104800 | G14: 입찰참여 | I14: 비상주
A16: ※ 첨부서류 및 주의사항
A17: 1. 진행중인 사업용역수행실적확인서(관련수탁기관 발급)
A18: 2. 현재 참여중인 모든 감리용역에 대하여 기재하며 관련 수탁기관에서 발급한 감리용역 수행실적 확인서의 진행중인 사업의 오류,
A19: 누락사항 및 미등록사항에 대하여 수정 또는 추가하여 작성하여야 하며, 비고란에는 수정 또는 추가사유를 기재하고 필요시
A20: 증명자료를 첨부하여야 한다.
A21: 3. 다른 공사현장의 배치기간이 완료되어 당해 감리용역의 배치기간과 중복되지 않는 경우에는 중복배치에서 제외하여 평가하며,
A22: 이 경우 해당 공사현장의 발주청장이 확인한 "완료 철수예정 확인서"를 제출하여야 한다.
A23: 4. 용역금액 및 용역기간은 전체분, 계획공정기간은 감리원 배치계획상의 공정기간, 근무형태는 상주 또는 비상주로 구분하여
A24: 표기한다.
A25: 5. 증빙서류에 표기되는 모든 기간은 반드시 년,월,일로 표시하여야 하며, 일(day) 표시가 없는 경우에는 당해 월의 마지막일(day)
A26: 로 간주한다.
A27: 6. 해당사항이 없는 경우에는 "해당없음"을 표기한다.

Sheet 10. (주)세영
A1: 업 무 중 첩 도
A3: 참여감리원 | D3: 용역명 | E3: 발주처 | F3: 용역금액 | G3: 용역기간 | I3: 근무 형태 | J3: 평가점수
A4: 구분 | B4: 성명 | C4: 생년월일 | G4: 착수일 | H4: 종료일
A5: 책 임 감리원 | B5: =[16]감리원현황!C5 -> 박홍찬 | C5: =[16]감리원현황!D5 -> 1961.10.17 | D5: "해당없음" | J5: 0 | K5: 4
A6: 상주보조 감리원 | B6: =[16]감리원현황!C6 -> 김진규 | C6: =[16]감리원현황!D6 -> 1954.10.01 | D6: "해당없음" | J6: 0 | K6: 2
A7: 상주보조 감리원 | B7: =[16]감리원현황!C7 -> 김홍기 | C7: =[16]감리원현황!D7 -> 1961.08.06 | D7: "해당없음" | J7: 0
A8: 상주보조 감리원 | B8: =[16]감리원현황!C8 -> 고동오 | C8: =[16]감리원현황!D8 -> 1956.07.28 | D8: "해당없음"
A9: 상주보조 감리원 | B9: =[16]감리원현황!C9 -> 한군희 | C9: =[16]감리원현황!D9 -> 1954.12.02 | D9: "해당없음" | J9: 0
A10: 비상주 감리원 | B10: =[16]감리원현황!C10 -> 오대종 | C10: =[16]감리원현황!D10 -> 1958.10.02 | D10: 수도권광역급행철도 A노선 민간투자사업 통신설비 신설공사 감리용역(제5차) | E10: 국가철도공단 | F10: 241040000 | G10: 46080 | H10: 46387 | I10: 비상주 | J10: 0 | K10: 4
D11: 철도IT센터 신축 통신공사 책임감리 용역 2차 | E11: 한국철도공사 | F11: 234858978 | G11: 46023 | H11: 46387 | I11: 비상주
D12: 경부선 천안역 증축에 따른 통신설비 개량공사 외 6건 감리용역(제1차) | E12: 국가철도공단 | F12: 278894000 | G12: 46041 | H12: 46387 | I12: 비상주
D13: 고속철도 통신설비 개량공사 책임감리 용역 | E13: 한국철도공사 | F13: 348631000 | G13: 46314 | H13: 46433 | I13: 비상주
D14: 호남고속철도 2단계(고막원~목포) 통신설비 신설 기타공사 감리용역 | E14: 국가철도공단 | F14: PQ 참여중
A17: ※ 첨부서류 및 주의사항
A18: 1. 진행중인 사업용역수행실적확인서(관련수탁기관 발급)
A19: 2. 현재 참여중인 모든 감리용역에 대하여 기재하며 관련 수탁기관에서 발급한 감리용역 수행실적 확인서의 진행중인 사업의 오류,
A20: 누락사항 및 미등록사항에 대하여 수정 또는 추가하여 작성하여야 하며, 비고란에는 수정 또는 추가사유를 기재하고 필요시
A21: 증명자료를 첨부하여야 한다.
A22: 3. 다른 공사현장의 배치기간이 완료되어 당해 감리용역의 배치기간과 중복되지 않는 경우에는 중복배치에서 제외하여 평가하며,
A23: 이 경우 해당 공사현장의 발주청장이 확인한 "완료 철수예정 확인서"를 제출하여야 한다.
A24: 4. 용역금액 및 용역기간은 전체분, 계획공정기간은 감리원 배치계획상의 공정기간, 근무형태는 상주 또는 비상주로 구분하여
A25: 표기한다.
A26: 5. 증빙서류에 표기되는 모든 기간은 반드시 년,월,일로 표시하여야 하며, 일(day) 표시가 없는 경우에는 당해 월의 마지막일(day)
A27: 로 간주한다.
A28: 6. 해당사항이 없는 경우에는 "해당없음"을 표기한다.
