Workbook
Name 기준: 신용도!$P$38
Name 회사채: 신용도!$C$21:$C$39

Sheet 작성요령
A2: 사업수행능력평가표 작성 요령
A4: 1. 점수입력시 색으로 표시된 부분에 입력하도록 하고, 산식으로 계산된 부분은 입력하지 않습니다.
A5: 2. 각 실적 입력 시트에 | D5: 색으로 표시된 셀은 집계표의 참조셀이므로 삭제하면 안됩니다.
A6: 3. 각 업체별 유사용역 제외금액란에는 공고시 유사용역 범위 외에 해당하는 용역금액을 기입합니다.
A7: 4. 만약 평가지침과 본 평가표 양식의 차이가 발생할 시에는 평가지침의 내용을 따릅니다. (본 평가표 양식은 편의를 위해 제공되는 샘플이며, 발주되는 건설엔지니어링 특성에 따라 차이가 발생할 수 있습니다.)
A8: 5. '배점'시트는 평가점수산정시 필요한 기준들을 기입한 시트로 참고만 합니다. 단, 기술제안서(기술자평가서) 평가 및 QBS 미평가시 사업책임기술자의 관련 항목 배점은 조정합니다.
A9: 6. 평가부서에서는 업체에서 제출한 작성표를 근거로 관련 증빙자료 검증 후 점수를 조정할 수 있습니다.
A10: 7. 수식오류, 양식 임의변경 및 발주되는 건설엔지니어링 특성에 따라 발생될 수 있는 본 평가표 양식(엑셀)오류에 대하여는 공사에서 책임지지 않으니, 평가지침·지침안내서 등 공고내용 확인 후 제출바랍니다.
A11: 8. 본 엑셀양식은 가로인쇄로 작성되어 있으며 인쇄후 평가서 제본시에는 접지않고 세로로 편철하여 제출하시기 바랍니다.
A12: 9. 추가로 증빙자료의 설명이 필요할시에는 임의양식으로 작성, 제출하시기 바랍니다.
A13: 10. 엑셀서식오류 등 작성양식과 관련된 문의 사항은 건설관리처 (055-922-5242)로 문의 바랍니다.

Sheet 참여업체
B2: 00단지 조성공사(1-1, 1-2공구) 연약지반 침하안정관리용역
B4: 사업수행능력평가 참가업체
B6: 업체명 | C6: A엔지니어링 | D6: B엔지니어링 | F6: 비고
B7: 지분율 | C7: 0.9 | D7: 0.1
A8: 주) | B8: ]

Sheet 배점기준
A1: 단지분야 연약지반 침하안정관리용역 배점기준 | E1: 연약지반 침하안정관리용역 사업수행능력평가 지침 제11차개정안 | H1: 입찰공고일 | I1: 45955
A2: 항 목 | B2: 구분 | C2: 해당분야 | D2: 비율 | E2: 평가대상 인원수 | F2: 발주금액(금액기입)
A3: 분야별 책임기술인 | B3: 분야1 | C3: 토질지질 | D3: 1 | E3: =COUNTA(C3:C7)+1 -> 4 | F3: 발주금액 | G3: 562650
B5: 소계 | D5: =SUM(D3:D4) -> 1
A6: 분야별 참여기술인 | B6: 분야1 | C6: 토질지질 | D6: 0.5
B7: 분야2 | C7: 토질지질 | D7: 0.5
B8: 소계 | D8: =SUM(D6:D7) -> 1
A9: 항 목 | B9: 세부항목 | C9: 배점 | D9: 구분 | E9: 1순위 | F9: 2순위 | G9: 3순위 | H9: 4순위 | I9: 5순위
A10: 사업책임기술인 | B10: 1.등급 | C10: 5 | D10: 등급 | E10: 특급 | F10: 고급 | G10: 중급 | H10: 초급
D11: 점수 | E11: 5 | F11: 4 | G11: 3 | H11: 2
B12: 2.기술능력 | D12: 상대평가
B14: 3.업무관리능력 | D14: 상대평가
A16: 분야별 책임기술인 | B16: 1. 등급 | C16: 4 | D16: 등급 | E16: 특급 | F16: 고급 | G16: 중급 | H16: 초급
D17: 점수 | E17: 4 | F17: 3 | G17: 2 | H17: 1
D18: =C3 -> 토질지질 | E18: =E17*$D$3 -> 4 | F18: =F17*$D$3 -> 3 | G18: =G17*$D$3 -> 2 | H18: =H17*$D$3 -> 1
D19: =C4 -> 0 | E19: =E17*$D$4 -> 0 | F19: =F17*$D$4 -> 0 | G19: =G17*$D$4 -> 0 | H19: =H17*$D$4 -> 0
A20: 분야별 참여기술인 | B20: 1. 등급 | C20: 2 | D20: 등급 | E20: 특급 | F20: 고급 | G20: 중급 | H20: 초급
D21: 점수 | E21: =C20 -> 2 | F21: =C20 -> 2 | G21: =C20*0.8 -> 1.6 | H21: 1
D22: =C6 -> 토질지질 | E22: =E21*$D$6 -> 1 | F22: =F21*$D$6 -> 1 | G22: =G21*$D$6 -> 0.8 | H22: =H21*$D$6 -> 0.5
D23: =C7 -> 토질지질 | E23: =E21*$D$7 -> 1 | F23: =F21*$D$7 -> 1 | G23: =G21*$D$7 -> 0.8 | H23: =H21*$D$7 -> 0.5
A24: 사업책임기술인 | B24: 4. 경력 | C24: 7 | D24: 경력 | E24: 15 | F24: 12 | G24: 10 | H24: 8 | I24: 8
D25: 점수 | E25: =C24 -> 7 | F25: =C24*0.9 -> 6.3 | G25: =C24*0.8 -> 5.6 | H25: =C24*0.7 -> 4.9 | I25: =C24*0.6 -> 4.2
B26: 5. 실적 | C26: 12 | D26: 실적 | E26: 9 | F26: 8 | G26: 6 | H26: 4 | I26: 4 | J26: 0건
D27: 점수 | E27: =C26 -> 12 | F27: =C26*0.9 -> 10.8 | G27: =C26*0.8 -> 9.6 | H27: =C26*0.7 -> 8.4 | I27: =C26*0.6 -> 7.2 | J27: 0
A30: 분야별 책임기술인 | B30: 2. 경력 | C30: 6 | D30: 경력 | E30: 13 | F30: 11 | G30: 9 | H30: 7 | I30: 7
D31: 점수 | E31: =C30 -> 6 | F31: =$C$30*0.9 -> 5.4 | G31: =$C$30*0.8 -> 4.8 | H31: =$C$30*0.7 -> 4.2 | I31: =$C$30*0.6 -> 3.6
D32: =D18 -> 토질지질 | E32: =E31*$D$3 -> 6 | F32: =F31*$D$3 -> 5.4 | G32: =G31*$D$3 -> 4.8 | H32: =H31*$D$3 -> 4.2 | I32: =I31*$D$3 -> 3.6
D33: =D19 -> 0 | E33: =E31*$D$4 -> 0 | F33: =F31*$D$4 -> 0 | G33: =G31*$D$4 -> 0 | H33: =H31*$D$4 -> 0 | I33: =I31*$D$4 -> 0
B34: 3.실적 | C34: 7 | D34: 실적 | E34: 7 | F34: 6 | G34: 4 | H34: 3 | I34: 3 | J34: 0건
D35: 점수 | E35: =C34 -> 7 | F35: =$C$34*0.9 -> 6.3 | G35: =$C$34*0.8 -> 5.6 | H35: =$C$34*0.7 -> 4.9 | I35: =$C$34*0.6 -> 4.2 | J35: 0
D36: =D18 -> 토질지질 | E36: =E35*$D$3 -> 7 | F36: =F35*$D$3 -> 6.3 | G36: =G35*$D$3 -> 5.6 | H36: =H35*$D$3 -> 4.9 | I36: =I35*$D$3 -> 4.2 | J36: =J35*$D$3 -> 0
D37: =D19 -> 0 | E37: =E35*$D$4 -> 0 | F37: =F35*$D$4 -> 0 | G37: =G35*$D$4 -> 0 | H37: =H35*$D$4 -> 0 | I37: =I35*$D$4 -> 0 | J37: =J35*$D$4 -> 0
A38: 분야별 참여기술인 | B38: 2. 경력 | C38: 3 | D38: 경력 | E38: 10 | F38: 8 | G38: 6 | H38: 4 | I38: 4
D39: 점수 | E39: =C38 -> 3 | F39: =$C$38*0.9 -> 2.7 | G39: =$C$38*0.8 -> 2.4 | H39: =$C$38*0.7 -> 2.1 | I39: =$C$38*0.6 -> 1.8
D40: =D22 -> 토질지질 | E40: =E39*$D$6 -> 1.5 | F40: =F39*$D$6 -> 1.35 | G40: =G39*$D$6 -> 1.2 | H40: =H39*$D$6 -> 1.05 | I40: =I39*$D$6 -> 0.9
D41: =D23 -> 토질지질 | E41: =E39*$D$7 -> 1.5 | F41: =F39*$D$7 -> 1.35 | G41: =G39*$D$7 -> 1.2 | H41: =H39*$D$7 -> 1.05 | I41: =I39*$D$7 -> 0.9
B42: 3.실적 | C42: 3 | D42: 실적 | E42: 5 | F42: 4 | G42: 3 | H42: 2 | I42: 2 | J42: 0건
D43: 점수 | E43: =C42 -> 3 | F43: =$C$42*0.9 -> 2.7 | G43: =$C$42*0.8 -> 2.4 | H43: =$C$42*0.7 -> 2.1 | I43: =$C$42*0.6 -> 1.8 | J43: 0
D44: =D22 -> 토질지질 | E44: =E43*$D$6 -> 1.5 | F44: =F43*$D$6 -> 1.35 | G44: =G43*$D$6 -> 1.2 | H44: =H43*$D$6 -> 1.05 | I44: =I43*$D$6 -> 0.9 | J44: =J43*$D$6 -> 0
D45: =D23 -> 토질지질 | E45: =E43*$D$7 -> 1.5 | F45: =F43*$D$7 -> 1.35 | G45: =G43*$D$7 -> 1.2 | H45: =H43*$D$7 -> 1.05 | I45: =I43*$D$7 -> 0.9 | J45: =J43*$D$7 -> 0
A46: 참여기술인 | B46: 교육훈련 | C46: 1 | D46: 기간 | E46: 2주이상 | F46: 1주이상
D47: 점수 | E47: 1 | F47: 0.5
A48: 유사용역(회사) | B48: 1. 건수 | C48: 8 | D48: 건수 | E48: 10 | F48: 8 | G48: 6 | H48: 4 | I48: 4
D49: 점수 | E49: =$C$48*1 -> 8 | F49: =$C$48*0.9 -> 7.2 | G49: =$C$48*0.8 -> 6.4 | H49: =$C$48*0.7 -> 5.6 | I49: =$C$48*0.6 -> 4.8
D50: 건별산정기준 | E50: 1 | F50: 10 | G50: 20
E51: 0.7 | F51: 1 | G51: 1.3
B52: 2. 금액 | C52: 7 | D52: 2.5 | E52: 2 | F52: 1.5 | G52: 1 | H52: 0.5 | I52: 0.5
D53: =$C$52 -> 7 | E53: =$C$52*0.9 -> 6.3 | F53: =$C$52*0.8 -> 5.6 | G53: =$C$52*0.7 -> 4.9 | H53: =$C$52*0.6 -> 4.2 | I53: =$C$52*0.5 -> 3.5
A56: 신용도 | B56: 입찰참가제한 | C56: 7 | D56: 개월 | E56: 1 | F56: 12 | G56: 최소점수 =0
D57: 감점 | E57: -0.2 | F57: =-0.2*12 -> -2.4
B58: 기술자격정지 또는 업무정지 | D58: 개월 | E58: 3 | F58: 12
D59: 감점 | E59: =-0.2*4 -> -0.8 | F59: -0.2
B60: 부실벌점 | D60: 기준 | E60: 1점이상 2점미만 | F60: 2점이상 5점미만 | G60: 5점이상 10점미만 | H60: 10점이상 15점미만 | I60: 15점이상 20점미만 | J60: 20점 이상
D61: 점수 | E61: 0.2 | F61: 0.5 | G61: 1 | H61: 2 | I61: 3 | J61: 5
B62: 재정상태건실도 | C62: 3 | D62: 회사채 | E62: A-이상 | F62: A-미만BBB-이상 | G62: BBB-미만B-이상 | H62: CCC+ 이하 | I62: 미제출
D63: 기업어음 | E63: A2-이상 | F63: A2-미만A3-이상 | G63: A3-미만B-이상 | H63: C이하 | I63: 미제출
D64: 기업신용 | E64: A-이상 | F64: A-미만BBB-이상 | G64: BBB-미만B-이상 | H64: CCC+이하 | I64: 미제출
D65: 점수 | E65: =C62 -> 3 | F65: =$C$62*0.9 -> 2.7 | G65: =$C$62*0.8 -> 2.4 | H65: =$C$62*0.7 -> 2.1 | I65: 0
A66: 기술개발 및 투자실적 | B66: 개발실적 | C66: 2 | D66: 구분 | E66: 신기술 | F66: 특허 | G66: 실용신안
D67: 점수 | E67: 1 | F67: 0.6 | G67: 0.3
D68: 구분 | E68: 5년미만 | F68: 5~10년 | G68: 10~20년
D69: 특 허 | E69: 1 | F69: 0.8 | G69: 0.6
D70: 실용신안 | E70: 1 | F70: 0.8
B71: 투자실적 | C71: 10 | D71: 실적 | E71: 0.03 | F71: 0.025 | G71: 0.02 | H71: 0.015 | I71: 0.015
D72: 점수 | E72: =C71 -> 10 | F72: =$C$71*0.9 -> 9 | G72: =$C$71*0.8 -> 8 | H72: =$C$71*0.7 -> 7 | I72: =$C$71*0.6 -> 6
B73: 활용실적 | C73: 3 | D73: 구분 | E73: 신기술 | F73: 특허 | G73: 실용신안
D74: 점수 | E74: 1 | F74: 0.6 | G74: 0.3
D75: 구분 | E75: 5년미만 | F75: 5~10년 | G75: 10~20년
D76: 특 허 | E76: 1 | F76: 0.8 | G76: 0.6
D77: 실용신안 | E77: 1 | F77: 0.8
D78: 가중치 | E78: 1 | F78: 0.9 | G78: 0.8 | H78: 0.7 | I78: 0.6
D79: 활용건수(건) | E79: 5 | F79: 4 | G79: 3 | H79: 2 | I79: 1
D80: 활용금액(억원) | E80: 20 | F80: 18 | G80: 16 | H80: 14 | I80: 12
D81: * 활용실적에 따른 가중치는 활용건수, 활용금액 중 하나의 조건을 만족하면 인정
A82: 업무중첩도 | B82: 사업책임기술인 | C82: 3 | D82: 사업책임 | E82: =$C$82*1 -> 3
B83: 분야별책임기술인 | C83: 4 | D83: =C3 -> 토질지질 | E83: =$C$83*D3 -> 4
D84: =C4 -> 0 | E84: =$C$83*D4 -> 0
B85: 분야별참여기술인 | C85: 3 | D85: =C6 -> 토질지질 | E85: =$C$85*D6 -> 1.5
D86: =C7 -> 토질지질 | E86: =$C$85*D7 -> 1.5
A87: 가감점 | B87: 입찰불참 | D87: 1회 | E87: 2회이상
D88: -0.5 | E88: -1.0
B89: 건설기술인 신규고용률 | D89: 0.03 | E89: 0.02 | F89: 0.01
D90: 0.3 | E90: 0.2 | F90: 0.1
B91: 젊은기술인 참여 | D91: 0.05 | E91: 0.03 | F91: 0.01
D92: 0.2 | E92: 0.15 | F92: 0.1
A93: 총 계 | C93: =SUM(C10:C86) -> 100

Sheet 종합
A2: 종 합 평 가 표
A3: =참여업체!$B$2 -> 00단지 조성공사(1-1, 1-2공구) 연약지반 침하안정관리용역
A4: 평가항목 | D4: 세 부 사 항 | G4: 평가점수
B5: 분 야 별 | C5: 배점 | D5: 항 목 | F5: 배 점
A6: Ⅰ.참여 기술자 [50] | B6: 1. 등급 및 사업책임 기술인 능력QBS) | C6: =SUM(F6:F10) -> 11 | D6: 등급 | E6: 사책 | F6: =배점기준!C10 -> 5 | G6: =기술인!$E9 -> 5
E7: 분책 | F7: =배점기준!C16 -> 4 | G7: =기술인!E15 -> 4
E8: 참여 | F8: =배점기준!C20 -> 2 | G8: =기술인!G17 -> 2
D9: 기술능력 | F9: =배점기준!C12 -> 0 | G9: 정성평가
D10: 업무관리능력 | F10: =배점기준!C14 -> 0 | G10: 정성평가
B11: 2. 경력,실적, 교육훈련,전차용역 | C11: =SUM(F11:F17) -> 39 | D11: 경력 | E11: 사책 | F11: =배점기준!C24 -> 7 | G11: =기술인!$F25 -> 7
E12: 분책 | F12: =배점기준!C30 -> 6 | G12: =기술인!F28 -> 6
E13: 참여 | F13: =배점기준!C38 -> 3 | G13: =기술인!G33 -> 3
D14: 실적 | E14: 사책 | F14: =배점기준!C26 -> 12 | G14: =기술인!$F26 -> 12
E15: 분책 | F15: =배점기준!C34 -> 7 | G15: =기술인!F30 -> 7
E16: 참여 | F16: =배점기준!C42 -> 3 | G16: =기술인!G35 -> 3
D17: 교육훈련 | F17: =배점기준!C46 -> 1 | G17: =기술인!F41 -> 1
A18: Ⅱ.참여 업체 [40] | B18: 3. 유사용역 수행실적 | C18: 15 | D18: 최근 5년간 | E18: 건수 | F18: =배점기준!C48 -> 8 | G18: =유사용역!$H5 -> 8
E19: 금액 | F19: =배점기준!C52 -> 7 | G19: =유사용역!$H8 -> 7
B20: 4. 신용도 | C20: =SUM(배점기준!C56:C65) -> 10 | D20: 업무정지,부실벌점 | F20: =배점기준!C56 -> 7 | G20: =신용도!$L6 -> 7
D21: 신용평가등급 | F21: =SUM(배점기준!C62:C65) -> 3 | G21: =신용도!$K13 -> 2.73
B22: 5. 기술개발 및 투자 실적 | C22: =SUM(배점기준!C66:C81) -> 15 | D22: 개발실적 | F22: =배점기준!C66 -> 2 | G22: =기술투자!$O6 -> 2
D23: 투자실적 | F23: =배점기준!C71 -> 10 | G23: =기술투자!J13 -> 10
D24: 활용실적 | F24: =배점기준!C73 -> 3 | G24: =기술투자!J26 -> 3
A25: Ⅲ.업무중첩도[10] | C25: =SUM(배점기준!C82:C86) -> 10 | D25: 사책 | F25: =배점기준!C82 -> 3 | G25: =중첩도!D8 -> 3
D26: 분책 | F26: 4 | G26: =중첩도!E8 -> 4
D27: 분참 | F27: 3 | G27: =중첩도!F8 -> 3
A28: Ⅳ.가감점 | D28: 가감점 | G28: =가감점!G5 -> 0.5
A29: 계 | C29: =SUM(C6:C28) -> 100 | F29: =SUM(F6:F28) -> 100 | G29: =IF(ROUND(SUM(G6:G28),2)>100,100,ROUND(SUM(G6:G28),2)) -> 100

Sheet 기술인
A1: 4. 참여기술자 평가
B2: 4-1. 등급,경력,교육훈련
B3: ○ 등 급(13점[11점])
C5: 구 분 | D5: 항목 | E5: 등급
C6: 사업책임기술자 | D6: 성명 | E6: AAA
D7: 이적계수 | E7: 1
D8: 등급 | E8: 특급
D9: 점수 | E9: =IF(E8=배점기준!E10,배점기준!$E$11,IF(E8=배점기준!F10,배점기준!$F$11,IF(E8=배점기준!G10,배점기준!$G$11,IF(E8=배점기준!H10,배점기준!$H$11,0))))*E7 -> 5
D10: 기술능력
D11: 업무관리
C12: 분야별 책임기술자 | D12: 성명 | E12: BBB
D13: 이적계수 | E13: 1
D14: 등급 | E14: 특급
D15: 점수 | E15: =IF(E14="특급",배점기준!$E$18,IF(E14="고급",배점기준!$F$18,IF(E14="중급",배점기준!$G$18,IF(E14="초급",배점기준!$H$18,0))))*E13 -> 4
C16: 분야별 참여기술자 | D16: 성명 | E16: CCC | F16: DDD | G16: 평가
D17: 이적계수 | E17: 1 | F17: 1 | G17: =SUM(E19:F19) -> 2
D18: 등급 | E18: 고급 | F18: 고급
D19: 점수 | E19: =IF(E18="특급",배점기준!$E$22,IF(E18="고급",배점기준!$F$22,IF(E18="중급",배점기준!$G$22,IF(E18="초급",배점기준!$H$22,0))))*E17 -> 1 | F19: =IF(F18="특급",배점기준!E23,IF(F18="고급",배점기준!F23,IF(F18="중급",배점기준!G23,IF(F18="초급",배점기준!H23,0))))*F17 -> 1
B21: ○ 경력 및 실적(37점[39점])
C23: 구 분 | D23: 항목 | E23: 능력 | F23: 평가
C24: 사업책임기술자 | D24: 성명 | E24: =E6 -> AAA
D25: 경력 (년) | E25: =경력산출근거!I4 -> 19.988493 | F25: =IF(E25>=배점기준!$E$24,배점기준!$E$25,IF(E25>=배점기준!$F$24,배점기준!$F$25,IF(E25>=배점기준!$G$24,배점기준!$G$25,IF(E25>=배점기준!$H$24,배점기준!$H$25,IF(E25<배점기준!$I$24,배점기준!$I$25)))))*E7 -> 7
D26: 실적(건수) | E26: ='사책 AAA'!Q19 -> 11.667466 | F26: =IF(E26>=배점기준!$E$26,배점기준!$E$27,IF(E26>=배점기준!$F$26,배점기준!$F$27,IF(E26>=배점기준!$G$26,배점기준!$G$27,IF(E26>=배점기준!$H$26,배점기준!$H$27,IF(0<E26<배점기준!$I$26,배점기준!$I$27,0)))))*E7 -> 12
C27: 분야별 책임기술자 | D27: 성명 | E27: =E12 -> BBB | F27: 평가
D28: 경력 (년) | E28: =경력산출근거!I6 -> 16.331507 | F28: =SUM(E29:F29) -> 6
D29: 점수 | E29: =IF(E28>=[1]배점기준!$E$30,[1]배점기준!$E$32,IF(E28>=[1]배점기준!$F$30,[1]배점기준!$F$32,IF(E28>=[1]배점기준!$G$30,[1]배점기준!$G$32,IF(E28>=[1]배점기준!$H$30,[1]배점기준!$H$32,IF(E28<[1]배점기준!$I$30,[1]배점기준!$I$32)))))*E13 -> 6
D30: 실적 | E30: ='분책 BBB'!Q21 -> 10.437671 | F30: =SUM(E31:F31) -> 7
D31: 점수 | E31: =IF(E30>=배점기준!$E$34,배점기준!$E$36,IF(E30>=배점기준!$F$34,배점기준!$F$36,IF(E30>=배점기준!$G$34,배점기준!$G$36,IF(E30>=배점기준!$H$34,배점기준!$H$36,IF(0<E30<배점기준!$I$34,배점기준!$I$36,0)))))*E13 -> 7
C32: 분야별 참여기술자 | D32: 성명 | E32: =E16 -> CCC | F32: =F16 -> DDD | G32: 평가
D33: 경력 | E33: =경력산출근거!I8 -> 18.846575 | F33: =경력산출근거!I10 -> 10.578082 | G33: =SUM(E34:F34) -> 3
D34: 점수 | E34: =IF(E33>=배점기준!$E$38,배점기준!$E$40,IF(E33>=배점기준!$F$38,배점기준!$F$40,IF(E33>=배점기준!$G$38,배점기준!$G$40,IF(E33>=배점기준!$H$38,배점기준!$H$40,배점기준!$I$40))))*E17 -> 1.5 | F34: =IF(F33>=배점기준!$E$38,배점기준!$E$41,IF(F33>=배점기준!$F$38,배점기준!$F$41,IF(F33>=배점기준!$G$38,배점기준!$G$41,IF(F33>=배점기준!$H$38,배점기준!$H$41,배점기준!$I$41))))*F17 -> 1.5
D35: 실적 | E35: ='참여1 CCC'!Q17 -> 9.0046873 | F35: ='참여2 DDD'!Q19 -> 5.6136041 | G35: =SUM(E36:F36) -> 3
D36: 점수 | E36: =IF(E35>=[1]배점기준!$E$42,[1]배점기준!$E$44,IF(E35>=[1]배점기준!$F$42,[1]배점기준!$F$44,IF(E35>=[1]배점기준!$G$42,[1]배점기준!$G$44,IF(E35>=[1]배점기준!$H$42,[1]배점기준!$H$44,IF([1]배점기준!$I$42>E35>0,[1]배점기준!$I$44,0)))))*E17 -> 1.5 | F36: =IF(F35>=배점기준!$E$42,배점기준!$E$45,IF(F35>=배점기준!$F$42,배점기준!$F$45,IF(F35>=배점기준!$G$42,배점기준!$G$45,IF(F35>=배점기준!$H$42,배점기준!$H$45,IF(0<F35<배점기준!$I$42,배점기준!$I$45,0)))))*F17 -> 1.5
B38: ○ 교육훈련(1점)
C40: 교육훈련(1점) | D40: 2주이상 | E40: 1주이상 | F40: 평가
D41: 4 | F41: =(D41/배점기준!$E$3+E41/배점기준!$E$3*0.5) -> 1

Sheet 경력산출근거
A1: ○ 참여기술인 경력산출근거
I2: 2025-12-30 현재
A3: 참여분야 | B3: 성 명 | C3: 기준 | D3: 토목 총 경력일수 | E3: 계측용역경력 일수(100%) | F3: 토질및기초 경력일수(100%) | G3: 그외 경력 일수 (30 %) | H3: 인정경력 일수 | I3: 경력년수 | J3: 비고
A4: 사업책임기술자 | B4: AAA | C4: 계측 100% | D4: 8126 | E4: 6940 | G4: =D4-E4 -> 1186 | H4: =E4+G5 -> 7295.8 | I4: =H4/365 -> 19.988493
C5: 그외토목 30% | G5: =G4*0.3 -> 355.8
A6: 분석및전산처리 분야책임기술자 | B6: BBB | C6: 토질기초100% 그외 30% | D6: 6033 | F6: 5931 | G6: =D6-F6 -> 102 | H6: =F6+G7 -> 5961 | I6: =H6/365 -> 16.331507
G7: =TRUNC(G6*0.3) -> 30
A8: 전산처리담당 참여기술자 | B8: CCC | C8: " | D8: 6879 | F8: 6867 | G8: =D8-F8 -> 12 | H8: =F8+G8 -> 6879 | I8: =H8/365 -> 18.846575
G9: =TRUNC(G8*0.3) -> 3
A10: 측량및계측담당 참여기술자 | B10: DDD | C10: " | D10: 3865 | F10: 3860 | G10: =D10-F10 -> 5 | H10: =F10+G11 -> 3861 | I10: =H10/365 -> 10.578082
G11: =TRUNC(G10*0.3) -> 1

Sheet 교육훈련
B1: ○ 참여기술인 교육훈련 총괄표
B3: 참여분야 | C3: 성 명 | D3: 교육과정명 | E3: 교육기간 | F3: 교육기관 | G3: 평점
B4: 2주이상교육자 ( 4 )인
B5: 사업책임기술인 | C5: AAA | D5: 특급전문교육과정 | E5: 2023.10.14 - 2023.10.18 | F5: 건설기술교육원
B6: 사업책임기술인 | C6: AAA | D6: 도로 및 암사면 | E6: 2023.05.09 - 2023.07.19 | F6: 건설기술교육원
B7: 분야별책임기술인 | C7: BBB | D7: 특급전문교육과정 | E7: 2024.10.27 - 2024.10.31 | F7: 건설기술교육원
B8: 분야별책임기술인 | C8: BBB | D8: 고급전문교육과정 | E8: 2024.02.10 - 2024.02.14 | F8: 건설기술교육원
B9: 전산처리분야 참여기술인 | C9: CCC | D9: 고급전문교육과정 | E9: 2023.12.02 - 2023.12.06 | F9: 건설기술교육원
B10: 전산처리분야 참여기술인 | C10: CCC | D10: 고급전문교육과정 | E10: 2023.02.18 - 2023.02.22 | F10: 건설기술교육원
B11: 측량및계측분야 참여기술인 | C11: DDD | D11: 고급전문교육과정 | E11: 2023.05.20 - 2023.05.24 | F11: 건설기술교육원
B12: 측량및계측분야 참여기술인 | C12: DDD | D12: 고급전문교육과정 | E12: 2023.03.18 - 2023.03.22 | F12: 건설기술교육원
B14: 1주～2주미만교육자 ( )인
B16: 계 | G16: (a/c)×1 + (b/c)×0.5 a : 2주이상교육인원수 b : 1주이상교육인원수 c : 평가대상인원

Sheet 사책 AAA
B1: ○ 사업책임기술인 실적 | D1: AAA
B2: - 실적양식
A3: 협회 증명번호 | B3: 참여용역명 | C3: 사업개요 | D3: 발주처 | E3: 준공금액 (백만원) | F3: 용역기간 | I3: 용역참여기간 | L3: 참여 전문분야 | M3: 유사용역 제외금액 (백만원) | N3: 가중치 (연약지반100%, 연약지반외 60%) | O3: 유사용역 분야금액 (백만원) | P3: 실적 적용 구간 | Q3: 적용 건수 | R3: 실적 증명 번호
F4: 용역 착수일 | G4: 용역 준공일 | H4: 용역기간 (일) | I4: 참여 개시일 | J4: 참여 종료일 | K4: 참여기간 (일)
A5: 1 | B5: 00신항방파제(1단계)축조공사 중 계측기설치 및 관리분석 | C5: - 연약지반 계측용역 | D5: 삼성물산㈜ | E5: 597 | F5: 36705 | G5: 38503 | H5: =IF(G5-F5+1>=2*365,2*365,G5-F5+1) -> 730 | I5: 37653 | J5: 38503 | K5: =IF(J5-I5+1>=2*365,2*365,J5-I5+1) -> 730 | L5: 토질지질 | M5: 0 | N5: 1 | O5: =(E5-M5) -> 597 | P5: =O5/(배점기준!$G$3/1000) -> 1.0610504 | Q5: =(IF(O5<100,0,IF(P5>=2.5,3,IF(P5>=2,2,IF(P5>=1.5,1.5,IF(P5>=1,1,IF(P5>=0.5,0.5,0.25)))))))*K5/H5*N5 -> 1 | R5: A
A6: 2 | B6: 0000유통단지개발사업 조성공사 연약지반침하안정관리용역 | C6: - 연약지반침하안정관리용역 | D6: 한국토지 주택공사 | E6: 831 | F6: 37817 | G6: 38898 | H6: =IF(G6-F6+1>=2*365,2*365,G6-F6+1) -> 730 | I6: 38139 | J6: 38898 | K6: =IF(J6-I6+1>=2*365,2*365,J6-I6+1) -> 730 | L6: 토질지질 | M6: 0 | N6: 1 | O6: =(E6-M6) -> 831 | P6: =O6/(배점기준!$G$3/1000) -> 1.4769395 | Q6: =(IF(O6<100,0,IF(P6>=2.5,3,IF(P6>=2,2,IF(P6>=1.5,1.5,IF(P6>=1,1,IF(P6>=0.5,0.5,0.25)))))))*K6/H6*N6 -> 1 | R6: B
A7: 3 | B7: 00지구택지개발사업3단계조성공사 연약지반침하안정관리용역 | C7: - 연약지반침하안정관리용역 | D7: 한국토지 주택공사 | E7: 4890 | F7: 38265 | G7: 40268 | H7: =IF(G7-F7+1>=2*365,2*365,G7-F7+1) -> 730 | I7: 38899 | J7: 39454 | K7: =IF(J7-I7+1>=2*365,2*365,J7-I7+1) -> 556 | L7: 토질지질 | M7: 0 | N7: 1 | O7: =(E7-M7) -> 4890 | P7: =O7/(배점기준!$G$3/1000) -> 8.6910157 | Q7: =(IF(O7<100,0,IF(P7>=2.5,3,IF(P7>=2,2,IF(P7>=1.5,1.5,IF(P7>=1,1,IF(P7>=0.5,0.5,0.25)))))))*K7/H7*N7 -> 2.2849315 | R7: 1
A8: 4 | B8: 수도권매립지 계측위탁관리용역 (6차) | C8: - 연약지반침하안정관리용역 | D8: 수도권매립지 관리공사 | E8: 875 | F8: 38353 | G8: 39082 | H8: =IF(G8-F8+1>=2*365,2*365,G8-F8+1) -> 730 | I8: 38930 | J8: 39082 | K8: =IF(J8-I8+1>=2*365,2*365,J8-I8+1) -> 153 | L8: 토질지질 | M8: 0 | N8: 1 | O8: =(E8-M8) -> 875 | P8: =O8/(배점기준!$G$3/1000) -> 1.5551409 | Q8: =(IF(O8<100,0,IF(P8>=2.5,3,IF(P8>=2,2,IF(P8>=1.5,1.5,IF(P8>=1,1,IF(P8>=0.5,0.5,0.25)))))))*K8/H8*N8 -> 0.31438356 | R8: C
A9: 5 | B9: 00지구 경제구역개발사업(2.3공구) 연약지반 침하안정관리용역 | C9: - 연약지반침하안정관리용역 | D9: 한국토지 주택공사 | E9: 911 | F9: 39078 | G9: 39990 | H9: =IF(G9-F9+1>=2*365,2*365,G9-F9+1) -> 730 | I9: 39173 | J9: 39325 | K9: =IF(J9-I9+1>=2*365,2*365,J9-I9+1) -> 153 | L9: 토질지질 | M9: 0 | N9: 1 | O9: =(E9-M9) -> 911 | P9: =O9/(배점기준!$G$3/1000) -> 1.6191238 | Q9: =(IF(O9<100,0,IF(P9>=2.5,3,IF(P9>=2,2,IF(P9>=1.5,1.5,IF(P9>=1,1,IF(P9>=0.5,0.5,0.25)))))))*K9/H9*N9 -> 0.31438356 | R9: F
A10: 6 | B10: 00지구택지개발상업(1.2공구) 연약지반침하안정관리용역 | C10: - 연약지반침하안정관리용역 | D10: 한국토지 주택공사 | E10: 986 | F10: 39562 | G10: 40602 | H10: =IF(G10-F10+1>=2*365,2*365,G10-F10+1) -> 730 | I10: 39562 | J10: 40291 | K10: =IF(J10-I10+1>=2*365,2*365,J10-I10+1) -> 730 | L10: 토질지질 | N10: 1 | O10: =(E10-M10) -> 986 | P10: =O10/(배점기준!$G$3/1000) -> 1.7524216 | Q10: =(IF(O10<100,0,IF(P10>=2.5,3,IF(P10>=2,2,IF(P10>=1.5,1.5,IF(P10>=1,1,IF(P10>=0.5,0.5,0.25)))))))*K10/H10*N10 -> 1.5 | R10: 4
A11: 7 | B11: 00산업단지 개발사업 조성공사 (2공구) 연약지반 침하안정관리용역 | C11: - 연약지반침하안정관리용역 | D11: 한국토지 주택공사 | E11: 812 | F11: 39790 | G11: 41049 | H11: =IF(G11-F11+1>=2*365,2*365,G11-F11+1) -> 730 | I11: 39790 | J11: 39994 | K11: =IF(J11-I11+1>=2*365,2*365,J11-I11+1) -> 205 | L11: 토질지질 | N11: 1 | O11: =(E11-M11) -> 812 | P11: =O11/(배점기준!$G$3/1000) -> 1.4431707 | Q11: =(IF(O11<100,0,IF(P11>=2.5,3,IF(P11>=2,2,IF(P11>=1.5,1.5,IF(P11>=1,1,IF(P11>=0.5,0.5,0.25)))))))*K11/H11*N11 -> 0.28082192 | R11: 9
A12: 8 | B12: 행정중심복합도시건설사업(00생활권 외) 연약지반침하안정관리용역 | C12: - 연약지반침하안정관리용역 | D12: 한국토지 주택공사 | E12: 1755 | F12: 39812 | G12: 41631 | H12: =IF(G12-F12+1>=2*365,2*365,G12-F12+1) -> 730 | I12: 39818 | J12: 40178 | K12: =IF(J12-I12+1>=2*365,2*365,J12-I12+1) -> 361 | L12: 토질지질 | N12: 1 | O12: =(E12-M12) -> 1755 | P12: =O12/(배점기준!$G$3/1000) -> 3.1191682 | Q12: =(IF(O12<100,0,IF(P12>=2.5,3,IF(P12>=2,2,IF(P12>=1.5,1.5,IF(P12>=1,1,IF(P12>=0.5,0.5,0.25)))))))*K12/H12*N12 -> 1.4835616 | R12: 15
A13: 9 | B13: 00진입도로확포장공사 연약지반계측관리 | C13: - 연약지반 계측용역 | D13: 경림씨앤씨㈜ | E13: 217 | F13: 39861 | G13: 40418 | H13: =IF(G13-F13+1>=2*365,2*365,G13-F13+1) -> 558 | I13: 39861 | J13: 40418 | K13: =IF(J13-I13+1>=2*365,2*365,J13-I13+1) -> 558 | L13: 토질지질 | N13: 1 | O13: =(E13-M13) -> 217 | P13: =O13/(배점기준!$G$3/1000) -> 0.38567493 | Q13: =(IF(O13<100,0,IF(P13>=2.5,3,IF(P13>=2,2,IF(P13>=1.5,1.5,IF(P13>=1,1,IF(P13>=0.5,0.5,0.25)))))))*K13/H13*N13 -> 0.25 | R13: 2
A14: 10 | B14: 00산업단지(2단계)개발사업 연약지반침하안정관리용역 | C14: - 연약지반침하안정관리용역 | D14: 한국토지 주택공사 | E14: 166 | F14: 39604 | G14: 40698 | H14: =IF(G14-F14+1>=2*365,2*365,G14-F14+1) -> 730 | I14: 39904 | J14: 40602 | K14: =IF(J14-I14+1>=2*365,2*365,J14-I14+1) -> 699 | L14: 토질지질 | N14: 1 | O14: =(E14-M14) -> 166 | P14: =O14/(배점기준!$G$3/1000) -> 0.29503244 | Q14: =(IF(O14<100,0,IF(P14>=2.5,3,IF(P14>=2,2,IF(P14>=1.5,1.5,IF(P14>=1,1,IF(P14>=0.5,0.5,0.25)))))))*K14/H14*N14 -> 0.23938356 | R14: 5
A15: 11 | B15: 00제1공구시설공사 현장 계측관리용역 | C15: - 연약지반 계측용역 | D15: 현대건설㈜ | E15: 677 | F15: 40087 | G15: 40908 | H15: =IF(G15-F15+1>=2*365,2*365,G15-F15+1) -> 730 | I15: 40087 | J15: 40908 | K15: =IF(J15-I15+1>=2*365,2*365,J15-I15+1) -> 730 | L15: 토질지질 | N15: 1 | O15: =(E15-M15) -> 677 | P15: =O15/(배점기준!$G$3/1000) -> 1.2032347 | Q15: =(IF(O15<100,0,IF(P15>=2.5,3,IF(P15>=2,2,IF(P15>=1.5,1.5,IF(P15>=1,1,IF(P15>=0.5,0.5,0.25)))))))*K15/H15*N15 -> 1 | R15: 7
A16: 12 | B16: 00국가산업단지 개발사업 조성공사 (1공구) 연약지반 침하안정관리용역 | C16: - 연약지반침하안정관리용역 | D16: 한국토지 주택공사 | E16: 965 | F16: 39650 | G16: 41172 | H16: =IF(G16-F16+1>=2*365,2*365,G16-F16+1) -> 730 | I16: 40238 | J16: 41172 | K16: =IF(J16-I16+1>=2*365,2*365,J16-I16+1) -> 730 | L16: 토질지질 | N16: 1 | O16: =(E16-M16) -> 965 | P16: =O16/(배점기준!$G$3/1000) -> 1.7150982 | Q16: =(IF(O16<100,0,IF(P16>=2.5,3,IF(P16>=2,2,IF(P16>=1.5,1.5,IF(P16>=1,1,IF(P16>=0.5,0.5,0.25)))))))*K16/H16*N16 -> 1.5 | R16: 11
A17: 13 | B17: 00도로개설공사(2-1)공구 연약지반처리공계측 | C17: - 연약지반 계측용역 | D17: 남광건설㈜ | E17: 381 | F17: 39374 | G17: 41234 | H17: =IF(G17-F17+1>=2*365,2*365,G17-F17+1) -> 730 | I17: 40330 | J17: 41234 | K17: =IF(J17-I17+1>=2*365,2*365,J17-I17+1) -> 730 | L17: 토질지질 | N17: 1 | O17: =(E17-M17) -> 381 | P17: =O17/(배점기준!$G$3/1000) -> 0.67715276 | Q17: =(IF(O17<100,0,IF(P17>=2.5,3,IF(P17>=2,2,IF(P17>=1.5,1.5,IF(P17>=1,1,IF(P17>=0.5,0.5,0.25)))))))*K17/H17*N17 -> 0.5 | R17: 12
A19: 소계 | Q19: =SUM(Q5:Q18) -> 11.667466
A20: 총계 | I20: * 용역참여기간은 경력증명서(첨부참조), 실적증명서 참여기간과 동일 | Q20: =Q19 -> 11.667466
A21: 주) | B21: ※신고자의 실적에 해당하는 양식을 사용하여 작성합니다. 합계건수가 기술자 시트에 입력 되도록 확인합니다.
A22: 1 | B22: 참여기술자가 발주기관 및 엔지니어 등 수행한 용역을 기초로 해당 양식을 사용하여 작성 합니다.
A23: 2 | B23: 용역중지기간은 용역기간 및 참여기간에 포함시키지 않습니다.
A24: 3 | B24: 용역실적증명서(원본 또는 사본)를 첨부하고, 실적대조를 위하여 양식에 작성된 연번을 반드시 기재하시기 바라며, 연번 순서대로 제본하여야 합니다.
A25: 4 | B25: 용역실적증명서의 참여기술자 명단이 누락 되었거나, 참여기술자 명단에 해당 참여기술자가 누락된 경우에는 해당실적을 인정하지 않습니다.
A26: 5 | B26: 기입란은 행 삽입,삭제가 가능하며, 행삽입,삭제시 실적이 합계에서 누락되지 않도록 반드시 확인(기술자실적 시트) 주의해야 합니다.

Sheet 분책 BBB
B1: ○ 분석및 전산처리분야 책임기술인 실적 | D1: BBB
B4: - 실적양식
A5: 협회 증명번호 | B5: 참여용역명 | C5: 사업개요 | D5: 발주처 | E5: 준공금액 (백만원) | F5: 용역기간 | I5: 용역참여기간 | L5: 참여 전문분야 | M5: 유사용역 제외금액 (백만원) | N5: 가중치 (연약지반100%, 연약지반외 60%) | O5: 유사용역 분야금액 (백만원) | P5: 실적 적용 구간 | Q5: 적용 건수 | R5: 실적 증명 번호
F6: 용역 착수일 | G6: 용역 준공일 | H6: 용역기간 (일) | I6: 참여 개시일 | J6: 참여 종료일 | K6: 참여기간 (일)
A7: 1 | B7: 00신항방파제(1단계)축조공사 중 계측기설치 및 관리분석 | C7: - 연약지반 계측용역 | D7: 삼성물산㈜ | E7: 597 | F7: 36705 | G7: 38503 | H7: =IF(G7-F7+1>=2*365,2*365,G7-F7+1) -> 730 | I7: 36705 | J7: 38503 | K7: =IF(J7-I7+1>=2*365,2*365,J7-I7+1) -> 730 | L7: 토질지질 | M7: 0 | N7: 1 | O7: =(E7-M7) -> 597 | P7: =O7/(배점기준!$G$3/1000) -> 1.0610504 | Q7: =(IF(O7<100,0,IF(P7>=2.5,3,IF(P7>=2,2,IF(P7>=1.5,1.5,IF(P7>=1,1,IF(P7>=0.5,0.5,0.25)))))))*K7/H7*N7 -> 1 | R7: A
A8: 2 | B8: 0000유통단지개발사업 조성공사 연약지반침하안정관리용역 | C8: - 연약지반침하안정관리용역 | D8: 한국토지 주택공사 | E8: 831 | F8: 37817 | G8: 38898 | H8: =IF(G8-F8+1>=2*365,2*365,G8-F8+1) -> 730 | I8: 37817 | J8: 38898 | K8: =IF(J8-I8+1>=2*365,2*365,J8-I8+1) -> 730 | L8: 토질지질 | M8: 0 | N8: 1 | O8: =(E8-M8) -> 831 | P8: =O8/(배점기준!$G$3/1000) -> 1.4769395 | Q8: =(IF(O8<100,0,IF(P8>=2.5,3,IF(P8>=2,2,IF(P8>=1.5,1.5,IF(P8>=1,1,IF(P8>=0.5,0.5,0.25)))))))*K8/H8*N8 -> 1 | R8: B
A9: 3 | B9: 00지구택지개발사업3단계조성공사 연약지반침하안정관리용역 | C9: - 연약지반침하안정관리용역 | D9: 한국토지 주택공사 | E9: 875 | F9: 38353 | G9: 39082 | H9: =IF(G9-F9+1>=2*365,2*365,G9-F9+1) -> 730 | I9: 38353 | J9: 39082 | K9: =IF(J9-I9+1>=2*365,2*365,J9-I9+1) -> 730 | L9: 토질지질 | M9: 0 | N9: 1 | O9: =(E9-M9) -> 875 | P9: =O9/(배점기준!$G$3/1000) -> 1.5551409 | Q9: =(IF(O9<100,0,IF(P9>=2.5,3,IF(P9>=2,2,IF(P9>=1.5,1.5,IF(P9>=1,1,IF(P9>=0.5,0.5,0.25)))))))*K9/H9*N9 -> 1.5 | R9: C
A10: 4 | B10: 수도권매립지 계측위탁관리용역 (6차) | C10: - 연약지반침하안정관리용역 | D10: 수도권매립지 관리공사 | E10: 338 | F10: 38991 | G10: 39813 | H10: =IF(G10-F10+1>=2*365,2*365,G10-F10+1) -> 730 | I10: 38991 | J10: 39629 | K10: =IF(J10-I10+1>=2*365,2*365,J10-I10+1) -> 639 | L10: 토질지질 | M10: 0 | N10: 1 | O10: =(E10-M10) -> 338 | P10: =O10/(배점기준!$G$3/1000) -> 0.60072869 | Q10: =(IF(O10<100,0,IF(P10>=2.5,3,IF(P10>=2,2,IF(P10>=1.5,1.5,IF(P10>=1,1,IF(P10>=0.5,0.5,0.25)))))))*K10/H10*N10 -> 0.43767123 | R10: D
A11: 5 | B11: 00지구 경제구역개발사업(2.3공구) 연약지반 침하안정관리용역 | C11: - 연약지반침하안정관리용역 | D11: 한국토지 주택공사 | E11: 381 | F11: 39374 | G11: 41234 | H11: =IF(G11-F11+1>=2*365,2*365,G11-F11+1) -> 730 | I11: 39374 | J11: 40178 | K11: =IF(J11-I11+1>=2*365,2*365,J11-I11+1) -> 730 | L11: 토질지질 | N11: 1 | O11: =(E11-M11) -> 381 | P11: =O11/(배점기준!$G$3/1000) -> 0.67715276 | Q11: =(IF(O11<100,0,IF(P11>=2.5,3,IF(P11>=2,2,IF(P11>=1.5,1.5,IF(P11>=1,1,IF(P11>=0.5,0.5,0.25)))))))*K11/H11*N11 -> 0.5 | R11: 12
A12: 6 | B12: 00지구택지개발상업(1.2공구) 연약지반침하안정관리용역 | C12: - 연약지반침하안정관리용역 | D12: 한국토지 주택공사 | E12: 244 | F12: 39517 | G12: 40421 | H12: =IF(G12-F12+1>=2*365,2*365,G12-F12+1) -> 730 | I12: 39517 | J12: 40421 | K12: =IF(J12-I12+1>=2*365,2*365,J12-I12+1) -> 730 | L12: 토질지질 | M12: 0 | N12: 1 | O12: =(E12-M12) -> 244 | P12: =O12/(배점기준!$G$3/1000) -> 0.43366213 | Q12: =(IF(O12<100,0,IF(P12>=2.5,3,IF(P12>=2,2,IF(P12>=1.5,1.5,IF(P12>=1,1,IF(P12>=0.5,0.5,0.25)))))))*K12/H12*N12 -> 0.25 | R12: 3
A13: 7 | B13: 00산업단지 개발사업 조성공사 (2공구) 연약지반 침하안정관리용역 | C13: - 연약지반침하안정관리용역 | D13: 한국토지 주택공사 | E13: 965 | F13: 39650 | G13: 41172 | H13: =IF(G13-F13+1>=2*365,2*365,G13-F13+1) -> 730 | I13: 39651 | J13: 40602 | K13: =IF(J13-I13+1>=2*365,2*365,J13-I13+1) -> 730 | L13: 토질지질 | N13: 1 | O13: =(E13-M13) -> 965 | P13: =O13/(배점기준!$G$3/1000) -> 1.7150982 | Q13: =(IF(O13<100,0,IF(P13>=2.5,3,IF(P13>=2,2,IF(P13>=1.5,1.5,IF(P13>=1,1,IF(P13>=0.5,0.5,0.25)))))))*K13/H13*N13 -> 1.5 | R13: 11
A14: 8 | B14: 행정중심복합도시건설사업(00생활권 외) 연약지반침하안정관리용역 | C14: - 연약지반침하안정관리용역 | D14: 한국토지 주택공사 | E14: 812 | F14: 39790 | G14: 41049 | H14: =IF(G14-F14+1>=2*365,2*365,G14-F14+1) -> 730 | I14: 39790 | J14: 41049 | K14: =IF(J14-I14+1>=2*365,2*365,J14-I14+1) -> 730 | L14: 토질지질 | N14: 1 | O14: =(E14-M14) -> 812 | P14: =O14/(배점기준!$G$3/1000) -> 1.4431707 | Q14: =(IF(O14<100,0,IF(P14>=2.5,3,IF(P14>=2,2,IF(P14>=1.5,1.5,IF(P14>=1,1,IF(P14>=0.5,0.5,0.25)))))))*K14/H14*N14 -> 1 | R14: 9
A15: 9 | B15: 00진입도로확포장공사 연약지반계측관리 | C15: - 연약지반 계측용역 | D15: 경림씨앤씨㈜ | E15: 1755 | F15: 39812 | G15: 41631 | H15: =IF(G15-F15+1>=2*365,2*365,G15-F15+1) -> 730 | I15: 39818 | J15: 41631 | K15: =IF(J15-I15+1>=2*365,2*365,J15-I15+1) -> 730 | L15: 토질지질 | N15: 1 | O15: =(E15-M15) -> 1755 | P15: =O15/(배점기준!$G$3/1000) -> 3.1191682 | Q15: =(IF(O15<100,0,IF(P15>=2.5,3,IF(P15>=2,2,IF(P15>=1.5,1.5,IF(P15>=1,1,IF(P15>=0.5,0.5,0.25)))))))*K15/H15*N15 -> 3 | R15: 15
A16: 10 | B16: 00산업단지(2단계)개발사업 연약지반침하안정관리용역 | C16: - 연약지반침하안정관리용역 | D16: 한국토지 주택공사 | E16: 217 | F16: 39861 | G16: 40418 | H16: =IF(G16-F16+1>=2*365,2*365,G16-F16+1) -> 558 | I16: 39861 | J16: 40418 | K16: =IF(J16-I16+1>=2*365,2*365,J16-I16+1) -> 558 | L16: 토질지질 | N16: 1 | O16: =(E16-M16) -> 217 | P16: =O16/(배점기준!$G$3/1000) -> 0.38567493 | Q16: =(IF(O16<100,0,IF(P16>=2.5,3,IF(P16>=2,2,IF(P16>=1.5,1.5,IF(P16>=1,1,IF(P16>=0.5,0.5,0.25)))))))*K16/H16*N16 -> 0.25 | R16: 2
A20: 소계 | Q20: =SUM(Q7:Q19) -> 10.437671
A21: ` | I21: * 용역참여기간은 경력증명서(첨부참조), 실적증명서 참여기간과 동일 | Q21: =Q20 -> 10.437671
A22: 주) | B22: ※신고자의 실적에 해당하는 양식을 사용하여 작성합니다. 합계건수가 기술자 시트에 입력 되도록 확인합니다.
A23: 1 | B23: 참여기술자가 발주기관 및 엔지니어 등 수행한 용역을 기초로 해당 양식을 사용하여 작성 합니다.
A24: 2 | B24: 용역중지기간은 용역기간 및 참여기간에 포함시키지 않습니다.
A25: 3 | B25: 용역실적증명서(원본 또는 사본)를 첨부하고, 실적대조를 위하여 양식에 작성된 연번을 반드시 기재하시기 바라며, 연번 순서대로 제본하여야 합니다.
A26: 4 | B26: 용역실적증명서의 참여기술자 명단이 누락 되었거나, 참여기술자 명단에 해당 참여기술자가 누락된 경우에는 해당실적을 인정하지 않습니다.
A27: 5 | B27: 기입란은 행 삽입,삭제가 가능하며, 행삽입,삭제시 실적이 합계에서 누락되지 않도록 반드시 확인(기술자실적 시트) 주의해야 합니다.

Sheet 참여1 CCC
B1: ○ 전산처리분야 참여기술인 실적 | D1: CCC
B2: - 실적양식
A3: 협회 증명번호 | B3: 참여용역명 | C3: 사업개요 | D3: 발주처 | E3: 준공금액 (백만원) | F3: 용역기간 | I3: 용역참여기간 | L3: 참여 전문분야 | M3: 유사용역 제외금액 (백만원) | N3: 가중치 (연약지반100%, 연약지반외 60%) | O3: 유사용역 분야금액 (백만원) | P3: 실적 적용 구간 | Q3: 적용 건수 | R3: 실적 증명 번호
F4: 용역 착수일 | G4: 용역 준공일 | H4: 용역기간 (일) | I4: 참여 개시일 | J4: 참여 종료일 | K4: 참여기간 (일)
A5: 1 | B5: 00신항방파제(1단계)축조공사 중 계측기설치 및 관리분석 | C5: - 연약지반 계측용역 | D5: 삼성물산㈜ | E5: 597 | F5: 36705 | G5: 38503 | H5: =IF(G5-F5+1>=2*365,2*365,G5-F5+1) -> 730 | I5: 36705 | J5: 38503 | K5: =IF(J5-I5+1>=2*365,2*365,J5-I5+1) -> 730 | L5: 토질지질 | M5: 0 | N5: 0.6 | O5: =(E5-M5) -> 597 | P5: =O5/(배점기준!$G$3/1000) -> 1.0610504 | Q5: =(IF(O5<100,0,IF(P5>=2.5,3,IF(P5>=2,2,IF(P5>=1.5,1.5,IF(P5>=1,1,IF(P5>=0.5,0.5,0.25)))))))*K5/H5*N5 -> 0.6 | R5: A
A6: 2 | B6: 0000유통단지개발사업 조성공사 연약지반침하안정관리용역 | C6: - 연약지반침하안정관리용역 | D6: 한국토지 주택공사 | E6: 831 | F6: 37817 | G6: 38898 | H6: =IF(G6-F6+1>=2*365,2*365,G6-F6+1) -> 730 | I6: 38265 | J6: 38898 | K6: =IF(J6-I6+1>=2*365,2*365,J6-I6+1) -> 634 | L6: 토질지질 | M6: 0 | N6: 0.6 | O6: =(E6-M6) -> 831 | P6: =O6/(배점기준!$G$3/1000) -> 1.4769395 | Q6: =(IF(O6<100,0,IF(P6>=2.5,3,IF(P6>=2,2,IF(P6>=1.5,1.5,IF(P6>=1,1,IF(P6>=0.5,0.5,0.25)))))))*K6/H6*N6 -> 0.52109589 | R6: B
A7: 3 | B7: 00지구택지개발사업3단계조성공사 연약지반침하안정관리용역 | C7: - 연약지반침하안정관리용역 | D7: 한국토지 주택공사 | E7: 4890 | F7: 38265 | G7: 40268 | H7: =IF(G7-F7+1>=2*365,2*365,G7-F7+1) -> 730 | I7: 38353 | J7: 39141 | K7: =IF(J7-I7+1>=2*365,2*365,J7-I7+1) -> 730 | L7: 토질지질 | M7: 0 | N7: 1 | O7: =(E7-M7) -> 4890 | P7: =O7/(배점기준!$G$3/1000) -> 8.6910157 | Q7: =(IF(O7<100,0,IF(P7>=2.5,3,IF(P7>=2,2,IF(P7>=1.5,1.5,IF(P7>=1,1,IF(P7>=0.5,0.5,0.25)))))))*K7/H7*N7 -> 3 | R7: 1
A8: 4 | B8: 수도권매립지 계측위탁관리용역 (6차) | C8: - 연약지반침하안정관리용역 | D8: 수도권매립지 관리공사 | E8: 911 | F8: 39078 | G8: 39990 | H8: =IF(G8-F8+1>=2*365,2*365,G8-F8+1) -> 730 | I8: 39173 | J8: 39990 | K8: =IF(J8-I8+1>=2*365,2*365,J8-I8+1) -> 730 | L8: 토질지질 | M8: 0 | N8: 1 | O8: =(E8-M8) -> 911 | P8: =O8/(배점기준!$G$3/1000) -> 1.6191238 | Q8: =(IF(O8<100,0,IF(P8>=2.5,3,IF(P8>=2,2,IF(P8>=1.5,1.5,IF(P8>=1,1,IF(P8>=0.5,0.5,0.25)))))))*K8/H8*N8 -> 1.5 | R8: F
A9: 5 | B9: 00지구 경제구역개발사업(2.3공구) 연약지반 침하안정관리용역 | C9: - 연약지반침하안정관리용역 | D9: 한국토지 주택공사 | E9: 809 | F9: 39174 | G9: 39903 | H9: =IF(G9-F9+1>=2*365,2*365,G9-F9+1) -> 730 | I9: 39356 | J9: 39478 | K9: =IF(J9-I9+1>=2*365,2*365,J9-I9+1) -> 123 | L9: 토질지질 | M9: 0 | N9: 1 | O9: =(E9-M9) -> 809 | P9: =O9/(배점기준!$G$3/1000) -> 1.4378388 | Q9: =(IF(O9<100,0,IF(P9>=2.5,3,IF(P9>=2,2,IF(P9>=1.5,1.5,IF(P9>=1,1,IF(P9>=0.5,0.5,0.25)))))))*K9/H9*N9 -> 0.16849315 | R9: E
A10: 6 | B10: 00지구택지개발상업(1.2공구) 연약지반침하안정관리용역 | C10: - 연약지반침하안정관리용역 | D10: 한국토지 주택공사 | E10: 914 | F10: 40014 | G10: 41517 | H10: =IF(G10-F10+1>=2*365,2*365,G10-F10+1) -> 730 | I10: 39991 | J10: 40877 | K10: =IF(J10-I10+1>=2*365,2*365,J10-I10+1) -> 730 | L10: 토질지질 | M10: 0 | N10: 1 | O10: =(E10-M10) -> 914 | P10: =O10/(배점기준!$G$3/1000) -> 1.6244557 | Q10: =(IF(O10<100,0,IF(P10>=2.5,3,IF(P10>=2,2,IF(P10>=1.5,1.5,IF(P10>=1,1,IF(P10>=0.5,0.5,0.25)))))))*K10/H10*N10 -> 1.5 | R10: 14
A11: 7 | B11: 00산업단지 개발사업 조성공사 (2공구) 연약지반 침하안정관리용역 | C11: - 연약지반침하안정관리용역 | D11: 한국토지 주택공사 | E11: 677 | F11: 40087 | G11: 40908 | H11: =IF(G11-F11+1>=2*365,2*365,G11-F11+1) -> 730 | I11: 40087 | J11: 40489 | K11: =IF(J11-I11+1>=2*365,2*365,J11-I11+1) -> 403 | L11: 토질지질 | N11: 1 | O11: =(E11-M11) -> 677 | P11: =O11/(배점기준!$G$3/1000) -> 1.2032347 | Q11: =(IF(O11<100,0,IF(P11>=2.5,3,IF(P11>=2,2,IF(P11>=1.5,1.5,IF(P11>=1,1,IF(P11>=0.5,0.5,0.25)))))))*K11/H11*N11 -> 0.55205479 | R11: 7
A12: 8 | B12: 행정중심복합도시건설사업(00생활권 외) 연약지반침하안정관리용역 | C12: - 연약지반침하안정관리용역 | D12: 한국토지 주택공사 | E12: 381 | F12: 39374 | G12: 41234 | H12: =IF(G12-F12+1>=2*365,2*365,G12-F12+1) -> 730 | I12: 40179 | J12: 41234 | K12: =IF(J12-I12+1>=2*365,2*365,J12-I12+1) -> 730 | L12: 토질지질 | M12: 0 | N12: 1 | O12: =(E12-M12) -> 381 | P12: =O12/(배점기준!$G$3/1000) -> 0.67715276 | Q12: =(IF(O12<100,0,IF(P12>=2.5,3,IF(P12>=2,2,IF(P12>=1.5,1.5,IF(P12>=1,1,IF(P12>=0.5,0.5,0.25)))))))*K12/H12*N12 -> 0.5 | R12: 12
A13: 9 | B13: 00진입도로확포장공사 연약지반계측관리 | C13: - 연약지반 계측용역 | D13: 경림씨앤씨㈜ | E13: 1031 | F13: 41046 | G13: 41321 | H13: =IF(G13-F13+1>=2*365,2*365,G13-F13+1) -> 276 | I13: 40878 | J13: 40999 | K13: =IF(J13-I13+1>=2*365,2*365,J13-I13+1) -> 122 | L13: 토질지질 | M13: 0 | N13: 1 | O13: =(E13-M13) -> 1031 | P13: =O13/(배점기준!$G$3/1000) -> 1.8324002 | Q13: =(IF(O13<100,0,IF(P13>=2.5,3,IF(P13>=2,2,IF(P13>=1.5,1.5,IF(P13>=1,1,IF(P13>=0.5,0.5,0.25)))))))*K13/H13*N13 -> 0.66304348 | R13: 8
A16: 소계 | Q16: =SUM(Q5:Q15) -> 9.0046873
A17: 총계 | I17: * 용역참여기간은 경력증명서(첨부참조), 실적증명서 참여기간과 동일 | Q17: =Q16 -> 9.0046873
A18: 주) | B18: ※신고자의 실적에 해당하는 양식을 사용하여 작성합니다. 합계건수가 기술자 시트에 입력 되도록 확인합니다.
A19: 1 | B19: 참여기술자가 발주기관 및 엔지니어 등 수행한 용역을 기초로 해당 양식을 사용하여 작성 합니다.
A20: 2 | B20: 용역중지기간은 용역기간 및 참여기간에 포함시키지 않습니다.
A21: 3 | B21: 용역실적증명서(원본 또는 사본)를 첨부하고, 실적대조를 위하여 양식에 작성된 연번을 반드시 기재하시기 바라며, 연번 순서대로 제본하여야 합니다.
A22: 4 | B22: 용역실적증명서의 참여기술자 명단이 누락 되었거나, 참여기술자 명단에 해당 참여기술자가 누락된 경우에는 해당실적을 인정하지 않습니다.
A23: 5 | B23: 기입란은 행 삽입,삭제가 가능하며, 행삽입,삭제시 실적이 합계에서 누락되지 않도록 반드시 확인(기술자실적 시트) 주의해야 합니다.

Sheet 참여2 DDD
B1: ○ 측량및계측분야 참여기술인 실적 | D1: DDD
B3: - 실적양식
A4: 협회 증명번호 | B4: 참여용역명 | C4: 사업개요 | D4: 발주처 | E4: 준공금액 (백만원) | F4: 용역기간 | I4: 용역참여기간 | L4: 참여 전문분야 | M4: 유사용역 제외금액 (백만원) | N4: 가중치 (연약지반100%, 연약지반외 60%) | O4: 유사용역 분야금액 (백만원) | P4: 실적 적용 구간 | Q4: 적용 건수 | R4: 실적 증명 번호
F5: 용역 착수일 | G5: 용역 준공일 | H5: 용역기간 (일) | I5: 참여 개시일 | J5: 참여 종료일 | K5: 참여기간 (일)
A6: 1 | B6: 00신항방파제(1단계)축조공사 중 계측기설치 및 관리분석 | C6: - 연약지반 계측용역 | D6: 삼성물산㈜ | E6: 875 | F6: 38353 | G6: 39082 | H6: =IF(G6-F6+1>=2*365,2*365,G6-F6+1) -> 730 | I6: 38353 | J6: 39082 | K6: =IF(J6-I6+1>=2*365,2*365,J6-I6+1) -> 730 | L6: 토질지질 | M6: 0 | N6: 1 | O6: =(E6-M6) -> 875 | P6: =O6/(배점기준!$G$3/1000) -> 1.5551409 | Q6: =(IF(O6<100,0,IF(P6>=2.5,3,IF(P6>=2,2,IF(P6>=1.5,1.5,IF(P6>=1,1,IF(P6>=0.5,0.5,0.25)))))))*K6/H6*N6 -> 1.5 | R6: C
A7: 2 | B7: 0000유통단지개발사업 조성공사 연약지반침하안정관리용역 | C7: - 연약지반침하안정관리용역 | D7: 한국토지 주택공사 | E7: 809 | F7: 39174 | G7: 39903 | H7: =IF(G7-F7+1>=2*365,2*365,G7-F7+1) -> 730 | I7: 39174 | J7: 39325 | K7: =IF(J7-I7+1>=2*365,2*365,J7-I7+1) -> 152 | L7: 토질지질 | N7: 1 | O7: =(E7-M7) -> 809 | P7: =O7/(배점기준!$G$3/1000) -> 1.4378388 | Q7: =(IF(O7<100,0,IF(P7>=2.5,3,IF(P7>=2,2,IF(P7>=1.5,1.5,IF(P7>=1,1,IF(P7>=0.5,0.5,0.25)))))))*K7/H7*N7 -> 0.20821918 | R7: E
A8: 3 | B8: 00지구택지개발사업3단계조성공사 연약지반침하안정관리용역 | C8: - 연약지반침하안정관리용역 | D8: 한국토지 주택공사 | E8: 1031 | F8: 39904 | G8: 41029 | H8: =IF(G8-F8+1>=2*365,2*365,G8-F8+1) -> 730 | I8: 39938 | J8: 40451 | K8: =IF(J8-I8+1>=2*365,2*365,J8-I8+1) -> 514 | L8: 토질지질 | N8: 1 | O8: =(E8-M8) -> 1031 | P8: =O8/(배점기준!$G$3/1000) -> 1.8324002 | Q8: =(IF(O8<100,0,IF(P8>=2.5,3,IF(P8>=2,2,IF(P8>=1.5,1.5,IF(P8>=1,1,IF(P8>=0.5,0.5,0.25)))))))*K8/H8*N8 -> 1.0561644 | R8: 8
A9: 4 | B9: 수도권매립지 계측위탁관리용역 (6차) | C9: - 연약지반침하안정관리용역 | D9: 수도권매립지 관리공사 | E9: 244 | F9: 39517 | G9: 40421 | H9: =IF(G9-F9+1>=2*365,2*365,G9-F9+1) -> 730 | I9: 39946 | J9: 40418 | K9: =IF(J9-I9+1>=2*365,2*365,J9-I9+1) -> 473 | L9: 토질지질 | M9: 0 | N9: 1 | O9: =(E9-M9) -> 244 | P9: =O9/(배점기준!$G$3/1000) -> 0.43366213 | Q9: =(IF(O9<100,0,IF(P9>=2.5,3,IF(P9>=2,2,IF(P9>=1.5,1.5,IF(P9>=1,1,IF(P9>=0.5,0.5,0.25)))))))*K9/H9*N9 -> 0.1619863 | R9: 3
A10: 5 | B10: 00지구 경제구역개발사업(2.3공구) 연약지반 침하안정관리용역 | C10: - 연약지반침하안정관리용역 | D10: 한국토지 주택공사 | E10: 217 | F10: 39861 | G10: 40418 | H10: =IF(G10-F10+1>=2*365,2*365,G10-F10+1) -> 558 | I10: 39946 | J10: 40421 | K10: =IF(J10-I10+1>=2*365,2*365,J10-I10+1) -> 476 | L10: 토질지질 | N10: 1 | O10: =(E10-M10) -> 217 | P10: =O10/(배점기준!$G$3/1000) -> 0.38567493 | Q10: =(IF(O10<100,0,IF(P10>=2.5,3,IF(P10>=2,2,IF(P10>=1.5,1.5,IF(P10>=1,1,IF(P10>=0.5,0.5,0.25)))))))*K10/H10*N10 -> 0.21326165 | R10: 2
A11: 6 | B11: 00지구택지개발상업(1.2공구) 연약지반침하안정관리용역 | C11: - 연약지반침하안정관리용역 | D11: 한국토지 주택공사 | E11: 677 | F11: 40087 | G11: 40908 | H11: =IF(G11-F11+1>=2*365,2*365,G11-F11+1) -> 730 | I11: 40087 | J11: 40489 | K11: =IF(J11-I11+1>=2*365,2*365,J11-I11+1) -> 403 | L11: 토질지질 | N11: 1 | O11: =(E11-M11) -> 677 | P11: =O11/(배점기준!$G$3/1000) -> 1.2032347 | Q11: =(IF(O11<100,0,IF(P11>=2.5,3,IF(P11>=2,2,IF(P11>=1.5,1.5,IF(P11>=1,1,IF(P11>=0.5,0.5,0.25)))))))*K11/H11*N11 -> 0.55205479 | R11: 10
A12: 7 | B12: 00산업단지 개발사업 조성공사 (2공구) 연약지반 침하안정관리용역 | C12: - 연약지반침하안정관리용역 | D12: 한국토지 주택공사 | E12: 105 | F12: 40262 | G12: 41090 | H12: =IF(G12-F12+1>=2*365,2*365,G12-F12+1) -> 730 | I12: 40262 | J12: 41090 | K12: =IF(J12-I12+1>=2*365,2*365,J12-I12+1) -> 730 | L12: 토질지질 | N12: 1 | O12: =(E12-M12) -> 105 | P12: =O12/(배점기준!$G$3/1000) -> 0.1866169 | Q12: =(IF(O12<100,0,IF(P12>=2.5,3,IF(P12>=2,2,IF(P12>=1.5,1.5,IF(P12>=1,1,IF(P12>=0.5,0.5,0.25)))))))*K12/H12*N12 -> 0.25 | R12: 7
A13: 8 | B13: 행정중심복합도시건설사업(00생활권 외) 연약지반침하안정관리용역 | C13: - 연약지반침하안정관리용역 | D13: 한국토지 주택공사 | E13: 381 | F13: 39374 | G13: 41234 | H13: =IF(G13-F13+1>=2*365,2*365,G13-F13+1) -> 730 | I13: 40422 | J13: 41234 | K13: =IF(J13-I13+1>=2*365,2*365,J13-I13+1) -> 730 | L13: 토질지질 | N13: 1 | O13: =(E13-M13) -> 381 | P13: =O13/(배점기준!$G$3/1000) -> 0.67715276 | Q13: =(IF(O13<100,0,IF(P13>=2.5,3,IF(P13>=2,2,IF(P13>=1.5,1.5,IF(P13>=1,1,IF(P13>=0.5,0.5,0.25)))))))*K13/H13*N13 -> 0.5 | R13: 12
A14: 9 | B14: 00진입도로확포장공사 연약지반계측관리 | C14: - 연약지반 계측용역 | D14: 경림씨앤씨㈜ | E14: 914 | F14: 40014 | G14: 41517 | H14: =IF(G14-F14+1>=2*365,2*365,G14-F14+1) -> 730 | I14: 40490 | J14: 40816 | K14: =IF(J14-I14+1>=2*365,2*365,J14-I14+1) -> 327 | L14: 토질지질 | N14: 1 | O14: =(E14-M14) -> 914 | P14: =O14/(배점기준!$G$3/1000) -> 1.6244557 | Q14: =(IF(O14<100,0,IF(P14>=2.5,3,IF(P14>=2,2,IF(P14>=1.5,1.5,IF(P14>=1,1,IF(P14>=0.5,0.5,0.25)))))))*K14/H14*N14 -> 0.67191781 | R14: 14
A15: 10 | B15: 00산업단지(2단계)개발사업 연약지반침하안정관리용역 | C15: - 연약지반침하안정관리용역 | D15: 한국토지 주택공사 | E15: 316 | F15: 40548 | G15: 41765 | H15: =IF(G15-F15+1>=2*365,2*365,G15-F15+1) -> 730 | I15: 40603 | J15: 41364 | K15: =IF(J15-I15+1>=2*365,2*365,J15-I15+1) -> 730 | L15: 토질지질 | N15: 1 | O15: =(E15-M15) -> 316 | P15: =O15/(배점기준!$G$3/1000) -> 0.56162801 | Q15: =(IF(O15<100,0,IF(P15>=2.5,3,IF(P15>=2,2,IF(P15>=1.5,1.5,IF(P15>=1,1,IF(P15>=0.5,0.5,0.25)))))))*K15/H15*N15 -> 0.5 | R15: 16
A19: 소계 | Q19: =SUM(Q6:Q18) -> 5.6136041
A20: ` | I20: * 용역참여기간은 경력증명서(첨부참조), 실적증명서 참여기간과 동일 | Q20: =Q19 -> 5.6136041
A21: 주) | B21: ※신고자의 실적에 해당하는 양식을 사용하여 작성합니다. 합계건수가 기술자 시트에 입력 되도록 확인합니다.
A22: 1 | B22: 참여기술자가 발주기관 및 엔지니어 등 수행한 용역을 기초로 해당 양식을 사용하여 작성 합니다.
A23: 2 | B23: 용역중지기간은 용역기간 및 참여기간에 포함시키지 않습니다.
A24: 3 | B24: 용역실적증명서(원본 또는 사본)를 첨부하고, 실적대조를 위하여 양식에 작성된 연번을 반드시 기재하시기 바라며, 연번 순서대로 제본하여야 합니다.
A25: 4 | B25: 용역실적증명서의 참여기술자 명단이 누락 되었거나, 참여기술자 명단에 해당 참여기술자가 누락된 경우에는 해당실적을 인정하지 않습니다.
A26: 5 | B26: 기입란은 행 삽입,삭제가 가능하며, 행삽입,삭제시 실적이 합계에서 누락되지 않도록 반드시 확인(기술자실적 시트) 주의해야 합니다.

Sheet 유사용역
A1: 5. 참여업체 평가
A2: 5-1. 유사용역 수행실적(15점)
B4: 항목 | C4: 업체명 | D4: 실적 | E4: 지분율 | F4: 소계 | H4: 평가
B5: 실적건수 (건) | C5: =참여업체!C6 -> A엔지니어링 | D5: ='유사(주관)'!N21 -> 13.7 | E5: =참여업체!$C$7 -> 0.9 | F5: =(D5*E5)+(D6*E6)+(D7*E7) -> 12.33 | H5: =IF(F5>=배점기준!$E$48,배점기준!$E$49,IF(F5>=배점기준!$F$48,배점기준!$F$49,IF(F5>=배점기준!$G$48,배점기준!$G$49,IF(F5>=배점기준!$H$48,배점기준!$H$49,배점기준!$I$49)))) -> 8
C6: =참여업체!D6 -> B엔지니어링 | D6: ='유사(부관)'!L20 -> 0 | E6: =참여업체!$D$7 -> 0.1
B8: 실적금액 (억원) | C8: =참여업체!C6 -> A엔지니어링 | D8: ='유사(주관)'!L21/100 -> 173.2 | E8: =참여업체!$C$7 -> 0.9 | F8: =(D8*E8)+(D9*E9)+(D10*E10) -> 155.88 | G8: =F8/(배점기준!G3/100000) -> 27.704612 | H8: =(IF(G8>=배점기준!D52,배점기준!D53,IF(G8>=배점기준!E52,배점기준!E53,IF(G8>=배점기준!F52,배점기준!F53,IF(G8>=배점기준!G52,배점기준!G53,IF(G8>=배점기준!H52,배점기준!H53,배점기준!I53)))))) -> 7
C9: =참여업체!D6 -> B엔지니어링 | D9: ='유사(부관)'!N20 -> 0 | E9: =참여업체!$D$7 -> 0.1

Sheet 유사(주관)
A1: ▣ 유사용역 수행실적 | C1: =참여업체!C6 -> A엔지니어링
A2: 번호 | B2: 참여용역명 | C2: 사업개요 | D2: 발주처 | E2: 용역기간 | G2: 준공 금액 (백만원) | H2: 실적제외 금액 (백만원) | I2: 도급지분 | J2: 가중치 (연약지반100%, 연약지반외 60%) | K2: 적용금액 (백만원) | L2: 실적금액 (백만원) | M2: 용역건수 (지분율미반영) | N2: 실적건수 (지분율반영) | O2: 비고
E3: 용역 계약일 | F3: 용역 준공일 | R3: 용역건수 (지분율미반영) | T3: 실적건수 (지분율반영)
A4: 1 | B4: 00신항방파제(1단계)축조공사 중 계측기설치 및 관리분석 | C4: - 연약지반 계측용역 | D4: 삼성물산㈜ | E4: 38265 | F4: 40268 | G4: 4890 | H4: 0 | I4: 1 | J4: 1 | K4: =IF((G4-H4)*J4<배점기준!$E$50*100,0,(G4-H4)) -> 4890 | L4: =K4*I4 -> 4890 | M4: =(IF(K4<배점기준!$E$50*100,0,IF(K4<배점기준!$F$50*100,배점기준!$E$51,IF(K4<배점기준!$G$50*100,배점기준!$F$51,배점기준!$G$51)))) -> 1.3 | N4: =I4*M4*J4 -> 1.3 | S4: 점수
A5: 2 | B5: 0000유통단지개발사업 조성공사 연약지반침하안정관리용역 | C5: - 연약지반침하안정관리용역 | D5: 한국토지 주택공사 | E5: 39861 | F5: 40418 | G5: 217 | H5: 0 | I5: 1 | J5: 1 | K5: =IF((G5-H5)*J5<배점기준!$E$50*100,0,(G5-H5)) -> 217 | L5: =K5*I5 -> 217 | M5: =(IF(K5<배점기준!$E$50*100,0,IF(K5<배점기준!$F$50*100,배점기준!$E$51,IF(K5<배점기준!$G$50*100,배점기준!$F$51,배점기준!$G$51)))) -> 0.7 | N5: =I5*M5*J5 -> 0.7 | R5: 1억-10억 | S5: 0.7
A6: 3 | B6: 00지구택지개발사업3단계조성공사 연약지반침하안정관리용역 | C6: - 연약지반침하안정관리용역 | D6: 한국토지 주택공사 | E6: 39517 | F6: 40421 | G6: 245 | H6: 0 | I6: 1 | J6: 1 | K6: =IF((G6-H6)*J6<배점기준!$E$50*100,0,(G6-H6)) -> 245 | L6: =K6*I6 -> 245 | M6: =(IF(K6<배점기준!$E$50*100,0,IF(K6<배점기준!$F$50*100,배점기준!$E$51,IF(K6<배점기준!$G$50*100,배점기준!$F$51,배점기준!$G$51)))) -> 0.7 | N6: =I6*M6*J6 -> 0.7 | R6: 10억-20억 | S6: 1
A7: 4 | B7: 수도권매립지 계측위탁관리용역 (6차) | C7: - 연약지반침하안정관리용역 | D7: 수도권매립지 관리공사 | E7: 39562 | F7: 40602 | G7: 987 | H7: 0 | I7: 1 | J7: 1 | K7: =IF((G7-H7)*J7<배점기준!$E$50*100,0,(G7-H7)) -> 987 | L7: =K7*I7 -> 987 | M7: =(IF(K7<배점기준!$E$50*100,0,IF(K7<배점기준!$F$50*100,배점기준!$E$51,IF(K7<배점기준!$G$50*100,배점기준!$F$51,배점기준!$G$51)))) -> 0.7 | N7: =I7*M7*J7 -> 0.7 | R7: 20억이상 | S7: 1.3
A8: 5 | B8: 00지구 경제구역개발사업(2.3공구) 연약지반 침하안정관리용역 | C8: - 연약지반침하안정관리용역 | D8: 한국토지 주택공사 | E8: 39604 | F8: 40698 | G8: 167 | H8: 0 | I8: 1 | J8: 1 | K8: =IF((G8-H8)*J8<배점기준!$E$50*100,0,(G8-H8)) -> 167 | L8: =K8*I8 -> 167 | M8: =(IF(K8<배점기준!$E$50*100,0,IF(K8<배점기준!$F$50*100,배점기준!$E$51,IF(K8<배점기준!$G$50*100,배점기준!$F$51,배점기준!$G$51)))) -> 0.7 | N8: =I8*M8*J8 -> 0.7
A9: 6 | B9: 00지구택지개발상업(1.2공구) 연약지반침하안정관리용역 | C9: - 연약지반침하안정관리용역 | D9: 한국토지 주택공사 | E9: 39254 | F9: 40721 | G9: 1629 | H9: 0 | I9: 1 | J9: 1 | K9: =IF((G9-H9)*J9<배점기준!$E$50*100,0,(G9-H9)) -> 1629 | L9: =K9*I9 -> 1629 | M9: =(IF(K9<배점기준!$E$50*100,0,IF(K9<배점기준!$F$50*100,배점기준!$E$51,IF(K9<배점기준!$G$50*100,배점기준!$F$51,배점기준!$G$51)))) -> 1 | N9: =I9*M9*J9 -> 1
A10: 7 | B10: 00산업단지 개발사업 조성공사 (2공구) 연약지반 침하안정관리용역 | C10: - 연약지반침하안정관리용역 | D10: 한국토지 주택공사 | E10: 40087 | F10: 40908 | G10: 678 | H10: 0 | I10: 1 | J10: 1 | K10: =IF((G10-H10)*J10<배점기준!$E$50*100,0,(G10-H10)) -> 678 | L10: =K10*I10 -> 678 | M10: =(IF(K10<배점기준!$E$50*100,0,IF(K10<배점기준!$F$50*100,배점기준!$E$51,IF(K10<배점기준!$G$50*100,배점기준!$F$51,배점기준!$G$51)))) -> 0.7 | N10: =I10*M10*J10 -> 0.7
A11: 8 | B11: 행정중심복합도시건설사업(00생활권 외) 연약지반침하안정관리용역 | C11: - 연약지반침하안정관리용역 | D11: 한국토지 주택공사 | E11: 39904 | F11: 41029 | G11: 1031 | H11: 0 | I11: 1 | J11: 1 | K11: =IF((G11-H11)*J11<배점기준!$E$50*100,0,(G11-H11)) -> 1031 | L11: =K11*I11 -> 1031 | M11: =(IF(K11<배점기준!$E$50*100,0,IF(K11<배점기준!$F$50*100,배점기준!$E$51,IF(K11<배점기준!$G$50*100,배점기준!$F$51,배점기준!$G$51)))) -> 1 | N11: =I11*M11*J11 -> 1
A12: 9 | B12: 00진입도로확포장공사 연약지반계측관리 | C12: - 연약지반 계측용역 | D12: 경림씨앤씨㈜ | E12: 39790 | F12: 41049 | G12: 812 | H12: 0 | I12: 1 | J12: 1 | K12: =IF((G12-H12)*J12<배점기준!$E$50*100,0,(G12-H12)) -> 812 | L12: =K12*I12 -> 812 | M12: =(IF(K12<배점기준!$E$50*100,0,IF(K12<배점기준!$F$50*100,배점기준!$E$51,IF(K12<배점기준!$G$50*100,배점기준!$F$51,배점기준!$G$51)))) -> 0.7 | N12: =I12*M12*J12 -> 0.7
A13: 10 | B13: 00신항방파제(2단계)축조공사 중 계측기설치 및 관리분석 | C13: - 연약지반 계측용역 | D13: 00건설㈜ | E13: 40262 | F13: 41090 | G13: 105 | H13: 0 | I13: 1 | J13: 1 | K13: =IF((G13-H13)*J13<배점기준!$E$50*100,0,(G13-H13)) -> 105 | L13: =K13*I13 -> 105 | M13: =(IF(K13<배점기준!$E$50*100,0,IF(K13<배점기준!$F$50*100,배점기준!$E$51,IF(K13<배점기준!$G$50*100,배점기준!$F$51,배점기준!$G$51)))) -> 0.7 | N13: =I13*M13*J13 -> 0.7
A14: 11 | B14: 00신항방파제(1단계)축조공사 중 계측기설치 및 관리분석 | C14: - 연약지반침하안정관리용역 | D14: 한국토지 주택공사 | E14: 39650 | F14: 41172 | G14: 966 | H14: 0 | I14: 1 | J14: 1 | K14: =IF((G14-H14)*J14<배점기준!$E$50*100,0,(G14-H14)) -> 966 | L14: =K14*I14 -> 966 | M14: =(IF(K14<배점기준!$E$50*100,0,IF(K14<배점기준!$F$50*100,배점기준!$E$51,IF(K14<배점기준!$G$50*100,배점기준!$F$51,배점기준!$G$51)))) -> 0.7 | N14: =I14*M14*J14 -> 0.7
A15: 12 | B15: 0000유통단지개발사업 조성공사 연약지반침하안정관리용역 | C15: - 연약지반침하안정관리용역 | D15: 한국토지 주택공사 | E15: 39374 | F15: 41234 | G15: 381 | H15: 0 | I15: 1 | J15: 1 | K15: =IF((G15-H15)*J15<배점기준!$E$50*100,0,(G15-H15)) -> 381 | L15: =K15*I15 -> 381 | M15: =(IF(K15<배점기준!$E$50*100,0,IF(K15<배점기준!$F$50*100,배점기준!$E$51,IF(K15<배점기준!$G$50*100,배점기준!$F$51,배점기준!$G$51)))) -> 0.7 | N15: =I15*M15*J15 -> 0.7
A16: 13 | B16: 00지구택지개발사업3단계조성공사 연약지반침하안정관리용역 | C16: - 연약지반침하안정관리용역 | D16: 수도권매립지 관리공사 | E16: 41046 | F16: 41321 | G16: 313 | H16: 0 | I16: 1 | J16: 1 | K16: =IF((G16-H16)*J16<배점기준!$E$50*100,0,(G16-H16)) -> 313 | L16: =K16*I16 -> 313 | M16: =(IF(K16<배점기준!$E$50*100,0,IF(K16<배점기준!$F$50*100,배점기준!$E$51,IF(K16<배점기준!$G$50*100,배점기준!$F$51,배점기준!$G$51)))) -> 0.7 | N16: =I16*M16*J16 -> 0.7
A17: 14 | B17: 수도권매립지 계측위탁관리용역 (6차) | C17: - 연약지반침하안정관리용역 | D17: 한국토지 주택공사 | E17: 40014 | F17: 41517 | G17: 914 | H17: 0 | I17: 1 | J17: 1 | K17: =IF((G17-H17)*J17<배점기준!$E$50*100,0,(G17-H17)) -> 914 | L17: =K17*I17 -> 914 | M17: =(IF(K17<배점기준!$E$50*100,0,IF(K17<배점기준!$F$50*100,배점기준!$E$51,IF(K17<배점기준!$G$50*100,배점기준!$F$51,배점기준!$G$51)))) -> 0.7 | N17: =I17*M17*J17 -> 0.7
A18: 15 | B18: 00지구 경제구역개발사업(2.3공구) 연약지반 침하안정관리용역 | C18: - 연약지반침하안정관리용역 | D18: 한국토지 주택공사 | E18: 39812 | F18: 41631 | G18: 1755 | H18: 0 | I18: 1 | J18: 1 | K18: =IF((G18-H18)*J18<배점기준!$E$50*100,0,(G18-H18)) -> 1755 | L18: =K18*I18 -> 1755 | M18: =(IF(K18<배점기준!$E$50*100,0,IF(K18<배점기준!$F$50*100,배점기준!$E$51,IF(K18<배점기준!$G$50*100,배점기준!$F$51,배점기준!$G$51)))) -> 1 | N18: =I18*M18*J18 -> 1
A19: 16 | B19: 00지구택지개발상업(1.2공구) 연약지반침하안정관리용역 | C19: - 연약지반침하안정관리용역 | D19: 한국토지 주택공사 | E19: 40548 | F19: 41765 | G19: 316 | H19: 0 | I19: 1 | J19: 1 | K19: =IF((G19-H19)*J19<배점기준!$E$50*100,0,(G19-H19)) -> 316 | L19: =K19*I19 -> 316 | M19: =(IF(K19<배점기준!$E$50*100,0,IF(K19<배점기준!$F$50*100,배점기준!$E$51,IF(K19<배점기준!$G$50*100,배점기준!$F$51,배점기준!$G$51)))) -> 0.7 | N19: =I19*M19*J19 -> 0.7
A20: 17 | B20: 00산업단지 개발사업 조성공사 (2공구) 연약지반 침하안정관리용역 | C20: - 연약지반침하안정관리용역 | D20: 한국토지 주택공사 | E20: 39944 | F20: 41894 | G20: 1914 | H20: 0 | I20: 1 | J20: 1 | K20: =IF((G20-H20)*J20<배점기준!$E$50*100,0,(G20-H20)) -> 1914 | L20: =K20*I20 -> 1914 | M20: =(IF(K20<배점기준!$E$50*100,0,IF(K20<배점기준!$F$50*100,배점기준!$E$51,IF(K20<배점기준!$G$50*100,배점기준!$F$51,배점기준!$G$51)))) -> 1 | N20: =I20*M20*J20 -> 1
A21: 합계 | L21: =SUM(L4:L20) -> 17320 | N21: =SUM(N4:N20) -> 13.7

Sheet 유사(부관)
A1: ▣ 유사용역 수행실적 | C1: =참여업체!D6 -> B엔지니어링
A2: 번호 | B2: 참여용역명 | C2: 사업개요 | D2: 발주처 | E2: 용역기간 | G2: 준공 금액 (백만원) | H2: 실적제외 금액 (백만원) | I2: 도급지분 | J2: 가중치 (연약지반100%, 연약지반외 60%) | K2: 적용금액 (백만원) | L2: 실적금액 (백만원) | M2: 용역건수 (지분율미반영) | N2: 실적건수 (지분율반영) | O2: 비고
E3: 용역 계약일 | F3: 용역 준공일 | R3: 용역건수 (지분율미반영) | T3: 실적건수 (지분율반영)
A4: 1 | B4: - 실적없음 - | S4: 점수
A5: 2 | R5: 1억-10억 | S5: 0.7
A6: 3 | R6: 10억-20억 | S6: 1
A7: 4 | R7: 20억이상 | S7: 1.3
A8: 5
A9: 6
A10: 7
A11: 8
A12: 9
A13: 10
A14: 11
A15: 12
A16: 13
A17: 14
A18: 15
A20: 합계 | L20: =SUM(L4:L19) -> 0 | N20: =SUM(N4:N19) -> 0

Sheet 신용도
A1: 5-2. 신용도(10점)
B3: □ 업무정지, 부실벌점(7점)
B4: 업체명 | C4: 정지기간(일) | E4: 점수 | H4: 지분율 | I4: 부실벌점 | L4: 평가
C5: 업체 | D5: 기술자 | E5: 업체 | F5: 기술자 | G5: 소계 | I5: 업체 | J5: 적용 | K5: 기술자
B6: =참여업체!C6 -> A엔지니어링 | C6: 0 | D6: 0 | E6: =((CEILING(C6/30,1)*배점기준!$E$57)) -> 0 | F6: =(CEILING(D6/90,1)*배점기준!$E$59) -> 0 | G6: =E6+F6 -> 0 | H6: 0.9 | I6: =부실벌점!E5 -> 0 | J6: =부실벌점!F5 -> 0 | K6: =부실벌점!F16 -> 0 | L6: =IF(7+(G6*H6+G7*H7+G8*H8)+(J6*H6+J7*H7+J8*H8)+K6<0,0,7+(G6*H6+G7*H7+G8*H8)+(J6*H6+J7*H7+J8*H8)+K6) -> 7
B7: =참여업체!D6 -> B엔지니어링 | C7: 0 | D7: 0 | E7: =((CEILING(C7/30,1)*배점기준!$E$57)) -> 0 | F7: =(CEILING(D7/90,1)*배점기준!$E$59) -> 0 | G7: =E7+F7 -> 0 | H7: 0.1 | I7: =부실벌점!E6 -> 0.12 | J7: =부실벌점!F6 -> 0
J8: =부실벌점!F7 -> 0
B10: □ 재정상태 건실도- 신용평가등급(3점)
B11: 업체명 | C11: 회사채 | D11: 기업어음 | E11: 기업신용 | F11: 회사채 | G11: 기업어음 | H11: 기업신용 | I11: 업체별 | J11: 지분율 | K11: 평가
C12: 신용도 | D12: 신용도 | E12: 신용도 | F12: 점수 | G12: 점수 | H12: 점수 | I12: 점수
B13: =B6 -> A엔지니어링 | E13: BBB- | F13: =IF(OR(C13=C$22,C13=C$23,C13=C$24,C13=C$25,C13=C$26,C13=C$27,C13=C$28),3,IF(OR(C13=C$29,C13=C$30,C13=C$31),2.7,IF(OR(C13=C$32,C13=C$33,C13=C$34,C13=C$35,C13=C$36,C13=C$37),2.4,IF(C13=C$38,2.1,0)))) -> 0 | G13: =IF(OR(D13=D$22,D13=D$23,D13=D$24,D13=D$25),3,IF(D13=D$26,2.7,IF(OR(D13=D$27,D13=D$28,D13=D$29,D13=D$30,D13=D$31),2.4,IF(D13=D$32,2.1,0)))) -> 0 | H13: =IF(OR(E13=E$22,E13=E$23,E13=E$24,E13=E$25,E13=E$26,E13=E$27,E13=E$28),3,IF(OR(E13=E$29,E13=E$30,E13=E$31),2.7,IF(OR(E13=E$32,E13=E$33,E13=E$34,E13=E$35,E13=E$36,E13=E$37),2.4,IF(E13=E$38,2.1,0)))) -> 2.7 | I13: =MAX(F13:H13) -> 2.7 | J13: =참여업체!$C$7 -> 0.9 | K13: =I13*J13+I14*J14+I15*J15 -> 2.73
B14: =참여업체!D6 -> B엔지니어링 | E14: A0 | F14: =IF(OR(C14=C$22,C14=C$23,C14=C$24,C14=C$25,C14=C$26,C14=C$27,C14=C$28),3,IF(OR(C14=C$29,C14=C$30,C14=C$31),2.7,IF(OR(C14=C$32,C14=C$33,C14=C$34,C14=C$35,C14=C$36,C14=C$37),2.4,IF(C14=C$38,2.1,0)))) -> 0 | G14: =IF(OR(D14=D$22,D14=D$23,D14=D$24,D14=D$25),3,IF(D14=D$26,2.7,IF(OR(D14=D$27,D14=D$28,D14=D$29,D14=D$30,D14=D$31),2.4,IF(D14=D$32,2.1,0)))) -> 0 | H14: =IF(OR(E14=E$22,E14=E$23,E14=E$24,E14=E$25,E14=E$26,E14=E$27,E14=E$28),3,IF(OR(E14=E$29,E14=E$30,E14=E$31),2.7,IF(OR(E14=E$32,E14=E$33,E14=E$34,E14=E$35,E14=E$36,E14=E$37),2.4,IF(E14=E$38,2.1,0)))) -> 3 | I14: =MAX(F14:H14) -> 3 | J14: =참여업체!D7 -> 0.1
A17: 주) 1. | B17: 란을 직접입력합니다.
A18: 2. | B18: 재정상태건실도 평가는 유효기간내의 회사채,기업어음,기업신용 중 한가지만 입력하면 됩니다.
A19: 3. | B19: 회사채(또는 기업어음)에 대한 신용평가등급 및 기업신용평가에 따른 평점이 다른 경우에는 높은 평점으로 평가하며, 등급확인서를 제출하지 않은 경우에는 0점으로 평가합니다.
C21: 회사채 | D21: 기업어음 | E21: 기업신용
C22: AAA | D22: A1 | E22: AAA
C23: AA+ | D23: A2+ | E23: AA+
C24: AA0 | D24: A20 | E24: AA0
C25: AA- | D25: A2- | E25: AA-
C26: A+ | D26: A3+ | E26: A+
C27: A0 | D27: A30 | E27: A0
C28: A- | D28: A3- | E28: A-
C29: BBB+ | D29: B+ | E29: BBB+
C30: BBB0 | D30: B0 | E30: BBB0
C31: BBB- | D31: B- | E31: BBB-
C32: BB+ | D32: C 이하 | E32: BB+
C33: BB0 | D33: 미제출 | E33: BB0
C34: BB- | E34: BB-
C35: B+ | E35: B+
C36: B0 | E36: B0
C37: B- | E37: B-
C38: CCC+ 이하 | E38: CCC+ 이하
C39: 미제출 | E39: 미제출

Sheet 부실벌점
B1: □ 부실벌점 현황
B3: 1) 참여업체 부실벌점
B4: 업체명 | C4: 지분율 | D4: 부실벌점 내용 | E4: 부실벌점 | F4: 평가
B5: =참여업체!C6 -> A엔지니어링 | C5: =참여업체!$C$7 -> 0.9 | D5: 해당없음 | E5: 0 | F5: =IF(E5>=20,배점기준!$J$61,IF(E5>=15,배점기준!$I$61,IF(E5>=10,배점기준!$H$61,IF(E5>=5,배점기준!$G$61,IF(E5>=2,배점기준!$F$61,IF(E5>=1,배점기준!$E$61,0))))))*-1 -> 0
B6: =참여업체!D6 -> B엔지니어링 | C6: =참여업체!D7 -> 0.1 | D6: 2012년하반기- 2014년 상반기 | E6: 0.12 | F6: =IF(E6>=20,배점기준!$J$61,IF(E6>=15,배점기준!$I$61,IF(E6>=10,배점기준!$H$61,IF(E6>=5,배점기준!$G$61,IF(E6>=2,배점기준!$F$61,IF(E6>=1,배점기준!$E$61,0))))))*-1 -> 0
B9: 2) 참여기술인 부실벌점
B10: 참여분야 | C10: 성명 | D10: 부실벌점 내용 | E10: 부실벌점 | F10: 평가
B11: 사업책임기술자 | C11: AAA | D11: 해당없음 | E11: 0 | F11: =IF(E11>=20,배점기준!$J$61,IF(E11>=15,배점기준!$I$61,IF(E11>=10,배점기준!$H$61,IF(E11>=5,배점기준!$G$61,IF(E11>=2,배점기준!$F$61,IF(E11>=1,배점기준!$E$61,0))))))*-1 -> 0
B12: 분석및전산처리분야 책임기술자 | C12: BBB | D12: 해당없음 | E12: 0 | F12: =IF(E12>=20,배점기준!$J$61,IF(E12>=15,배점기준!$I$61,IF(E12>=10,배점기준!$H$61,IF(E12>=5,배점기준!$G$61,IF(E12>=2,배점기준!$F$61,IF(E12>=1,배점기준!$E$61,0))))))*-1 -> 0
B13: 전산처리분야 참여기술자 | C13: CCC | D13: 해당없음 | E13: 0 | F13: =IF(E13>=20,배점기준!$J$61,IF(E13>=15,배점기준!$I$61,IF(E13>=10,배점기준!$H$61,IF(E13>=5,배점기준!$G$61,IF(E13>=2,배점기준!$F$61,IF(E13>=1,배점기준!$E$61,0))))))*-1 -> 0
B14: 측량및계측분야 참여기술자 | C14: DDD | D14: 해당없음 | E14: 0 | F14: =IF(E14>=20,배점기준!$J$61,IF(E14>=15,배점기준!$I$61,IF(E14>=10,배점기준!$H$61,IF(E14>=5,배점기준!$G$61,IF(E14>=2,배점기준!$F$61,IF(E14>=1,배점기준!$E$61,0))))))*-1 -> 0
F15: =IF(E15>=20,배점기준!$J$61,IF(E15>=15,배점기준!$I$61,IF(E15>=10,배점기준!$H$61,IF(E15>=5,배점기준!$G$61,IF(E15>=2,배점기준!$F$61,IF(E15>=1,배점기준!$E$61,0))))))*-1 -> 0
B16: 계 | F16: =SUM(F11:F15) -> 0

Sheet 기술투자
A1: 5-3. 기술개발 및 투자실적(15점)
B3: □ 개발실적(2점)
B4: 업체명 | C4: 신기술 | D4: 점수 | E4: 특허 | H4: 소계 | I4: 점수 | J4: 실용신안 | L4: 소계 | M4: 점수 | N4: 지분율 | O4: 평가
E5: 5년미만 | F5: 5~10년 | G5: 10~20년 | J5: 5년미만 | K5: 5~10년
B6: =참여업체!C6 -> A엔지니어링 | C6: ='개발(주관)'!J4 -> 0 | D6: =C6*N6+C7*N7+C8*N8 -> 0 | E6: ='개발(주관)'!J14 -> 2.3333333 | F6: ='개발(주관)'!J10 -> 1.5 | G6: ='개발(주관)'!J6 -> 0 | H6: =(E6+F6*배점기준!$F$69+G6*배점기준!$G$69)*배점기준!$F$67 -> 2.12 | I6: =H6*N6+H7*N7+H8*N8 -> 1.908 | J6: 0 | K6: ='개발(주관)'!J16 -> 1 | L6: =(J6*배점기준!$E$70+K6*배점기준!$F$70)*배점기준!$G$67 -> 0.24 | M6: =L6*N6+L7*N7+L8*N8 -> 0.216 | N6: =참여업체!$C$7 -> 0.9 | O6: =IF((D6+I6+M6)>=배점기준!$C$66,배점기준!$C$66,(D6+I6+M6)) -> 2
B7: =참여업체!D6 -> B엔지니어링 | C7: ='개발(협력)'!J4 -> 0 | E7: ='개발(협력)'!J10 -> 0 | F7: ='개발(협력)'!J8 -> 0 | G7: ='개발(협력)'!J6 -> 0 | H7: =(E7+F7*배점기준!$F$69+G7*배점기준!$G$69)*배점기준!$F$67 -> 0 | K7: ='개발(협력)'!J12 -> 0 | L7: =(J7*배점기준!$E$70+K7*배점기준!$F$70)*배점기준!$G$67 -> 0 | N7: =참여업체!$D$7 -> 0.1
L8: =(J8*배점기준!$E$70+K8*배점기준!$F$70)*배점기준!$G$67 -> 0 | N8: =참여업체!$E$7 -> 0
B10: □ 투자실적(10점)
B11: 업체명 | C11: 년도별 | D11: 최근3년간(백만원) | F11: 비율 | G11: 비율평균 | H11: 지분율 | I11: 실적 | J11: 평가
D12: 투자금액 | E12: 건설매출
B13: =B6 -> A엔지니어링 | C13: 2023 | D13: 314 | E13: 6126 | F13: =IF(D13=0,"0",D13/E13) -> 0.051256938 | G13: =(D13+D14+D15)/(E13+E14+E15) -> 0.051796441 | H13: =참여업체!$C$7 -> 0.9 | I13: =G13*H13+G16*H16+G19*H19 -> 0.050558935 | J13: =IF(I13>=배점기준!$E$71,배점기준!$E$72,IF(I13>=배점기준!$F$71,배점기준!$F$72,IF(I13>=배점기준!$G$71,배점기준!$G$72,IF(I13>=배점기준!$H$71,배점기준!$H$72,IF(I13<배점기준!$I$71,배점기준!$I$72))))) -> 10
C14: 2024 | D14: 326 | E14: 5276 | F14: =IF(D14=0,"0",D14/E14) -> 0.061789234
C15: 2025 | D15: 274 | E15: 6244 | F15: =IF(D15=0,"0",D15/E15) -> 0.043882127
B16: =참여업체!D6 -> B엔지니어링 | C16: 2023 | D16: 6491 | E16: 140088 | F16: =IF(D16=0,"0",D16/E16) -> 0.046335161 | G16: =(D16+D17+D18)/(E16+E17+E18) -> 0.039421381 | H16: =참여업체!$D$7 -> 0.1
C17: 2024 | D17: 5817 | E17: 140368 | F17: =IF(D17=0,"0",D17/E17) -> 0.041441069
C18: 2025 | D18: 4452 | E18: 144694 | F18: =IF(D18=0,"0",D18/E18) -> 0.03076838
B23: □ 활용실적(3점)
B24: 업체명 | C24: 신기술 | E24: 특허 | G24: 실용신안 | I24: 지분율 | J24: 평가
C25: 점수 | D25: 소계 | E25: 점수 | F25: 소계 | G25: 점수 | H25: 소계
B26: =B6 -> A엔지니어링 | C26: ='활용(주관)'!J9 -> 0 | D26: =C26*I26+C27*I27+C28*I28 -> 1.8 | E26: ='활용(주관)'!J13 -> 1.128 | F26: =E26*I26+E27*I27+E28*I28 -> 1.0152 | G26: ='활용(주관)'!J16 -> 0.384 | H26: =G26*I26+G27*I27+G28*I28 -> 0.3456 | I26: =참여업체!$C$7 -> 0.9 | J26: =IF((D26+F26+H26)>=배점기준!$C$73,배점기준!$C$73,(D26+F26+H26)) -> 3
B27: =참여업체!D6 -> B엔지니어링 | C27: ='활용(협력)'!J28 -> 18 | E27: ='활용(협력)'!J30 -> 0 | G27: ='활용(협력)'!J32 -> 0 | I27: =참여업체!$D$7 -> 0.1
A31: 주) 1. | B31: 증빙서류는 공인회계사 또는 세무사가 증명한 최근 3회계년 투자실적입니다.
B32: (단, 투자실적에서 R&D사업 참여실적에 적용된 실적금액은 제외)

Sheet 개발(주관)
A1: □ 개발실적 | C1: =참여업체!C6 -> A엔지니어링 | G1: 입찰공고일 : | H1: =배점기준!$I$1 -> 45955
A2: 종류 | B2: 번호 | C2: 기술명 | D2: 기술개요 | E2: 최초출원인 | F2: 출원 인수 | G2: 지정(출원)일 | H2: 경과기간 | I2: 유효기간 | J2: 건수
A3: 건설신기술 | C3: 신기술명 | D3: 해당없음
A4: 신기술 소계 | J4: =SUM(J3:J3) -> 0
A5: 특허 | C5: 특허명 | D5: 해당없음
A6: 특허 20년미만 소계 | J6: =SUM(J5:J5) -> 0
A7: 특허 | B7: 1 | C7: 경사센서지지장치 | D7: 경사센서지지장치 | E7: ㈜ㅇㅇㅇ엔지니어링 외 1명 | F7: 2 | G7: 42548 | H7: =$H$1-G7 -> 3407 | I7: 46년 06월 | J7: =1/F7 -> 0.5
A8: 특허 | B8: 2 | C8: 내공 변위 측정 시스템 | D8: 내공 변위 측정 시스템 | E8: ㈜ㅇㅇㅇ엔지니어링 외 1명 | F8: 2 | G8: 42548 | H8: =$H$1-G8 -> 3407 | I8: 46년 06월 | J8: =1/F8 -> 0.5
A9: 특허 | B9: 3 | C9: 침출수위 측정기 | D9: 침출수위 측정기 | E9: ㈜ㅇㅇㅇ엔지니어링 외 1명 | F9: 2 | G9: 42779 | H9: =$H$1-G9 -> 3176 | I9: 47년 02월 | J9: =1/F9 -> 0.5
A10: 특허 10년미만 소계 | J10: =SUM(J7:J9) -> 1.5
A11: 특허 | B11: 4 | C11: 자동 지중경사계 측정센서장치 | D11: 자동 지중경사계 측정센서장치 | E11: ㈜ㅇㅇㅇ엔지니어링 | F11: 1 | G11: 44771 | H11: =$H$1-G11 -> 1184 | I11: 52년 07월 | J11: =1/F11 -> 1
A12: 특허 | B12: 5 | C12: 터널굴착방법 | D12: 터널굴착방법 | E12: ㈜ㅇㅇㅇ엔지니어링 외2명 | F12: 3 | G12: 45591 | H12: =$H$1-G12 -> 364 | I12: 54년 10월 | J12: =1/F12 -> 0.33333333
A13: 특허 | B13: 6 | C13: 지하수위계와 지중경사계 겸용측정관 및 그 측정관 설치방법 | D13: 지하수위계와 지중경사계 겸용측정관 및 그 측정관 설치방법 | E13: ㈜ㅇㅇㅇ엔지니어링 | F13: 1 | G13: 45735 | H13: =$H$1-G13 -> 220 | I13: 55년 03월 | J13: =1/F13 -> 1
A14: 특허 5년미만 소계 | J14: =SUM(J11:J13) -> 2.3333333
A15: 실용신안 | B15: 7 | C15: 연약지반 계측관리용 텔레스코픽 커플링 체결구조 | D15: 연약지반 계측관리용 텔레스코픽 커플링 체결구조 | E15: ㈜ㅇㅇㅇ엔지니어링 | F15: 1 | G15: 43920 | H15: =$H$1-G15 -> 2035 | I15: 40년 03월 | J15: =1/F15 -> 1
A16: 실용신안 10년미만 소계 | J16: =SUM(J15:J15) -> 1
A18: 주) 1. | B18: 증빙서류 좌측에 연번을 반드시 기재후 연번순서대로 제본하여야 합니다.
A19: 2. | B19: 경과기간은 출원일로부터 경과기간을 기재해야 하며, 2인이상 출원시 출원인수로 나누어 산정한 건수로 산정되어집니다.
A20: 3. | B20: 증빙서류는 최근 1월 이내에 관할기관에서 발행한 등본이어야 합니다.

Sheet 개발(협력)
A1: □ 개발실적 | C1: =참여업체!D6 -> B엔지니어링 | G1: 입찰공고일 : | H1: ='개발(주관)'!H1 -> 45955
A2: 종류 | B2: 번호 | C2: 기술명 | D2: 기술개요 | E2: 최초출원인 | F2: 출원 인수 | G2: 지정(출원)일 | H2: 경과기간 | I2: 유효기간 | J2: 건수
A3: 건설신기술 | C3: 신기술명 | D3: 해당없음
A4: 신기술 소계 | J4: =SUM(J3:J3) -> 0
A5: 특허 | C5: 특허명 | D5: 해당없음
A6: 특허 20년미만 소계 | J6: =SUM(J5:J5) -> 0
A7: 특허 | D7: 해당없음
A8: 특허 10년미만 소계 | J8: =SUM(J7:J7) -> 0
A9: 특허 | D9: 해당없음
A10: 특허 5년미만 소계 | J10: =SUM(J9:J9) -> 0
A11: 실용신안 | D11: 해당없음
A12: 실용신안 10년미만 소계 | J12: =SUM(J11:J11) -> 0
A14: 주) 1. | B14: 증빙서류 좌측에 연번을 반드시 기재후 연번순서대로 제본하여야 합니다.
A15: 2. | B15: 경과기간은 출원일로부터 경과기간을 기재해야 하며, 2인이상 출원시 출원인수로 나누어 산정한 건수로 산정되어집니다.
A16: 3. | B16: 증빙서류는 최근 1월 이내에 관할기관에서 발행한 등본이어야 합니다.

Sheet 활용(주관)
A1: □ 활용실적 | D1: =참여업체!C6 -> A엔지니어링
A3: 종류 | B3: 번호 | C3: 지정 번호 | D3: 기술명 | E3: 경과기간 가중치 | F3: 실적 금액 (백만원) | G3: 실적 건수 | H3: 금액 가중치 | I3: 건수 가중치 | J3: 점수 | K3: 비고
A4: 신기술 | H4: =IF(F4>=2000,1,IF(F4>=1800,0.9,IF(F4>=1600,0.8,IF(F4>=1400,0.7,IF(F4>=1200,0.6,0))))) -> 0 | I4: =IF(G4>=5,1,IF(G4>=4,0.9,IF(G4>=3,0.8,IF(G4>=2,0.7,IF(G4>=1,0.6,0))))) -> 0 | J4: =배점기준!$E$74*MAX(H4,I4)*E4 -> 0
A5: 신기술 | H5: =IF(F5>=2000,1,IF(F5>=1800,0.9,IF(F5>=1600,0.8,IF(F5>=1400,0.7,IF(F5>=1200,0.6,0))))) -> 0 | I5: =IF(G5>=5,1,IF(G5>=4,0.9,IF(G5>=3,0.8,IF(G5>=2,0.7,IF(G5>=1,0.6,0))))) -> 0 | J5: =배점기준!$E$74*MAX(H5,I5)*E5 -> 0
A6: 신기술 | H6: =IF(F6>=2000,1,IF(F6>=1800,0.9,IF(F6>=1600,0.8,IF(F6>=1400,0.7,IF(F6>=1200,0.6,0))))) -> 0 | I6: =IF(G6>=5,1,IF(G6>=4,0.9,IF(G6>=3,0.8,IF(G6>=2,0.7,IF(G6>=1,0.6,0))))) -> 0 | J6: =배점기준!$E$74*MAX(H6,I6)*E6 -> 0
A7: 신기술 | H7: =IF(F7>=2000,1,IF(F7>=1800,0.9,IF(F7>=1600,0.8,IF(F7>=1400,0.7,IF(F7>=1200,0.6,0))))) -> 0 | I7: =IF(G7>=5,1,IF(G7>=4,0.9,IF(G7>=3,0.8,IF(G7>=2,0.7,IF(G7>=1,0.6,0))))) -> 0 | J7: =배점기준!$E$74*MAX(H7,I7)*E7 -> 0
A8: 신기술 | H8: =IF(F8>=2000,1,IF(F8>=1800,0.9,IF(F8>=1600,0.8,IF(F8>=1400,0.7,IF(F8>=1200,0.6,0))))) -> 0 | I8: =IF(G8>=5,1,IF(G8>=4,0.9,IF(G8>=3,0.8,IF(G8>=2,0.7,IF(G8>=1,0.6,0))))) -> 0 | J8: =배점기준!$E$74*MAX(H8,I8)*E8 -> 0
A9: 신기술활용실적 소계 | J9: =SUM(J4:J8) -> 0
A10: 특허 | B10: 1 | C10: 10-0767751 | D10: 경사센서 지지장치 | E10: 0.8 | F10: 270 | G10: 1 | H10: =IF(F10>=2000,1,IF(F10>=1800,0.9,IF(F10>=1600,0.8,IF(F10>=1400,0.7,IF(F10>=1200,0.6,0))))) -> 0 | I10: =IF(G10>=5,1,IF(G10>=4,0.9,IF(G10>=3,0.8,IF(G10>=2,0.7,IF(G10>=1,0.6,0))))) -> 0.6 | J10: =배점기준!$F$74*MAX(H10,I10)*E10 -> 0.288
A11: 특허 | B11: 2 | C11: 10-0634483 | D11: 침출수위 측정기 | E11: 0.8 | F11: 33693 | G11: 5 | I11: =IF(G11>=5,1,IF(G11>=4,0.9,IF(G11>=3,0.8,IF(G11>=2,0.7,IF(G11>=1,0.6,0))))) -> 1 | J11: =배점기준!$F$74*MAX(H11,I11)*E11 -> 0.48
A12: 특허 | B12: 3 | C12: 10-1020125 | D12: 자동 지중경사계 측정센서장치 | E12: 1 | F12: 92349 | G12: 1 | I12: =IF(G12>=5,1,IF(G12>=4,0.9,IF(G12>=3,0.8,IF(G12>=2,0.7,IF(G12>=1,0.6,0))))) -> 0.6 | J12: =배점기준!$F$74*MAX(H12,I12)*E12 -> 0.36
A13: 특허활용실적 소계 | J13: =SUM(J10:J12) -> 1.128
A14: 실용 신안 | B14: 1 | C14: 20-0416324 | D14: 연약지반의 지하수위 및 침하계측구조 | E14: 0.8 | F14: 12280 | G14: 1 | I14: =IF(G14>=5,1,IF(G14>=4,0.9,IF(G14>=3,0.8,IF(G14>=2,0.7,IF(G14>=1,0.6,0))))) -> 0.6 | J14: =배점기준!$G$74*MAX(H14,I14)*E14 -> 0.144
A15: 실용 신안 | B15: 2 | C15: 20-0419890 | D15: 연약지반 계측관리용 텔레스코픽 커플링 체결구조 | E15: 0.8 | F15: 40312 | G15: 6 | I15: =IF(G15>=5,1,IF(G15>=4,0.9,IF(G15>=3,0.8,IF(G15>=2,0.7,IF(G15>=1,0.6,0))))) -> 1 | J15: =배점기준!$G$74*MAX(H15,I15)*E15 -> 0.24
A16: 실용신안 활용실적 소계 | J16: =SUM(J14:J15) -> 0.384

Sheet 활용(협력)
A1: □ 활용실적 | D1: =참여업체!D6 -> B엔지니어링
A2: 종류 | B2: 번호 | C2: 지정 번호 | D2: 기술명 | E2: 경과기간 가중치 | F2: 실적 금액 (백만원) | G2: 실적 건수 | H2: 금액 가중치 | I2: 건수 가중치 | J2: 점수 | K2: 비고
A3: 신기술 | B3: 1 | C3: 401 | D3: 바(Bar) 조립식 수팩커와 가지관 보수팩커를 이용한 하수관거 비굴착 부분보수공법 (Multi Point Liner System / MPL공법) | E3: 1 | F3: 1760 | G3: 6 | H3: =IF(F3>=2000,1,IF(F3>=1800,0.9,IF(F3>=1600,0.8,IF(F3>=1400,0.7,IF(F3>=1200,0.6,0))))) -> 0.8 | I3: =IF(G3>=5,1,IF(G3>=4,0.9,IF(G3>=3,0.8,IF(G3>=2,0.7,IF(G3>=1,0.6,0))))) -> 1 | J3: =배점기준!$E$74*MAX(H3,I3)*E3 -> 1
A4: 신기술 | B4: 2 | C4: 409 | D4: 고장력 연질보강튜브 직접삽입방식에 의한 하수관 비굴착 보수공법 | E4: 1 | F4: 1146 | G4: 1 | H4: =IF(F4>=2000,1,IF(F4>=1800,0.9,IF(F4>=1600,0.8,IF(F4>=1400,0.7,IF(F4>=1200,0.6,0))))) -> 0 | I4: =IF(G4>=5,1,IF(G4>=4,0.9,IF(G4>=3,0.8,IF(G4>=2,0.7,IF(G4>=1,0.6,0))))) -> 0.6 | J4: =배점기준!$E$74*MAX(H4,I4)*E4 -> 0.6
A5: 신기술 | B5: 3 | C5: 441 | D5: 수냉 비정질 C12A7계 시멘트 광물계 급결제와 복합에어인젝션 시스템으로 구성된 타설 장비를 이용한 습식 숏크리트 공법 | E5: 1 | F5: 1648 | G5: 2 | H5: =IF(F5>=2000,1,IF(F5>=1800,0.9,IF(F5>=1600,0.8,IF(F5>=1400,0.7,IF(F5>=1200,0.6,0))))) -> 0.8 | I5: =IF(G5>=5,1,IF(G5>=4,0.9,IF(G5>=3,0.8,IF(G5>=2,0.7,IF(G5>=1,0.6,0))))) -> 0.7 | J5: =배점기준!$E$74*MAX(H5,I5)*E5 -> 0.8
A6: 신기술 | B6: 4 | C6: 453 | D6: 단부의 측면에 설치된 정착장치와 연속 텐던을 이용한 PSC-I형 거더 합성교의 연속화 공법 | E6: 1 | F6: 2606 | G6: 4 | H6: =IF(F6>=2000,1,IF(F6>=1800,0.9,IF(F6>=1600,0.8,IF(F6>=1400,0.7,IF(F6>=1200,0.6,0))))) -> 1 | I6: =IF(G6>=5,1,IF(G6>=4,0.9,IF(G6>=3,0.8,IF(G6>=2,0.7,IF(G6>=1,0.6,0))))) -> 0.9 | J6: =배점기준!$E$74*MAX(H6,I6)*E6 -> 1
A7: 신기술 | B7: 5 | C7: 456 | D7: 일체형 견인, 반전창치를 이용한 견인 및 반전튜브 밀착 열경화 비굴착 관로보수공법 | E7: 1 | F7: 471 | G7: 2 | H7: =IF(F7>=2000,1,IF(F7>=1800,0.9,IF(F7>=1600,0.8,IF(F7>=1400,0.7,IF(F7>=1200,0.6,0))))) -> 0 | I7: =IF(G7>=5,1,IF(G7>=4,0.9,IF(G7>=3,0.8,IF(G7>=2,0.7,IF(G7>=1,0.6,0))))) -> 0.7 | J7: =배점기준!$E$74*MAX(H7,I7)*E7 -> 0.7
A8: 신기술 | B8: 6 | C8: 464 | D8: 조립식 프리캐스트 콘크리트 중공 슬래브 교량 시스템(PPC 교량 시스템) | E8: 1 | F8: 369 | G8: 1 | H8: =IF(F8>=2000,1,IF(F8>=1800,0.9,IF(F8>=1600,0.8,IF(F8>=1400,0.7,IF(F8>=1200,0.6,0))))) -> 0 | I8: =IF(G8>=5,1,IF(G8>=4,0.9,IF(G8>=3,0.8,IF(G8>=2,0.7,IF(G8>=1,0.6,0))))) -> 0.6 | J8: =배점기준!$E$74*MAX(H8,I8)*E8 -> 0.6
A9: 신기술 | B9: 7 | C9: 466 | D9: 하이브리드 바탕조정재 및 프리폴리머 피복재에 혼성섬유보강재를 혼입한 상수도 염소처리 구조물 방수,방식공법 | E9: 1 | F9: 348 | G9: 3 | H9: =IF(F9>=2000,1,IF(F9>=1800,0.9,IF(F9>=1600,0.8,IF(F9>=1400,0.7,IF(F9>=1200,0.6,0))))) -> 0 | I9: =IF(G9>=5,1,IF(G9>=4,0.9,IF(G9>=3,0.8,IF(G9>=2,0.7,IF(G9>=1,0.6,0))))) -> 0.8 | J9: =배점기준!$E$74*MAX(H9,I9)*E9 -> 0.8
A10: 신기술 | B10: 8 | C10: 482 | D10: 3점 나사식 경계석 받침대와 모따기가 고려된 경량 조립식 거푸집을 이용한 경계석과 측구의 일체형 시공법 | E10: 1 | F10: 42 | G10: 1 | H10: =IF(F10>=2000,1,IF(F10>=1800,0.9,IF(F10>=1600,0.8,IF(F10>=1400,0.7,IF(F10>=1200,0.6,0))))) -> 0 | I10: =IF(G10>=5,1,IF(G10>=4,0.9,IF(G10>=3,0.8,IF(G10>=2,0.7,IF(G10>=1,0.6,0))))) -> 0.6 | J10: =배점기준!$E$74*MAX(H10,I10)*E10 -> 0.6
A11: 신기술 | B11: 9 | C11: 488 | D11: 다단계 긴장을 도입한 하부플랜지 매립형 합성거더(Multi Stages Prestressed 합성거더)의 제작 기술 | E11: 1 | F11: 2451 | G11: 1 | H11: =IF(F11>=2000,1,IF(F11>=1800,0.9,IF(F11>=1600,0.8,IF(F11>=1400,0.7,IF(F11>=1200,0.6,0))))) -> 1 | I11: =IF(G11>=5,1,IF(G11>=4,0.9,IF(G11>=3,0.8,IF(G11>=2,0.7,IF(G11>=1,0.6,0))))) -> 0.6 | J11: =배점기준!$E$74*MAX(H11,I11)*E11 -> 1
A12: 신기술 | B12: 10 | C12: 492 | D12: 유리섬유 밀폐형 보강재(ALPS 수지, 충전제)를 사용한 하수관로 비굴착 부분보수공법(ALPS공법) | E12: 1 | F12: 880 | G12: 2 | H12: =IF(F12>=2000,1,IF(F12>=1800,0.9,IF(F12>=1600,0.8,IF(F12>=1400,0.7,IF(F12>=1200,0.6,0))))) -> 0 | I12: =IF(G12>=5,1,IF(G12>=4,0.9,IF(G12>=3,0.8,IF(G12>=2,0.7,IF(G12>=1,0.6,0))))) -> 0.7 | J12: =배점기준!$E$74*MAX(H12,I12)*E12 -> 0.7
A13: 신기술 | B13: 11 | C13: 496 | D13: 구성 부품의 마찰력과 공기의 압축저항을 이용한 충격흡수시설(CC2급)의 제작 및 설치기술 | E13: 1 | F13: 11 | G13: 1 | H13: =IF(F13>=2000,1,IF(F13>=1800,0.9,IF(F13>=1600,0.8,IF(F13>=1400,0.7,IF(F13>=1200,0.6,0))))) -> 0 | I13: =IF(G13>=5,1,IF(G13>=4,0.9,IF(G13>=3,0.8,IF(G13>=2,0.7,IF(G13>=1,0.6,0))))) -> 0.6 | J13: =배점기준!$E$74*MAX(H13,I13)*E13 -> 0.6
A14: 신기술 | B14: 12 | C14: 510 | D14: 어스오거와 유압장치를 이용한 저진동·저소음 다짐말뚝 공법(LVNCP공법) | E14: 1 | F14: 891 | G14: 1 | H14: =IF(F14>=2000,1,IF(F14>=1800,0.9,IF(F14>=1600,0.8,IF(F14>=1400,0.7,IF(F14>=1200,0.6,0))))) -> 0 | I14: =IF(G14>=5,1,IF(G14>=4,0.9,IF(G14>=3,0.8,IF(G14>=2,0.7,IF(G14>=1,0.6,0))))) -> 0.6 | J14: =배점기준!$E$74*MAX(H14,I14)*E14 -> 0.6
... A27: 신기술 | B27: 25 | C27: 603 | D27: PS강선 및 강봉의 일체긴장시스템을 이용하여 프리스트레스를 도입하는 PSC거더(Bicon거더)의 제작공법 | E27: 1 | F27: 2 | G27: 1 | H27: =IF(F27>=2000,1,IF(F27>=1800,0.9,IF(F27>=1600,0.8,IF(F27>=1400,0.7,IF(F27>=1200,0.6,0))))) -> 0 | I27: =IF(G27>=5,1,IF(G27>=4,0.9,IF(G27>=3,0.8,IF(G27>=2,0.7,IF(G27>=1,0.6,0))))) -> 0.6 | J27: =배점기준!$E$74*MAX(H27,I27)*E27 -> 0.6
A28: 신기술활용실적 소계 | J28: =SUM(J3:J27) -> 18
A29: 특허 | D29: 해당없음 | I29: =IF(G29>=5,1,IF(G29>=4,0.9,IF(G29>=3,0.8,IF(G29>=2,0.7,IF(G29>=1,0.6,0))))) -> 0 | J29: =배점기준!$F$74*MAX(H29,I29)*E29 -> 0
A30: 특허활용실적 소계 | J30: =SUM(J29:J29) -> 0
A31: 실용 신안 | D31: 해당없음 | I31: =IF(G31>=5,1,IF(G31>=4,0.9,IF(G31>=3,0.8,IF(G31>=2,0.7,IF(G31>=1,0.6,0))))) -> 0
A32: 실용신안 활용실적 소계 | J32: =SUM(J31:J31) -> 0

Sheet 중첩도
A1: 6. 업무중첩도 (10점)
B4: 업체명 | C4: 중복건수
C5: 구분 | D5: 사업책임기술자 (AAA) | E5: 분석및전산처리분야책임 (BBB) | F5: 전산처리담당 분야참여 (CCC) | G5: 측량및계측 분야참여 (DDD)
B6: =참여업체!C6 -> A엔지니어링 | C6: 중복해당여부 | D6: 아니요 | E6: 아니요 | F6: 아니요 | G6: 아니요
C7: 점수 | D7: =IF(D6="아니요",배점기준!$E$82,"0") -> 3 | E7: =IF(E6="아니요",배점기준!$E$83,"0") -> 4 | F7: =IF(F6="아니요",배점기준!$E$85,"0") -> 1.5 | G7: =IF(G6="아니요",배점기준!$E$86,"0") -> 1.5
C8: 평점 | D8: =D7 -> 3 | E8: =E7 -> 4 | F8: =F7+G7 -> 3

Sheet 가감점
A1: 7. 가감점
B3: 업체명 | C3: 지분율 | D3: 입찰불참 감점 | E3: 건설기술자 신규고용률 | F3: 젊은기술인 참여 | G3: 평 가
B5: =참여업체!C6 -> A엔지니어링 | C5: =참여업체!$C$7 -> 0.9 | D5: 0 | E5: 0.3 | F5: 0.2 | G5: =ROUND((D5+E5)*C5+(D6+E6)*C6+(D7+E7)*C7+F5,2) -> 0.5
B6: =참여업체!D6 -> B엔지니어링 | C6: =참여업체!$D$7 -> 0.1 | D6: 0 | E6: 0.3

Sheet 민간실적집계표
B1: ▣ 민간실적 현황
C2: 1) 용역실적증명서 2)계약서 3)세금계산서총괄표 4)세금계산서사본
A3: 유형 | B3: 번호 | C3: 참여용역명 | D3: 사업개요 | E3: 발주처 | F3: 준공 금액 (백만원) | G3: 용역기간 | I3: 비고
G4: 용역 계약일 | H4: 용역 준공일
A5: 회사 유사용역실적 | B5: 1 | C5: 00지구택지개발사업3단계조성공사 연약지반침하안정관리용역 | D5: 연약지반 침하안정관리용역 | E5: 한국토지 주택공사 | F5: 4890 | G5: 38265 | H5: 40268
B6: 2 | D6: 연약지반 계측용역 | F6: 217 | G6: 39861 | H6: 40418 | I6: 민간실적
B7: 3 | D7: 연약지반 계측용역 | F7: 244 | G7: 39517 | H7: 40421 | I7: 민간실적
B8: 4 | D8: 연약지반 침하안정관리용역 | F8: 986 | G8: 39562 | H8: 40602
B9: 5 | D9: 연약지반 침하안정관리용역 | F9: 166 | G9: 39604 | H9: 40698
B10: 6 | D10: 연약지반 침하안정관리용역 | F10: 1629 | G10: 39254 | H10: 40721
B11: 7 | D11: 연약지반 계측용역 | F11: 677 | G11: 40087 | H11: 40908 | I11: 민간실적
B12: 8 | D12: 연약지반 침하안정관리용역 | F12: 1031 | G12: 39904 | H12: 41029
B13: 9 | D13: 연약지반 침하안정관리용역 | F13: 812 | G13: 39790 | H13: 41049
B14: 10 | D14: 연약지반 계측용역 | F14: 105 | G14: 40262 | H14: 41090 | I14: 민간실적
B15: 11 | D15: 연약지반 침하안정관리용역 | F15: 965 | G15: 39650 | H15: 41172
B16: 12 | D16: 연약지반 계측용역 | F16: 381 | G16: 39374 | H16: 41234 | I16: 민간실적
B17: 13 | D17: 연약지반 침하안정관리용역 | F17: 313 | G17: 41046 | H17: 41321
B18: 14 | D18: - 연약지반침하안정관리용역 | F18: 914 | G18: 40014 | H18: 41517
B19: 15 | D19: 연약지반 침하안정관리용역 | F19: 1755 | G19: 39812 | H19: 41631
B20: 16 | D20: 연약지반 계측용역 | F20: 316 | G20: 40548 | H20: 41765 | I20: 민간실적
B21: 17 | D21: 연약지반 침하안정관리용역 | F21: 1914 | G21: 39944 | H21: 41894
A22: 기술자 유사용역실적 | B22: A | D22: 연약지반 계측용역 | F22: 597 | G22: 36705 | H22: 38503 | I22: 민간실적
B23: B | D23: - 연약지반침하안정관리용역 | F23: 831 | G23: 37817 | H23: 38898
B24: C | D24: - 연약지반침하안정관리용역 | F24: 875 | G24: 38353 | H24: 39082
B25: D | D25: - 연약지반 계측용역 | F25: 338 | G25: 38991 | H25: 39813 | I25: 민간실적
B26: E | D26: - 연약지반침하안정관리용역 | F26: 809 | G26: 39174 | H26: 39903
B27: F | D27: - 연약지반침하안정관리용역 | F27: 911 | G27: 39078 | H27: 39990
F28: =SUM(F5:F21) -> 17315 | J28: ='유사(주관)'!L21 -> 17320
