Workbook
Name 기준: 신용도!$P$38
Name 회사채: 신용도!$C$21:$C$39

Sheet 작성요령
A2: PQ 평가표 작성 요령
A4: 1. 점수입력시 색으로 표시된 부분에 입력하도록 하고, 산식으로 계산된 부분은 입력하지 않습니다.
A5: 2. 각 실적 입력 시트에 | D5: 색으로 표시된 셀은 집계표의 참조셀이므로 절대로 삭제하면 안됩니다.
A6: 3. 각 기술자별 시트의 유사용역 제외금액란에는 공고시 유사용역 범위 외에 해당하는 용역금액을 기입합니다.
A7: 4. 만약 평가지침과 본 평가표 양식의 차이가 발생할 시에는 평가지침의 내용을 따릅니다.
A8: 5. '배점'시트는 평가점수산정시 필요한 기준들을 기입한 시트로 참고만 합니다. 단, 기술제안서(기술자평가서) 평가 및 QBS미평가시 사업책임기술자의 관련 항목 배점은 조정합니다.
A9: 6. 평가부서에서는 업체에서 제출한 작성표를 근거로 관련 증빙자료 검증 후 점수를 조정할 수 있습니다.
A10: 7. 엑셀수식오류 및 업체의 양식임의변경으로 발생될 수 있는 오류에 대하여는 당사에서 책임지지 않으니, 업체산정점수와 엑셀산출점수를 확인 후 제출바랍니다.
A11: 8. 본 엑셀양식은 가로인쇄로 작성되어 있으며 인쇄후 평가서 제본시에는 접지않고 세로로 편철하여 제출하시기 바랍니다.
A12: 9. 추가로 증빙자료의 총괄 설명이 필요할시에는 임의양식으로 작성제출 하시기 바랍니다.
A13: 10. 엑셀서식오류 등 작성양식과 관련된 문의 사항은 본사 기술지원단 (055-922-5372)로 문의 바랍니다.
P23: =기술투자!#REF! -> #REF!

Sheet 참여업체
B2: 단지조성 등 설계용역
B4: 사업수행능력평가 참가업체
B6: 업체명 | C6: oo엔지니어링 | D6: ＊＊엔지니어링 | E6: ☆☆엔지니어링 | G6: 비고
B7: 지분율 | C7: 0.42 | D7: 0.33 | E7: 0.25
A8: 주) | B8: 공동도급인 경우에는 업체명과 각 해당 지분율을 입력합니다.
P23: =기술투자!#REF! -> #REF!

Sheet 배점기준
A1: 배점기준
A2: 항 목 | B2: 구분 | C2: 해당분야 | D2: 비율 | E2: 평가대상 인원수 | F2: 면적가중치적용 | H2: 면적기준 | I2: 보정계수
A3: 참여기술자 전문분야 별 비율 | B3: 분야1 | C3: 도시계획 | D3: 0.3 | E3: =COUNTA(C3:C8)*2+1 -> 11 | F3: 기준면적 | G3: 1500000 | H3: 150 | I3: 1
B4: 분야2 | C4: 토질지질 | D4: 0.1 | F4: 발주면적 | G4: 354000 | H4: 200 | I4: 0.93
B5: 분야3 | C5: 도로공항 | D5: 0.25 | F5: 면적가중치 | G5: =IF(G3>G4,100%,G3/G4) -> 1 | H5: 300 | I5: 0.86
B6: 분야4 | C6: 토목구조 | D6: 0.1 | F6: 발주금액 | G6: 1505779 | H6: 500 | I6: 0.78
B7: 분야5 | C7: 상하수도 | D7: 0.25 | F7: 면적가중치적용 | G7: =G6*G5 -> 1505779 | H7: 1000 | I7: 0.73
F8: 보정계수 | G8: =I9 -> 1 | H8: 2000 | I8: 0.71
B9: 소계 | D9: =SUM(D3:D8) -> 1 | F9: 보정계수적용금액 | G9: =G7/G8 -> 1505779 | H9: 직선보간법적용 | I9: =IF(G4/10000<=H3,I3,IF((G4/10000)<H4,I4+(H4-G4/10000)*((I3-I4)/(H4-H3)),IF(G4/10000<H5,I5+(H5-G4/10000)*((I4-I5)/(H5-H4)),IF(G4/10000<H6,I6+(H6-G4/10000)*((I5-I6)/(H6-H5)),IF(G4/10000<H7,I7+(H7-G4/10000)*((I6-I7)/(H7-H6)),I8))))) -> 1
A10: 항 목 | B10: 세부항목 | C10: 배점 | D10: 구분 | E10: 1순위 | F10: 2순위 | G10: 3순위 | H10: 4순위 | I10: 5순위
A11: 사업책임기술자 | B11: 1.등급 | C11: 4 | D11: 등급 | E11: 특급 | F11: 고급 | G11: 중급
D12: 점수 | E12: =C11 -> 4 | F12: =C11*0.8 -> 3.2 | G12: =C11*0.6 -> 2.4
B13: 2.기술능력 | C13: 0 | D13: 기준 | E13: 최우수 | F13: 우수 | G13: 보통 | H13: 미흡 | I13: 불량
D14: 점수 | E14: =$C$13 -> 0 | F14: =$C$13*0.8 -> 0 | G14: =$C$13*0.6 -> 0 | H14: =$C$13*0.4 -> 0 | I14: =$C$13*0.2 -> 0
B15: 3.업무관리능력 | C15: 0 | D15: 기준 | E15: 최우수 | F15: 우수 | G15: 보통 | H15: 미흡 | I15: 불량
D16: 점수 | E16: =$C$15 -> 0 | F16: =$C$15*0.8 -> 0 | G16: =$C$15*0.6 -> 0 | H16: =$C$15*0.4 -> 0 | I16: =$C$15*0.2 -> 0
A17: 분야별 책임기술자 | B17: 1. 등급 | C17: 5 | D17: 등급 | E17: 특급 | F17: 고급 | G17: 중급
D18: 점수 | E18: =C17 -> 5 | F18: =C17*0.8 -> 4 | G18: =C17*0.6 -> 3
D19: =C3 -> 도시계획 | E19: =E18*$D$3 -> 1.5 | F19: =F18*$D$3 -> 1.2 | G19: =G18*$D$3 -> 0.9
D20: =C4 -> 토질지질 | E20: =E18*$D$4 -> 0.5 | F20: =F18*$D$4 -> 0.4 | G20: =G18*$D$4 -> 0.3
D21: =C5 -> 도로공항 | E21: =E18*$D$5 -> 1.25 | F21: =F18*$D$5 -> 1 | G21: =G18*$D$5 -> 0.75
D22: =C6 -> 토목구조 | E22: =E18*$D$6 -> 0.5 | F22: =F18*$D$6 -> 0.4 | G22: =G18*$D$6 -> 0.3
D23: =C7 -> 상하수도 | E23: =E18*$D$7 -> 1.25 | F23: =F18*$D$7 -> 1 | G23: =G18*$D$7 -> 0.75 | P23: =기술투자!#REF! -> #REF!
A24: 분야별 참여기술자 | B24: 1. 등급 | C24: 2 | D24: 등급 | E24: 특급 | F24: 고급 | G24: 중급
D25: 점수 | E25: =C24 -> 2 | F25: =C24 -> 2 | G25: =C24*0.8 -> 1.6
D26: =D19 -> 도시계획 | E26: =E25*$D$3 -> 0.6 | F26: =F25*$D$3 -> 0.6 | G26: =G25*$D$3 -> 0.48
D27: =D20 -> 토질지질 | E27: =E25*$D$4 -> 0.2 | F27: =F25*$D$4 -> 0.2 | G27: =G25*$D$4 -> 0.16
D28: =D21 -> 도로공항 | E28: =E25*$D$5 -> 0.5 | F28: =F25*$D$5 -> 0.5 | G28: =G25*$D$5 -> 0.4
D29: =D22 -> 토목구조 | E29: =E25*$D$6 -> 0.2 | F29: =F25*$D$6 -> 0.2 | G29: =G25*$D$6 -> 0.16
D30: =D23 -> 상하수도 | E30: =E25*$D$7 -> 0.5 | F30: =F25*$D$7 -> 0.5 | G30: =G25*$D$7 -> 0.4
A31: 사업책임기술자 | B31: 4. 경력 | C31: 7 | D31: 경력 | E31: 20 | F31: 18 | G31: 16 | H31: 14 | I31: 14
D32: 점수 | E32: =$C$31*1 -> 7 | F32: =$C$31*0.9 -> 6.3 | G32: =$C$31*0.8 -> 5.6 | H32: =$C$31*0.7 -> 4.9 | I32: =$C$31*0.6 -> 4.2
B33: 5. 실적 | C33: 7 | D33: 실적 | E33: 10 | F33: 9 | G33: 8 | H33: 7 | I33: 7
D34: 점수 | E34: =$C$33*1 -> 7 | F34: =$C$33*0.9 -> 6.3 | G34: =$C$33*0.8 -> 5.6 | H34: =$C$33*0.7 -> 4.9 | I34: =$C$33*0.6 -> 4.2
B35: 6. 전차용역 | C35: 1 | D35: 기간 | E35: 3년이내 | F35: 5년이내 | G35: 참여도 | H35: 사업책임기술자 | I35: 1
D36: 비율 | E36: 1 | F36: 0.5 | H36: 분야별책임기술자 | I36: 0.7
A37: 분야별 책임기술자 | B37: 2. 경력 | C37: 8 | D37: 경력 | E37: 15 | F37: 13 | G37: 11 | H37: 9 | I37: 9
D38: 점수 | E38: =C37 -> 8 | F38: =$C$37*0.9 -> 7.2 | G38: =$C$37*0.8 -> 6.4 | H38: =$C$37*0.7 -> 5.6 | I38: =$C$37*0.6 -> 4.8
D39: =D19 -> 도시계획 | E39: =E38*$D$3 -> 2.4 | F39: =F38*$D$3 -> 2.16 | G39: =G38*$D$3 -> 1.92 | H39: =H38*$D$3 -> 1.68 | I39: =I38*$D$3 -> 1.44
D40: =D20 -> 토질지질 | E40: =E38*$D$4 -> 0.8 | F40: =F38*$D$4 -> 0.72 | G40: =G38*$D$4 -> 0.64 | H40: =H38*$D$4 -> 0.56 | I40: =I38*$D$4 -> 0.48
D41: =D21 -> 도로공항 | E41: =E38*$D$5 -> 2 | F41: =F38*$D$5 -> 1.8 | G41: =G38*$D$5 -> 1.6 | H41: =H38*$D$5 -> 1.4 | I41: =I38*$D$5 -> 1.2
D42: =D22 -> 토목구조 | E42: =E38*$D$6 -> 0.8 | F42: =F38*$D$6 -> 0.72 | G42: =G38*$D$6 -> 0.64 | H42: =H38*$D$6 -> 0.56 | I42: =I38*$D$6 -> 0.48
D43: =D23 -> 상하수도 | E43: =E38*$D$7 -> 2 | F43: =F38*$D$7 -> 1.8 | G43: =G38*$D$7 -> 1.6 | H43: =H38*$D$7 -> 1.4 | I43: =I38*$D$7 -> 1.2
B44: 3.실적 | C44: 9 | D44: 실적 | E44: 8 | F44: 7 | G44: 6 | H44: 5 | I44: 5
D45: 점수 | E45: =C44 -> 9 | F45: =$C$44*0.9 -> 8.1 | G45: =$C$44*0.8 -> 7.2 | H45: =$C$44*0.7 -> 6.3 | I45: =$C$44*0.6 -> 5.4
D46: =D19 -> 도시계획 | E46: =E45*$D$3 -> 2.7 | F46: =F45*$D$3 -> 2.43 | G46: =G45*$D$3 -> 2.16 | H46: =H45*$D$3 -> 1.89 | I46: =I45*$D$3 -> 1.62
D47: =D20 -> 토질지질 | E47: =E45*$D$4 -> 0.9 | F47: =F45*$D$4 -> 0.81 | G47: =G45*$D$4 -> 0.72 | H47: =H45*$D$4 -> 0.63 | I47: =I45*$D$4 -> 0.54
D48: =D21 -> 도로공항 | E48: =E45*$D$5 -> 2.25 | F48: =F45*$D$5 -> 2.025 | G48: =G45*$D$5 -> 1.8 | H48: =H45*$D$5 -> 1.575 | I48: =I45*$D$5 -> 1.35
D49: =D22 -> 토목구조 | E49: =E45*$D$6 -> 0.9 | F49: =F45*$D$6 -> 0.81 | G49: =G45*$D$6 -> 0.72 | H49: =H45*$D$6 -> 0.63 | I49: =I45*$D$6 -> 0.54
D50: =D23 -> 상하수도 | E50: =E45*$D$7 -> 2.25 | F50: =F45*$D$7 -> 2.025 | G50: =G45*$D$7 -> 1.8 | H50: =H45*$D$7 -> 1.575 | I50: =I45*$D$7 -> 1.35
A51: 분야별 참여기술자 | B51: 2. 경력 | C51: 3 | D51: 경력 | E51: 10 | F51: 8 | G51: 6 | H51: 4 | I51: 4
D52: 점수 | E52: =C51 -> 3 | F52: =$C$51*0.9 -> 2.7 | G52: =$C$51*0.8 -> 2.4 | H52: =$C$51*0.7 -> 2.1 | I52: =$C$51*0.6 -> 1.8
D53: =D26 -> 도시계획 | E53: =E52*$D$3 -> 0.9 | F53: =F52*$D$3 -> 0.81 | G53: =G52*$D$3 -> 0.72 | H53: =H52*$D$3 -> 0.63 | I53: =I52*$D$3 -> 0.54
D54: =D27 -> 토질지질 | E54: =E52*$D$4 -> 0.3 | F54: =F52*$D$4 -> 0.27 | G54: =G52*$D$4 -> 0.24 | H54: =H52*$D$4 -> 0.21 | I54: =I52*$D$4 -> 0.18
D55: =D28 -> 도로공항 | E55: =E52*$D$5 -> 0.75 | F55: =F52*$D$5 -> 0.675 | G55: =G52*$D$5 -> 0.6 | H55: =H52*$D$5 -> 0.525 | I55: =I52*$D$5 -> 0.45
D56: =D29 -> 토목구조 | E56: =E52*$D$6 -> 0.3 | F56: =F52*$D$6 -> 0.27 | G56: =G52*$D$6 -> 0.24 | H56: =H52*$D$6 -> 0.21 | I56: =I52*$D$6 -> 0.18
D57: =D30 -> 상하수도 | E57: =E52*$D$7 -> 0.75 | F57: =F52*$D$7 -> 0.675 | G57: =G52*$D$7 -> 0.6 | H57: =H52*$D$7 -> 0.525 | I57: =I52*$D$7 -> 0.45
B58: 3.실적 | C58: 3 | D58: 실적 | E58: 6 | F58: 5 | G58: 4 | H58: 3 | I58: 3
D59: 점수 | E59: =C58 -> 3 | F59: =$C$58*0.9 -> 2.7 | G59: =$C$58*0.8 -> 2.4 | H59: =$C$58*0.7 -> 2.1 | I59: =$C$58*0.6 -> 1.8
D60: =D26 -> 도시계획 | E60: =E59*$D$3 -> 0.9 | F60: =F59*$D$3 -> 0.81 | G60: =G59*$D$3 -> 0.72 | H60: =H59*$D$3 -> 0.63 | I60: =I59*$D$3 -> 0.54
D61: =D27 -> 토질지질 | E61: =E59*$D$4 -> 0.3 | F61: =F59*$D$4 -> 0.27 | G61: =G59*$D$4 -> 0.24 | H61: =H59*$D$4 -> 0.21 | I61: =I59*$D$4 -> 0.18
D62: =D28 -> 도로공항 | E62: =E59*$D$5 -> 0.75 | F62: =F59*$D$5 -> 0.675 | G62: =G59*$D$5 -> 0.6 | H62: =H59*$D$5 -> 0.525 | I62: =I59*$D$5 -> 0.45
D63: =D29 -> 토목구조 | E63: =E59*$D$6 -> 0.3 | F63: =F59*$D$6 -> 0.27 | G63: =G59*$D$6 -> 0.24 | H63: =H59*$D$6 -> 0.21 | I63: =I59*$D$6 -> 0.18
D64: =D30 -> 상하수도 | E64: =E59*$D$7 -> 0.75 | F64: =F59*$D$7 -> 0.675 | G64: =G59*$D$7 -> 0.6 | H64: =H59*$D$7 -> 0.525 | I64: =I59*$D$7 -> 0.45
A65: 참여기술자 | B65: 교육훈련 | C65: 1 | D65: 기간 | E65: 2주이상 | F65: 1주이상
D66: 점수 | E66: 1 | F66: 0.5
A67: 유사용역(회사) | B67: 1. 건수 | C67: 7 | D67: 건수 | E67: 3 | F67: 2 | G67: 1 | H67: 1
D68: 점수 | E68: =$C$67*1 -> 7 | F68: =$C$67*0.9 -> 6.3 | G68: =$C$67*0.8 -> 5.6 | H68: =$C$67*0.6 -> 4.2
D69: 건별산정기준 | E69: 2.1 | F69: 15 | G69: 30
E70: 0.7 | F70: 1 | G70: 1.3
B71: 2. 금액 | C71: 7 | D71: 2.5 | E71: 2 | F71: 1.5 | G71: 1 | H71: 0.5 | I71: 0.5
D72: =$C$71 -> 7 | E72: =$C$71*0.9 -> 6.3 | F72: =$C$71*0.8 -> 5.6 | G72: =$C$71*0.7 -> 4.9 | H72: =$C$71*0.6 -> 4.2 | I72: =$C$71*0.5 -> 3.5
B73: 3. 전차용역 | C73: 1 | D73: 기간 | E73: 3년이내 | F73: 5년이내
D74: 비율 | E74: 1 | F74: 0.5
A75: 신용도 | B75: 입찰참가제한 | C75: 7 | D75: 개월 | E75: 1 | F75: 12 | G75: 최소점수 =0
D76: 감점 | E76: -0.7 | F76: =12*-0.7 -> -8.4
B77: 기술자격정지 또는 업무정지 | D77: 개월 | E77: 3 | F77: 12
D78: 감점 | E78: -0.7 | F78: =4*-0.7 -> -2.8
B79: 부실벌점 | D79: 기준 | E79: 1점이상 2점미만 | F79: 2점이상 5점미만 | G79: 5점이상 10점미만 | H79: 10점이상 15점미만 | I79: 15점이상 20점미만 | J79: 20점 이상
D80: 점수 | E80: 0.2 | F80: 0.5 | G80: 1 | H80: 2 | I80: 3 | J80: 5
B81: 재정상태건실도 | C81: 3 | D81: 회사채 | E81: A-이상 | F81: A-미만BBB-이상 | G81: BBB-미만B-이상 | H81: CCC+ 이하 | I81: 미제출
D82: 기업어음 | E82: A2-이상 | F82: A2-미만A3+이상 | G82: A3+미만B-이상 | H82: C이하 | I82: 미제출
D83: 기업신용 | E83: A-이상 | F83: A-미만BBB-이상 | G83: BBB-미만B-이상 | H83: CCC+이하 | I83: 미제출
D84: 점수 | E84: =C81 -> 3 | F84: =$C$81*0.9 -> 2.7 | G84: =$C$81*0.8 -> 2.4 | H84: =$C$81*0.7 -> 2.1 | I84: 0
A85: 기술개발 및 투자실적 | B85: 개발실적 | C85: 2 | D85: 구분 | E85: 신기술 | F85: 특허 | G85: 실용신안
D86: 점수 | E86: 1 | F86: 0.6 | G86: 0.3
D87: 구분 | E87: 5년미만 | F87: 5~10년 | G87: 10~20년
D88: 특 허 | E88: 1 | F88: 0.8 | G88: 0.6
D89: 실용신안 | E89: 1 | F89: 0.8
B90: 투자실적 | C90: 10 | D90: 실적 | E90: 0.03 | F90: 0.025 | G90: 0.02 | H90: 0.015 | I90: 0.015
D91: 점수 | E91: =C90 -> 10 | F91: =$C$90*0.9 -> 9 | G91: =$C$90*0.8 -> 8 | H91: =$C$90*0.7 -> 7 | I91: =$C$90*0.6 -> 6
B92: 활용실적 | C92: 3 | D92: 구분 | E92: 신기술 | F92: 특허 | G92: 실용신안
D93: 점수 | E93: 1 | F93: 0.6 | G93: 0.3
D94: 구분 | E94: 5년미만 | F94: 5~10년 | G94: 10~20년
D95: 특 허 | E95: 1 | F95: 0.8 | G95: 0.6
D96: 실용신안 | E96: 1 | F96: 0.8
D97: 가중치 | E97: 1 | F97: 0.9 | G97: 0.8 | H97: 0.7 | I97: 0.6
D98: 활용건수(건) | E98: 5 | F98: 4 | G98: 3 | H98: 2 | I98: 1
D99: 활용금액(억원) | E99: 20 | F99: 18 | G99: 16 | H99: 14 | I99: 12
D100: * 활용실적에 따른 가중치는 활용건수, 활용금액 중 하나의 조건을 만족하면 인정
...

Sheet 기술자
A1: 1. 기술자 평가
B2: ○ 등 급(13점[11점])
C4: 구 분 | D4: 항목 | E4: 등급 | F4: 이적계수 | G4: 평가
C5: 사업책임기술자 | D5: 등급 | E5: 특급 | F5: 1 | G5: =IF(E5=배점기준!E11,배점기준!$E$12,IF(E5=배점기준!F11,배점기준!$F$12,IF(E5=배점기준!G11,배점기준!$G$12,0)))*F5 -> 4
D6: 기술능력 | E6: 0 | G6: =E6 -> 0
D7: 업무관리 | E7: 0 | G7: =E7 -> 0
C8: 분야별 책임기술자 | D8: 항목 | E8: =배점기준!D19 -> 도시계획 | F8: =배점기준!D20 -> 토질지질 | G8: =배점기준!D21 -> 도로공항 | H8: =배점기준!D22 -> 토목구조 | I8: =배점기준!D23 -> 상하수도 | J8: 평가
D9: 이적계수 | E9: 1 | F9: 1 | G9: 1 | H9: 1 | I9: 1 | J9: =SUM(E11:I11) -> 5
D10: 등급 | E10: 특급 | F10: 특급 | G10: 특급 | H10: 특급 | I10: 특급
D11: 점수 | E11: =IF(E10="특급",배점기준!$E$19,IF(E10="고급",배점기준!$F$19,IF(E10="중급",배점기준!$G$19,0)))*E9 -> 1.5 | F11: =IF(F10="특급",배점기준!$E$20,IF(F10="고급",배점기준!$F$20,IF(F10="중급",배점기준!$G$20,0)))*F9 -> 0.5 | G11: =IF(G10="특급",배점기준!$E$21,IF(G10="고급",배점기준!$F$21,IF(G10="중급",배점기준!$G$21,0)))*G9 -> 1.25 | H11: =IF(H10="특급",배점기준!$E$22,IF(H10="고급",배점기준!$F$22,IF(H10="중급",배점기준!$G$22,0)))*H9 -> 0.5 | I11: =IF(I10="특급",배점기준!$E$23,IF(I10="고급",배점기준!$F$23,IF(I10="중급",배점기준!$G$23,0)))*I9 -> 1.25
C12: 분야별 참여기술자 | D12: 이적계수 | E12: 1 | F12: 1 | G12: 1 | H12: 1 | I12: 1 | J12: =SUM(E14:I14) -> 2
D13: 등급 | E13: 특급 | F13: 특급 | G13: 특급 | H13: 특급 | I13: 특급
D14: 점수 | E14: =IF(E13="특급",배점기준!$E$26,IF(E13="고급",배점기준!$F$26,IF(E13="중급",배점기준!$G$26,0)))*E12 -> 0.6 | F14: =IF(F13="특급",배점기준!$E$27,IF(F13="고급",배점기준!$F$27,IF(F13="중급",배점기준!$G$27,0)))*F12 -> 0.2 | G14: =IF(G13="특급",배점기준!$E$28,IF(G13="고급",배점기준!$F$28,IF(G13="중급",배점기준!$G$28,0)))*G12 -> 0.5 | H14: =IF(H13="특급",배점기준!$E$29,IF(H13="고급",배점기준!$F$29,IF(H13="중급",배점기준!$G$29,0)))*H12 -> 0.2 | I14: =IF(I13="특급",배점기준!$E$30,IF(I13="고급",배점기준!$F$30,IF(I13="중급",배점기준!$G$30,0)))*I12 -> 0.5
B16: ○ 경력 및 실적(35점[37점])
C18: 구 분 | D18: 항목 | E18: 능력 | F18: 평가
C19: 사업책임기술자 | D19: 경력 | E19: 33.29 | F19: =IF(E19>=배점기준!$E$31,배점기준!$E$32,IF(E19>=배점기준!$F$31,배점기준!$F$32,IF(E19>=배점기준!$G$31,배점기준!$G$32,IF(E19>=배점기준!$H$31,배점기준!$H$32,IF(E19<배점기준!$I$31,배점기준!$I$32)))))*F5 -> 7
D20: 실적 | E20: ='사업책임기술자(000)'!P35 -> 0.25 | F20: =IF(E20>=배점기준!$E$33,배점기준!$E$34,IF(E20>=배점기준!$F$33,배점기준!$F$34,IF(E20>=배점기준!$G$33,배점기준!$G$34,IF(E20>=배점기준!$H$33,배점기준!$H$34,IF(E20<배점기준!$I$33,배점기준!$I$34)))))*F5 -> 4.2
C21: 분야별 책임기술자 | D21: 항목 | E21: =E8 -> 도시계획 | F21: =F8 -> 토질지질 | G21: =G8 -> 도로공항 | H21: =H8 -> 토목구조 | I21: =I8 -> 상하수도 | J21: 평가
D22: 경력 | E22: 17.12 | F22: 16.49 | G22: 31.46 | H22: 21.18 | I22: 16.46 | J22: =SUM(E23:I23) -> 8
D23: 점수 | E23: =IF(E22>=배점기준!$E$37,배점기준!$E$39,IF(E22>=배점기준!$F$37,배점기준!$F$39,IF(E22>=배점기준!$G$37,배점기준!$G$39,IF(E22>=배점기준!$H$37,배점기준!$H$39,IF(E22<배점기준!$I$37,배점기준!$I$39)))))*E9 -> 2.4 | F23: =IF(F22>=배점기준!$E$37,배점기준!$E$40,IF(F22>=배점기준!$F$37,배점기준!$F$40,IF(F22>=배점기준!$G$37,배점기준!$G$40,IF(F22>=배점기준!$H$37,배점기준!$H$40,IF(F22<배점기준!$I$37,배점기준!$I$40)))))*F9 -> 0.8 | G23: =IF(G22>=배점기준!$E$37,배점기준!$E$41,IF(G22>=배점기준!$F$37,배점기준!$F$41,IF(G22>=배점기준!$G$37,배점기준!$G$41,IF(G22>=배점기준!$H$37,배점기준!$H$41,IF(G22<배점기준!$I$37,배점기준!$I$41)))))*G9 -> 2 | H23: =IF(H22>=배점기준!$E$37,배점기준!$E$42,IF(H22>=배점기준!$F$37,배점기준!$F$42,IF(H22>=배점기준!$G$37,배점기준!$G$42,IF(H22>=배점기준!$H$37,배점기준!$H$42,IF(H22<배점기준!$I$37,배점기준!$I$42)))))*H9 -> 0.8 | I23: =IF(I22>=배점기준!$E$37,배점기준!$E$43,IF(I22>=배점기준!$F$37,배점기준!$F$43,IF(I22>=배점기준!$G$37,배점기준!$G$43,IF(I22>=배점기준!$H$37,배점기준!$H$43,IF(I22<배점기준!$I$37,배점기준!$I$43)))))*I9 -> 2
D24: 실적 | E24: ='도시계획책임(000)'!P9 -> 3 | F24: ='토질지질책임(000)'!P8 -> 3 | G24: ='도로공항책임(000)'!P8 -> 1.5 | H24: ='토목구조책임(000)'!P14 -> 2 | I24: ='상하수도분책(000)'!P9 -> 2.5 | J24: =SUM(E25:I25) -> 5.4
D25: 점수 | E25: =IF(E24>=배점기준!$E$44,배점기준!$E$46,IF(E24>=배점기준!$F$44,배점기준!$F$46,IF(E24>=배점기준!$G$44,배점기준!$G$46,IF(E24>=배점기준!$H$44,배점기준!$H$46,IF(E24<배점기준!$I$44,배점기준!$I$46)))))*E9 -> 1.62 | F25: =IF(F24>=배점기준!$E$44,배점기준!$E$47,IF(F24>=배점기준!$F$44,배점기준!$F$47,IF(F24>=배점기준!$G$44,배점기준!$G$47,IF(F24>=배점기준!$H$44,배점기준!$H$47,IF(F24<배점기준!$I$44,배점기준!$I$47)))))*F9 -> 0.54 | G25: =IF(G24>=배점기준!$E$44,배점기준!$E$48,IF(G24>=배점기준!$F$44,배점기준!$F$48,IF(G24>=배점기준!$G$44,배점기준!$G$48,IF(G24>=배점기준!$H$44,배점기준!$H$48,IF(G24<배점기준!$I$44,배점기준!$I$48)))))*G9 -> 1.35 | H25: =IF(H24>=배점기준!$E$44,배점기준!$E$49,IF(H24>=배점기준!$F$44,배점기준!$F$49,IF(H24>=배점기준!$G$44,배점기준!$G$49,IF(H24>=배점기준!$H$44,배점기준!$H$49,IF(H24<배점기준!$I$44,배점기준!$I$49)))))*H9 -> 0.54 | I25: =IF(I24>=배점기준!$E$44,배점기준!$E$50,IF(I24>=배점기준!$F$44,배점기준!$F$50,IF(I24>=배점기준!$G$44,배점기준!$G$50,IF(I24>=배점기준!$H$44,배점기준!$H$50,IF(I24<배점기준!$I$44,배점기준!$I$50)))))*I9 -> 1.35
C26: 분야별 참여기술자 | D26: 경력 | E26: 27.77 | F26: 28.6 | G26: 19.31 | H26: 26.9 | I26: 16.1 | J26: =SUM(E27:I27) -> 3
D27: 점수 | E27: =IF(E26>=배점기준!$E$51,배점기준!$E$53,IF(E26>=배점기준!$F$51,배점기준!$F$53,IF(E26>=배점기준!$G$51,배점기준!$G$53,IF(E26>=배점기준!$H$51,배점기준!$H$53,배점기준!$I$53))))*E12 -> 0.9 | F27: =IF(F26>=배점기준!$E$51,배점기준!$E$54,IF(F26>=배점기준!$F$51,배점기준!$F$54,IF(F26>=배점기준!$G$51,배점기준!$G$54,IF(F26>=배점기준!$H$51,배점기준!$H$54,배점기준!$I$54))))*F12 -> 0.3 | G27: =IF(G26>=배점기준!$E$51,배점기준!$E$55,IF(G26>=배점기준!$F$51,배점기준!$F$55,IF(G26>=배점기준!$G$51,배점기준!$G$55,IF(G26>=배점기준!$H$51,배점기준!$H$55,배점기준!$I$55))))*G12 -> 0.75 | H27: =IF(H26>=배점기준!$E$51,배점기준!$E$56,IF(H26>=배점기준!$F$51,배점기준!$F$56,IF(H26>=배점기준!$G$51,배점기준!$G$56,IF(H26>=배점기준!$H$51,배점기준!$H$56,배점기준!$I$56))))*H12 -> 0.3 | I27: =IF(I26>=배점기준!$E$51,배점기준!$E$57,IF(I26>=배점기준!$F$51,배점기준!$F$57,IF(I26>=배점기준!$G$51,배점기준!$G$57,IF(I26>=배점기준!$H$51,배점기준!$H$57,배점기준!$I$57))))*I12 -> 0.75
D28: 실적 | E28: ='도시계획참여(000)'!P12 -> 5.4735938 | F28: ='토질지질참여(000)'!P8 -> 3 | G28: ='도로공항참여(000)'!P8 -> 2.2109589 | H28: ='토목구조참여(000)'!P8 -> 2.2109589 | I28: ='상하수도참여(000)'!P8 -> 0.5 | J28: =SUM(E29:I29) -> 2.1
D29: 점수 | E29: =IF(E28>=배점기준!$E$58,배점기준!$E$60,IF(E28>=배점기준!$F$58,배점기준!$F$60,IF(E28>=배점기준!$G$58,배점기준!$G$60,IF(E28>=배점기준!$H$58,배점기준!$H$60,IF(E28<배점기준!$I$58,배점기준!$I$60)))))*E12 -> 0.81 | F29: =IF(F28>=배점기준!$E$58,배점기준!$E$61,IF(F28>=배점기준!$F$58,배점기준!$F$61,IF(F28>=배점기준!$G$58,배점기준!$G$61,IF(F28>=배점기준!$H$58,배점기준!$H$61,IF(F28<배점기준!$I$58,배점기준!$I$61)))))*F12 -> 0.21 | G29: =IF(G28>=배점기준!$E$58,배점기준!$E$62,IF(G28>=배점기준!$F$58,배점기준!$F$62,IF(G28>=배점기준!$G$58,배점기준!$G$62,IF(G28>=배점기준!$H$58,배점기준!$H$62,IF(G28<배점기준!$I$58,배점기준!$I$62)))))*G12 -> 0.45 | H29: =IF(H28>=배점기준!$E$58,배점기준!$E$63,IF(H28>=배점기준!$F$58,배점기준!$F$63,IF(H28>=배점기준!$G$58,배점기준!$G$63,IF(H28>=배점기준!$H$58,배점기준!$H$63,IF(H28<배점기준!$I$58,배점기준!$I$63)))))*H12 -> 0.18 | I29: =IF(I28>=배점기준!$E$58,배점기준!$E$64,IF(I28>=배점기준!$F$58,배점기준!$F$64,IF(I28>=배점기준!$G$58,배점기준!$G$64,IF(I28>=배점기준!$H$58,배점기준!$H$64,IF(I28<배점기준!$I$58,배점기준!$I$64)))))*I12 -> 0.45
B31: ○ 교육훈련 및 전차용역(2점)
C33: 교육훈련(1점) | D33: 2주이상 | E33: 1주이상 | F33: 평가
D34: 11 | F34: =(D34/배점기준!$E$3+E34/배점기준!$E$3*0.5) -> 1
C35: 전차용역 (1점) | D35: 전차용역범위 | E35: 시간경과 | F35: 참여도 | G35: 참여기간 | H35: 평가
H36: =D36*E36*F36*G36 -> 0

Sheet 종합
A1: 종 합 평 가 표
A3: 용 역 명: | B3: =참여업체!B2 -> 단지조성 등 설계용역
A4: 평가업체: | B4: =참여업체!C6&", "&참여업체!D6&", "&참여업체!E6&", "&참여업체!F6 -> oo엔지니어링, ＊＊엔지니어링, ☆☆엔지니어링,
A5: 평가항목 | D5: 세 부 사 항 | G5: LH평가 | H5: 자체평가 | I5: 점수 차
B6: 분 야 별 | C6: 배점 | D6: 항 목 | F6: 배 점
A7: Ⅰ.참여 기술자 [50] | B7: 1. 등급 및 사업책임 기술자 능력QBS) | C7: =SUM(F7:F11) -> 13 | D7: 등급 | E7: 사책 | F7: =배점기준!C11 -> 4 | G7: =기술자!G5 -> 4 | H7: 4 | I7: =G7-H7 -> 0
E8: 분책 | F8: =배점기준!C17 -> 5 | G8: =기술자!J9 -> 5 | H8: 5 | I8: =G8-H8 -> 0
E9: 참여 | F9: =배점기준!C24 -> 2 | G9: =기술자!J12 -> 2 | H9: 2 | I9: =G9-H9 -> 0
D10: 기술능력 | F10: 1 | G10: 1 | H10: 1 | I10: =G10-H10 -> 0
D11: 업무관리능력 | F11: 1 | G11: 1 | H11: 1 | I11: =G11-H11 -> 0
B12: 2. 경력,실적, 교육훈련,전차용역 | C12: =SUM(F12:F19) -> 37 | D12: 경력 | E12: 사책 | F12: 6 | G12: 6 | H12: 6 | I12: =G12-H12 -> 0
E13: 분책 | F13: =배점기준!C37 -> 8 | G13: =기술자!J22 -> 8 | H13: 8 | I13: =G13-H13 -> 0
E14: 참여 | F14: =배점기준!C51 -> 3 | G14: =기술자!J26 -> 3 | H14: 3 | I14: =G14-H14 -> 0
D15: 실적 | E15: 사책 | F15: 6 | G15: 6 | H15: 6 | I15: =G15-H15 -> 0
E16: 분책 | F16: =배점기준!C44 -> 9 | G16: =기술자!J24 -> 5.4 | H16: 5.4 | I16: =G16-H16 -> 0
E17: 참여 | F17: =배점기준!C58 -> 3 | G17: =기술자!J28 -> 2.1 | H17: 2.1 | I17: =G17-H17 -> 0
D18: 교육훈련 | F18: =배점기준!C65 -> 1 | G18: =기술자!F34 -> 1 | H18: 1 | I18: =G18-H18 -> 0
D19: 전차용역(기술자) | F19: =배점기준!C35 -> 1 | G19: =기술자!H36 -> 0 | H19: 0 | I19: =G19-H19 -> 0
A20: Ⅱ.참여 업체 [40] | B20: 3. 유사용역 수행실적 | C20: 15 | D20: 최근 5년간 | E20: 건수 | F20: =배점기준!C67 -> 7 | G20: =유사용역!H4 -> 6.3 | H20: 7 | I20: =G20-H20 -> -0.7
E21: 금액 | F21: =배점기준!C71 -> 7 | G21: =유사용역!H7 -> 7 | H21: 7 | I21: =G21-H21 -> 0
D22: 전차용역(업체) | F22: =배점기준!C73 -> 1 | G22: =유사용역!F11 -> 0 | H22: 0 | I22: =G22-H22 -> 0
B23: 4. 신용도 | C23: 10 | D23: 제한,정지,부실벌점 | F23: =배점기준!C75 -> 7 | G23: =신용도!L6 -> 7 | H23: 7 | I23: =G23-H23 -> 0
D24: 신용평가등급 | F24: =배점기준!C81 -> 3 | G24: =신용도!K13 -> 2.874 | H24: 2.874 | I24: =G24-H24 -> 0
B25: 5. 기술개발 및 투자 실적 | C25: 15 | D25: 개발실적 | F25: =배점기준!C85 -> 2 | G25: =기술투자!O6 -> 1.1041 | H25: 1.1041 | I25: =G25-H25 -> 0
D26: 투자실적 | F26: =배점기준!C90 -> 10 | G26: =기술투자!J13 -> 10 | H26: 10 | I26: =G26-H26 -> 0
D27: 활용실적 | F27: =배점기준!C92 -> 3 | G27: =기술투자!J26 -> 2.78372 | H27: 2.78372 | I27: =G27-H27 -> 0
A28: Ⅲ.업무중첩도[10] | C28: 10 | D28: 사책 | F28: =배점기준!C101 -> 4 | G28: =중복도!D8 -> 4 | H28: 4 | I28: =G28-H28 -> 0
D29: 분책 | F29: =배점기준!C102 -> 6 | G29: =중복도!J8 -> 5.67 | H29: 5.55 | I29: =G29-H29 -> 0.12
A30: Ⅳ.가감점 | D30: 가감점 | G30: =가감점!F5 -> 0 | H30: 0 | I30: =G30-H30 -> 0
A31: 계 | C31: =SUM(C7:C30) -> 100 | G31: =ROUND(SUM(G7:G30),2) -> 91.23 | H31: 91.81 | I31: =G31-H31 -> -0.58

Sheet 사업책임기술자(000)
B1: 사업책임기술자 실적 | C1: 김사책
B3: - 설계업체 근무실적 양식
A4: 번호 | B4: 참여용역명 | C4: 사업개요 | D4: 발주처 | E4: 준공금액 (백만원) | F4: 용역기간 | I4: 용역참여기간 | L4: 참여 전문분야 | M4: 유사용역 제외금액 (백만원) | N4: 유사용역 분야금액 (백만원) | O4: 실적 적용 구간 | P4: 적용 건수 | Q4: 비고
F5: 용역 착수일 | G5: 용역 준공일 | H5: 용역기간 (일) | I5: 참여 개시일 | J5: 참여 종료일 | K5: 참여기간 (일)
A6: 1 | B6: OOOOOO | C6: 근거법: 택지개발촉진법 위치:경기도 공명시 소하동, 하안동 일원 면적: 1,050,358.03㎡ (317,733평) 과업내용:(VAT포함) 개발계획 \ 69,326,000 실시계획(기본설계포함) \ 216,796,000 지구단위계획\99,045,000 환경영향평가\189,244,000 교통영향평가\113,145,000 재해영향평가\91,265 000 인구영향평가\54,606,000 | D6: OOO | E6: 833.427 | F6: 2002-04-30 | G6: 2006-01-13 | H6: =IF(G6-F6+1>=2*365,2*365,G6-F6+1) -> 730 | I6: 2002-04-30 | J6: 2006-01-13 | K6: =IF(J6-I6+1>=2*365,2*365,J6-I6+1) -> 730 | L6: 도시계획 | M6: =189+113+91+54 -> 447 | N6: =E6-M6 -> 386.427 | O6: =N6/(배점기준!$G$9/1000) -> 0.25662929 | P6: =(IF(N6<231,0,IF(O6>=2.5,3,IF(O6>=2,2,IF(O6>=1.5,1.5,IF(O6>=1,1,IF(O6>=0.5,0.5,0.25)))))))*K6/H6 -> 0.25
A7: =A6+1 -> 2
A8: =A7+1 -> 3
A9: =A8+1 -> 4
A10: =A9+1 -> 5
A11: =A10+1 -> 6
A12: =A11+1 -> 7
A13: =A12+1 -> 8
A14: =A13+1 -> 9
A15: =A14+1 -> 10
A16: =A15+1 -> 11
A17: =A16+1 -> 12
A18: =A17+1 -> 13
... A33: =A32+1 -> 28
A34: 소계 | P34: =SUM(P6:P33) -> 0.25
A35: 총계 | P35: =P34 -> 0.25
A36: 주) | B36: ※신고자의 실적에 해당하는 양식을 사용하여 작성합니다. 합계건수가 기술자 시트에 입력 되도록 확인합니다.
A37: 1 | B37: 참여기술자가 발주청 및 엔지니어 등 수행한 용역을 기초로 해당 양식을 사용하여 작성 합니다.
A38: 2 | B38: 발주청에서 직접 자체설계한 실적은 감독관리건수에 포함하여 작성합니다.
A39: 3 | B39: 과업참여기간이 30일 이상인 용역 참여건의 참여기간을 전체 계약기간 중 실제 참여기간에 대한 비율로 평가합니다. 다만, 최대용역기간은 24개월을 초과할 수 없도록 산식이 되어 있으며, 참여개월수 또한 24개월을 초과할 수 없습니다. 예를 들어 실제 용역기간이 48개월이고, 그 중에 24개월만 참여한 경우에는 비율 100% 적용을 받습니다.
A40: 4 | B40: 용역중지기간은 용역기간 및 참여기간에 포함시키지 않습니다.
A41: 5 | B41: 용역실적증명서(원본 또는 사본)를 첨부하고, 실적대조를 위하여 양식에 작성된 연번을 반드시 기재하시기 바라며, 연번 순서대로 제본하여야 합니다.
A42: 6 | B42: 용역실적증명서의 참여기술자 명단이 누락 되었거나, 참여기술자 명단에 해당 참여기술자가 누락된 경우에는 해당실적을 인정하지 않습니다.
A43: 7 | B43: 업체의 실적금액은 금번 시행하는 용역의 지침상 인정하는 범위에 해당하는 금액만을 실적으로 인정합니다. 발주청에서 시행한 지구단위계획용역 또는 과업내용 중 지구단위계획이 포함된 용역으로서 기본계획, 개발계획용역을 같이 수행한 경우에는 기본계획, 개발계획의 실적금액(설계관련 실적제외)을 모두 인정합니다. 단, 과업포함여부 확인은 발주청에서 발급한 실적증명서 상 과업내용으로 명확하게 명시된 경우에 한하여 인정합니다.
A44: 8 | B44: 영향평가, 기본및 실시설계, 실시계획 등의 유사용역 외의 실적에 해당금액은 유사용역 제외금액에 입력합니다.
A45: 9 | B45: 기입란은 행 삽입,삭제가 가능하며, 행삽입,삭제시 실적이 합계에서 누락되지 않도록 반드시 확인(기술자실적 시트) 주의해야 합니다.

Sheet 도시계획책임(000)
B1: 도시계획책임기술자 실적 | C1: 도책임
B4: - 설계업체 근무실적 양식
A5: 번호 | B5: 참여용역명 | C5: 사업개요 | D5: 발주처 | E5: 준공금액 (백만원) | F5: 용역기간 | I5: 용역참여기간 | L5: 참여 전문분야 | M5: 유사용역 제외금액 (백만원) | N5: 유사용역 분야금액 (백만원) | O5: 실적 적용 구간 | P5: 적용 건수 | Q5: 비고
F6: 용역 착수일 | G6: 용역 준공일 | H6: 용역기간 (일) | I6: 참여 개시일 | J6: 참여 종료일 | K6: 참여기간 (일)
A7: 1 | B7: 성남판교지구 택지개발사업 조사설계 용역(1단계) | C7: 근거법: 택지개발촉진법 | D7: 0 | E7: 10379 | F7: 37474 | G7: 40630 | H7: =IF(G7-F7+1>=2*365,2*365,G7-F7+1) -> 730 | I7: 37474 | J7: 39101 | K7: =IF(J7-I7+1>=2*365,2*365,J7-I7+1) -> 730 | L7: 도시계획 | M7: =539+218+76+279+92+247+173+580+2402+72+109+380 -> 5167 | N7: =E7-M7 -> 5212 | O7: =N7/(배점기준!$G$9/1000) -> 3.4613313 | P7: =(IF(N7<231,0,IF(O7>=2.5,3,IF(O7>=2,2,IF(O7>=1.5,1.5,IF(O7>=1,1,IF(O7>=0.5,0.5,0.25)))))))*K7/H7 -> 3
A8: 소계 | P8: =SUM(P7:P7) -> 3
A9: 총계 | P9: =P8 -> 3
A10: 주) | B10: ※신고자의 실적에 해당하는 양식을 사용하여 작성합니다. 합계건수가 기술자 시트에 입력 되도록 확인합니다.
A11: 1 | B11: 참여기술자가 발주청 및 엔지니어 등 수행한 용역을 기초로 해당 양식을 사용하여 작성 합니다.
A12: 2 | B12: 발주청에서 직접 자체설계한 실적은 감독관리건수에 포함하여 작성합니다.
A13: 3 | B13: 과업참여기간이 30일 이상인 용역 참여건의 참여기간을 전체 계약기간 중 실제 참여기간에 대한 비율로 평가합니다. 다만, 최대용역기간은 24개월을 초과할 수 없도록 산식이 되어 있으며, 참여개월수 또한 24개월을 초과할 수 없습니다. 예를 들어 실제 용역기간이 48개월이고, 그 중에 24개월만 참여한 경우에는 비율 100% 적용을 받습니다.
A14: 4 | B14: 용역중지기간은 용역기간 및 참여기간에 포함시키지 않습니다.
A15: 5 | B15: 용역실적증명서(원본 또는 사본)를 첨부하고, 실적대조를 위하여 양식에 작성된 연번을 반드시 기재하시기 바라며, 연번 순서대로 제본하여야 합니다.
A16: 6 | B16: 용역실적증명서의 참여기술자 명단이 누락 되었거나, 참여기술자 명단에 해당 참여기술자가 누락된 경우에는 해당실적을 인정하지 않습니다.
A17: 7 | B17: 업체의 실적금액은 금번 시행하는 용역의 지침상 인정하는 범위에 해당하는 금액만을 실적으로 인정합니다. 발주청에서 시행한 지구단위계획용역 또는 과업내용 중 지구단위계획이 포함된 용역으로서 기본계획, 개발계획용역을 같이 수행한 경우에는 기본계획, 개발계획의 실적금액(설계관련 실적제외)을 모두 인정합니다. 단, 과업포함여부 확인은 발주청에서 발급한 실적증명서 상 과업내용으로 명확하게 명시된 경우에 한하여 인정합니다.
A18: 8 | B18: 영향평가, 기본및 실시설계, 실시계획 등의 유사용역 외의 실적에 해당금액은 유사용역 제외금액에 입력합니다.
A19: 9 | B19: 기입란은 행 삽입,삭제가 가능하며, 행삽입,삭제시 실적이 합계에서 누락되지 않도록 반드시 확인(기술자실적 시트) 주의해야 합니다.

Sheet 토질지질책임(000)
B1: 토질지질분야 책임기술자 실적 | C1: 0
B3: - 설계업체 근무실적 양식
A4: 번호 | B4: 참여용역명 | C4: 사업개요 | D4: 발주처 | E4: 준공금액 (백만원) | F4: 용역기간 | I4: 용역참여기간 | L4: 참여 전문분야 | M4: 유사용역 제외금액 (백만원) | N4: 유사용역 분야금액 (백만원) | O4: 실적 적용 구간 | P4: 적용 건수 | Q4: 비고
F5: 용역 착수일 | G5: 용역 준공일 | H5: 용역기간 (일) | I5: 참여 개시일 | J5: 참여 종료일 | K5: 참여기간 (일)
A6: 1 | B6: 석문국가산업단지 개발사업 조사설계용역 | C6: 관련근거법:산업입지및개발에관한법률 면적:12,018,189㎡ | D6: 한국토지주택공사당진사업본부 | E6: 9891 | F6: 38425 | G6: 40899 | H6: =IF(G6-F6+1>=2*365,2*365,G6-F6+1) -> 730 | I6: 38425 | J6: 40899 | K6: =IF(J6-I6+1>=2*365,2*365,J6-I6+1) -> 730 | L6: 토질지질 | M6: 1287 | N6: =E6-M6 -> 8604 | O6: =N6/(배점기준!$G$9/1000) -> 5.7139859 | P6: =(IF(N6<231,0,IF(O6>=2.5,3,IF(O6>=2,2,IF(O6>=1.5,1.5,IF(O6>=1,1,IF(O6>=0.5,0.5,0.25)))))))*K6/H6 -> 3
A7: 소계 | P7: =SUM(P6:P6) -> 3
A8: 총계 | P8: =P7 -> 3

Sheet 도로공항책임(000)
B1: 도로및공항분야 책임기술자 실적 | C1: 0
B3: - 설계업체 근무실적 양식
A4: 번호 | B4: 참여용역명 | C4: 사업개요 | D4: 발주처 | E4: 준공금액 (백만원) | F4: 용역기간 | I4: 용역참여기간 | L4: 참여 전문분야 | M4: 유사용역 제외금액 (백만원) | N4: 유사용역 분야금액 (백만원) | O4: 실적 적용 구간 | P4: 적용 건수 | Q4: 비고
F5: 용역 착수일 | G5: 용역 준공일 | H5: 용역기간 (일) | I5: 참여 개시일 | J5: 참여 종료일 | K5: 참여기간 (일)
A6: 1 | B6: 은평지구 뉴타운 도시개발사업 조사설계 용역 | C6: ▣근거법:도시개발법 면적 : 3,492,421㎡ 기본계획:502,148,815원 기본및실시설계:1,744,167,431원 토질조사:341,897,536원 에너지사용계획:109,847,431원 지구단위계획:633,359,509원 문화재지표조사:25,267,955원 측량:390,058,858원 개발제한구역해제:8,421,600원 환경생태계획수립:8,421,600원 뉴타운기록화사업:85,100,000원 건축설계지침:111,655,000원 진관근린공원 기본계획: 107,045,001원 자원회수시설 기본계획 및 입찰 안내서 작성:128,894,475원 도시환경디자인:156,578,400원 지하수영향분석:85,248,000원 실개천 유지용수공급 방안 :44,862,400원 중심상업용지 개발관련 수요분석 및 시뮬레이션:47,843,400원 재정비촉진계획(변경)수립: 113,302,549원 문화재가치평가학술:46,200,000원 환경영향평가조사:154,156,746원 | D6: SH 공사 | E6: 4963 | F6: 2002-12-30 | G6: 2008-12-02 | H6: =IF(G6-F6+1>=2*365,2*365,G6-F6+1) -> 730 | I6: 2002-12-30 | J6: 2008-12-02 | K6: =IF(J6-I6+1>=2*365,2*365,J6-I6+1) -> 730 | L6: 도로및공항 | M6: =E6-N6 -> 2084 | N6: =502+1744+633 -> 2879 | O6: =N6/(배점기준!$G$9/1000) -> 1.9119672 | P6: =(IF(N6<231,0,IF(O6>=2.5,3,IF(O6>=2,2,IF(O6>=1.5,1.5,IF(O6>=1,1,IF(O6>=0.5,0.5,0.25)))))))*K6/H6 -> 1.5
A7: 소계 | P7: =SUM(P6:P6) -> 1.5
A8: 총계 | P8: =P7 -> 1.5

Sheet 토목구조책임(000)
B1: 토목구조분야 책임기술자 실적 | C1: OOO
B3: - 발주청 근무실적 양식
A4: 번호 | B4: 참여용역명 | C4: 사업개요 | D4: 발주처 | E4: 면적기준 (만㎡) | F4: 용역기간 | H4: 적용건수 (단지조성) | I4: 적용건수 (도로설계) | J4: 비고
F5: 착수일 | G5: 준공일
A6: 1 | B6: 용인흥덕지구 택지개발사업 조사설계용역 | C6: 근거법:택지개발촉진법 면적:2,139,000㎡ 토질조사:\219,000,000 기본계획:365,000,000 기본및실시설계:1,217,000,000 | D6: 한국토지주택공사 | E6: 213 | F6: 37386 | G6: 39447 | H6: =IF(E6>=330,3,IF(E6>=165,2,IF(E6>=65,1,IF(E6>=20,0.5,0.1)))) -> 2 | I6: 0
A7: 소계 | H7: =SUM(H6:H6)+SUM(I6:I6) -> 2
B9: - 설계업체 근무실적 양식
A10: 번호 | B10: 참여용역명 | C10: 사업개요 | D10: 발주처 | E10: 준공금액 (백만원) | F10: 용역기간 | I10: 용역참여기간 | L10: 참여 전문분야 | M10: 유사용역 제외금액 (백만원) | N10: 유사용역 분야금액 (백만원) | O10: 실적 적용 구간 | P10: 적용 건수 | Q10: 비고
F11: 용역 착수일 | G11: 용역 준공일 | H11: 용역기간 (일) | I11: 참여 개시일 | J11: 참여 종료일 | K11: 참여기간 (일)
B12: 은평지구 뉴타운 도시개발사업 조사설계 용역 | C12: ▣근거법:도시개발법 면적 : 3,492,421㎡ 기본계획:502,148,815원 기본및실시설계:1,744,167,431원 토질조사:341,897,536원 에너지사용계획:109,847,431원 지구단위계획:633,359,509원 문화재지표조사:25,267,955원 측량:390,058,858원 개발제한구역해제:8,421,600원 환경생태계획수립:8,421,600원 뉴타운기록화사업:85,100,000원 건축설계지침:111,655,000원 진관근린공원 기본계획: 107,045,001원 자원회수시설 기본계획 및 입찰 안내서 작성:128,894,475원 도시환경디자인:156,578,400원 지하수영향분석:85,248,000원 실개천 유지용수공급 방안 :44,862,400원 중심상업용지 개발관련 수요분석 및 시뮬레이션:47,843,400원 재정비촉진계획(변경)수립: 113,302,549원 문화재가치평가학술:46,200,000원 환경영향평가조사:154,156,746원 | D12: SH 공사 | E12: 4963 | F12: 2002-12-30 | G12: 2008-12-02 | H12: =IF(G12-F12+1>=2*365,2*365,G12-F12+1) -> 730 | I12: 2002-12-30 | J12: 2008-12-02 | K12: =IF(J12-I12+1>=2*365,2*365,J12-I12+1) -> 730 | L12: 도로및공항 | M12: =E12-N12 -> 4663 | N12: 300 | O12: =N12/(배점기준!$G$9/1000) -> 0.19923242 | P12: =(IF(N12<231,0,IF(O12>=2.5,3,IF(O12>=2,2,IF(O12>=1.5,1.5,IF(O12>=1,1,IF(O12>=0.5,0.5,0.25)))))))*K12/H12 -> 0.25
A13: 0 | P13: =SUM(P12:P12) -> 0.25
A14: 총계 | P14: =H7 -> 2

Sheet 상하수도분책(000)
B1: 상하수도분야 책임기술자 실적 | C1: OOO
B3: - 설계업체 근무실적 양식
A4: 번호 | B4: 참여용역명 | C4: 사업개요 | D4: 발주처 | E4: 준공금액 (백만원) | F4: 용역기간 | I4: 용역참여기간 | L4: 참여 전문분야 | M4: 유사용역 제외금액 (백만원) | N4: 유사용역 분야금액 (백만원) | O4: 실적 적용 구간 | P4: 적용 건수 | Q4: 비고
F5: 용역 착수일 | G5: 용역 준공일 | H5: 용역기간 (일) | I5: 참여 개시일 | J5: 참여 종료일 | K5: 참여기간 (일)
A6: 1 | B6: 화성청계 및 동지지구 택지개발사업 조사설계용역 | C6: 관련근거법:택지개발촉진법 면적:1,650,144㎡ | D6: 한국토지공사 동탄사업본부 | E6: 3283 | F6: 37993 | G6: 39527 | H6: =IF(G6-F6+1>=2*365,2*365,G6-F6+1) -> 730 | I6: 37993 | J6: 39527 | K6: =IF(J6-I6+1>=2*365,2*365,J6-I6+1) -> 730 | L6: 상하수도 | M6: 1488 | N6: =E6-M6 -> 1795 | O6: =N6/(배점기준!$G$9/1000) -> 1.192074 | P6: =(IF(N6<231,0,IF(O6>=2.5,3,IF(O6>=2,2,IF(O6>=1.5,1.5,IF(O6>=1,1,IF(O6>=0.5,0.5,0.25)))))))*K6/H6 -> 1
A7: 2 | B7: 대전도안지구 조성공사 3,4공구 실시설계 및 관리용역 | C7: 관련근거법:택지개발촉진법 면적:2,479,571㎡ | D7: 한국토지주택공사 대전충남지역본부 | E7: 2681 | F7: 38280 | G7: 40367 | H7: =IF(G7-F7+1>=2*365,2*365,G7-F7+1) -> 730 | I7: 38280 | J7: 40367 | K7: =IF(J7-I7+1>=2*365,2*365,J7-I7+1) -> 730 | L7: 상하수도 | M7: 0 | N7: =E7-M7 -> 2681 | O7: =N7/(배점기준!$G$9/1000) -> 1.7804738 | P7: =(IF(N7<231,0,IF(O7>=2.5,3,IF(O7>=2,2,IF(O7>=1.5,1.5,IF(O7>=1,1,IF(O7>=0.5,0.5,0.25)))))))*K7/H7 -> 1.5
A8: 소계 | P8: =SUM(P6:P7) -> 2.5
A9: 총계 | P9: =P8 -> 2.5

Sheet 도시계획참여(000)
B1: 도시계획참여기술자 실적 | C1: OOO
B3: - 설계업체 근무실적 양식
A4: 번호 | B4: 참여용역명 | C4: 사업개요 | D4: 발주처 | E4: 준공금액 (백만원) | F4: 용역기간 | I4: 용역참여기간 | L4: 참여 전문분야 | M4: 유사용역 제외금액 (백만원) | N4: 유사용역 분야금액 (백만원) | O4: 실적 적용 구간 | P4: 적용 건수 | Q4: 비고
F5: 용역 착수일 | G5: 용역 준공일 | H5: 용역기간 (일) | I5: 참여 개시일 | J5: 참여 종료일 | K5: 참여기간 (일)
A6: 1 | B6: 횡성둔내 일반지방산업단지 개발계획 수립용역 | C6: 근거법: 산입법 | D6: 강원도개발공사 | E6: 576 | F6: 39126 | G6: 40063 | H6: =IF(G6-F6+1>=2*365,2*365,G6-F6+1) -> 730 | I6: 39402 | J6: 40063 | K6: =IF(J6-I6+1>=2*365,2*365,J6-I6+1) -> 662 | L6: 도시계획 | M6: =62+50+62+37 -> 211 | N6: =E6-M6 -> 365 | O6: =N6/(배점기준!$G$9/1000) -> 0.24239945 | P6: =(IF(N6<231,0,IF(O6>=2.5,3,IF(O6>=2,2,IF(O6>=1.5,1.5,IF(O6>=1,1,IF(O6>=0.5,0.5,0.25)))))))*K6/H6 -> 0.22671233
A7: 2 | B7: 경서3구역도시개발사업실시계획 수립용역 | C7: 근거법: 도시개발법 | D7: 인천광역시 서구청 | E7: 1721 | F7: 39896 | G7: 40205 | H7: =IF(G7-F7+1>=2*365,2*365,G7-F7+1) -> 310 | I7: 39896 | J7: 40205 | K7: =IF(J7-I7+1>=2*365,2*365,J7-I7+1) -> 310 | L7: 도시계획 | M7: =145+125 -> 270 | N7: =E7-M7 -> 1451 | O7: =N7/(배점기준!$G$9/1000) -> 0.96362082 | P7: =(IF(N7<231,0,IF(O7>=2.5,3,IF(O7>=2,2,IF(O7>=1.5,1.5,IF(O7>=1,1,IF(O7>=0.5,0.5,0.25)))))))*K7/H7 -> 0.5
A8: 3 | B8: 매곡2 일반산업단지 계획수립용역 | C8: 근거법: 산입법 | D8: 울산광역시 | E8: 587 | F8: 39867 | G8: 40287 | H8: =IF(G8-F8+1>=2*365,2*365,G8-F8+1) -> 421 | I8: 39867 | J8: 40287 | K8: =IF(J8-I8+1>=2*365,2*365,J8-I8+1) -> 421 | L8: 도시계획 | M8: 17 | N8: =E8-M8 -> 570 | O8: =N8/(배점기준!$G$9/1000) -> 0.37854161 | P8: =(IF(N8<231,0,IF(O8>=2.5,3,IF(O8>=2,2,IF(O8>=1.5,1.5,IF(O8>=1,1,IF(O8>=0.5,0.5,0.25)))))))*K8/H8 -> 0.25
A9: 4 | B9: 화성향남2지구 택지개발사업 조사설계용역 | C9: 근거법: 택지개발촉진법 | D9: 한국토지 주택공사 | E9: 5453 | F9: 38530 | G9: 40298 | H9: =IF(G9-F9+1>=2*365,2*365,G9-F9+1) -> 730 | I9: 39402 | J9: 40298 | K9: =IF(J9-I9+1>=2*365,2*365,J9-I9+1) -> 730 | L9: 도시계획 | M9: =482+260+146+129 -> 1017 | N9: =E9-M9 -> 4436 | O9: =N9/(배점기준!$G$9/1000) -> 2.9459834 | P9: =(IF(N9<231,0,IF(O9>=2.5,3,IF(O9>=2,2,IF(O9>=1.5,1.5,IF(O9>=1,1,IF(O9>=0.5,0.5,0.25)))))))*K9/H9 -> 3
A10: 5 | B10: 반송 일반산업단지 계획수립용역 | C10: 근거법: 산입법 | D10: 울산광역시 | E10: 2665 | F10: 39896 | G10: 40376 | H10: =IF(G10-F10+1>=2*365,2*365,G10-F10+1) -> 481 | I10: 39896 | J10: 40375 | K10: =IF(J10-I10+1>=2*365,2*365,J10-I10+1) -> 480 | L10: 도시계획 | M10: 51 | N10: =E10-M10 -> 2614 | O10: =N10/(배점기준!$G$9/1000) -> 1.7359785 | P10: =(IF(N10<231,0,IF(O10>=2.5,3,IF(O10>=2,2,IF(O10>=1.5,1.5,IF(O10>=1,1,IF(O10>=0.5,0.5,0.25)))))))*K10/H10 -> 1.4968815
A11: 소계 | P11: =SUM(P6:P10) -> 5.4735938
A12: 총계 | P12: =P11 -> 5.4735938

Sheet 토질지질참여(000)
B1: 토질지질참여기술자 실적 | C1: OOO
B3: - 설계업체 근무실적 양식
A4: 번호 | B4: 참여용역명 | C4: 사업개요 | D4: 발주처 | E4: 준공금액 (백만원) | F4: 용역기간 | I4: 용역참여기간 | L4: 참여 전문분야 | M4: 유사용역 제외금액 (백만원) | N4: 유사용역 분야금액 (백만원) | O4: 실적 적용 구간 | P4: 적용 건수 | Q4: 비고
F5: 용역 착수일 | G5: 용역 준공일 | H5: 용역기간 (일) | I5: 참여 개시일 | J5: 참여 종료일 | K5: 참여기간 (일)
A6: 1 | B6: 화성계획도시 개발사업 조사설계 용역 | C6: ▣근거법:택지개발촉진법 위치 : 경기도 화성시 태안읍, 동탄면 일원 면적 : 9,036,055㎡ 토질조사:611,224,900원 기본계획:701,239,000원 기본설계:1,165,010,000원 실시설계:2,138,950,000원 조경기본설계:245,170,200원 교통영향평가:177,925,000원 환경영향평가:214,214,000원 재해영향평가:100,210,000원 인구영향평가:82,962,000원 특수구조물 토질조사: 216,044,410원 특수구조물 기본 및 실시설계: 1,207,222,500원 교통영향평가협의:92,103,000원 버스전용차로 기본계획 및 설계: 107,899,000원 | D6: 한국토지공사 | E6: 7147.954 | F6: 2001-04-30 | G6: 2006-07-29 | H6: =IF(G6-F6+1>=2*365,2*365,G6-F6+1) -> 730 | I6: 2001-04-30 | J6: 2006-07-29 | K6: =IF(J6-I6+1>=2*365,2*365,J6-I6+1) -> 730 | L6: 도시계획 | M6: =E6-N6 -> 2898.954 | N6: =701+2138+1165+245 -> 4249 | O6: =N6/(배점기준!$G$9/1000) -> 2.8217952 | P6: =(IF(N6<231,0,IF(O6>=2.5,3,IF(O6>=2,2,IF(O6>=1.5,1.5,IF(O6>=1,1,IF(O6>=0.5,0.5,0.25)))))))*K6/H6 -> 3
A7: 소계 | P7: =SUM(P6:P6) -> 3
A8: 총계 | P8: =P7 -> 3

Sheet 도로공항참여(000)
B1: 도로및공항참여기술자 실적 | C1: OOO
B3: - 설계업체 근무실적 양식
A4: 번호 | B4: 참여용역명 | C4: 사업개요 | D4: 발주처 | E4: 준공금액 (백만원) | F4: 용역기간 | I4: 용역참여기간 | L4: 참여 전문분야 | M4: 유사용역 제외금액 (백만원) | N4: 유사용역 분야금액 (백만원) | O4: 실적 적용 구간 | P4: 적용 건수 | Q4: 비고
F5: 용역 착수일 | G5: 용역 준공일 | H5: 용역기간 (일) | I5: 참여 개시일 | J5: 참여 종료일 | K5: 참여기간 (일)
A6: 1 | B6: 부산.진해경제자유구역 미음지구 개발사업 조사설계용역 | C6: 근거법: 경제자유구역의 지정 및 운영에 관한 법률, 산입법 | D6: 부산도시공사 | E6: 5963 | F6: 38967 | G6: 39785 | H6: =IF(G6-F6+1>=2*365,2*365,G6-F6+1) -> 730 | I6: 39248 | J6: 39785 | K6: =IF(J6-I6+1>=2*365,2*365,J6-I6+1) -> 538 | L6: 도로및공항 | M6: =357+429+210+86+42+44 -> 1168 | N6: =E6-M6 -> 4795 | O6: =N6/(배점기준!$G$9/1000) -> 3.1843982 | P6: =(IF(N6<231,0,IF(O6>=2.5,3,IF(O6>=2,2,IF(O6>=1.5,1.5,IF(O6>=1,1,IF(O6>=0.5,0.5,0.25)))))))*K6/H6 -> 2.2109589
A7: 소계 | P7: =SUM(P6:P6) -> 2.2109589
A8: 총계 | P8: =P7 -> 2.2109589
A9: 주) | B9: ※신고자의 실적에 해당하는 양식을 사용하여 작성합니다. 합계건수가 기술자 시트에 입력 되도록 확인합니다.
A10: 1 | B10: 참여기술자가 발주청 및 엔지니어 등 수행한 용역을 기초로 해당 양식을 사용하여 작성 합니다.
A11: 2 | B11: 발주청에서 직접 자체설계한 실적은 감독관리건수에 포함하여 작성합니다.
A12: 3 | B12: 과업참여기간이 30일 이상인 용역 참여건의 참여기간을 전체 계약기간 중 실제 참여기간에 대한 비율로 평가합니다. 다만, 최대용역기간은 24개월을 초과할 수 없도록 산식이 되어 있으며, 참여개월수 또한 24개월을 초과할 수 없습니다. 예를 들어 실제 용역기간이 48개월이고, 그 중에 24개월만 참여한 경우에는 비율 100% 적용을 받습니다.
A13: 4 | B13: 용역중지기간은 용역기간 및 참여기간에 포함시키지 않습니다.
A14: 5 | B14: 용역실적증명서(원본 또는 사본)를 첨부하고, 실적대조를 위하여 양식에 작성된 연번을 반드시 기재하시기 바라며, 연번 순서대로 제본하여야 합니다.
A15: 6 | B15: 용역실적증명서의 참여기술자 명단이 누락 되었거나, 참여기술자 명단에 해당 참여기술자가 누락된 경우에는 해당실적을 인정하지 않습니다.
A16: 7 | B16: 업체의 실적금액은 금번 시행하는 용역의 지침상 인정하는 범위에 해당하는 금액만을 실적으로 인정합니다. 발주청에서 시행한 지구단위계획용역 또는 과업내용 중 지구단위계획이 포함된 용역으로서 기본계획, 개발계획용역을 같이 수행한 경우에는 기본계획, 개발계획의 실적금액(설계관련 실적제외)을 모두 인정합니다. 단, 과업포함여부 확인은 발주청에서 발급한 실적증명서 상 과업내용으로 명확하게 명시된 경우에 한하여 인정합니다.
A17: 8 | B17: 영향평가, 기본및 실시설계, 실시계획 등의 유사용역 외의 실적에 해당금액은 유사용역 제외금액에 입력합니다.
A18: 9 | B18: 기입란은 행 삽입,삭제가 가능하며, 행삽입,삭제시 실적이 합계에서 누락되지 않도록 반드시 확인(기술자실적 시트) 주의해야 합니다.

Sheet 토목구조참여(000)
B1: 토목구조참여기술자 실적 | C1: OOO
B3: - 설계업체 근무실적 양식
A4: 번호 | B4: 참여용역명 | C4: 사업개요 | D4: 발주처 | E4: 준공금액 (백만원) | F4: 용역기간 | I4: 용역참여기간 | L4: 참여 전문분야 | M4: 유사용역 제외금액 (백만원) | N4: 유사용역 분야금액 (백만원) | O4: 실적 적용 구간 | P4: 적용 건수 | Q4: 비고
F5: 용역 착수일 | G5: 용역 준공일 | H5: 용역기간 (일) | I5: 참여 개시일 | J5: 참여 종료일 | K5: 참여기간 (일)
A6: 1 | B6: 부산.진해경제자유구역 미음지구 개발사업 조사설계용역 | C6: 근거법: 경제자유구역의 지정 및 운영에 관한 법률, 산입법 | D6: 부산도시공사 | E6: 5963 | F6: 38967 | G6: 39785 | H6: =IF(G6-F6+1>=2*365,2*365,G6-F6+1) -> 730 | I6: 39248 | J6: 39785 | K6: =IF(J6-I6+1>=2*365,2*365,J6-I6+1) -> 538 | L6: 도로및공항 | M6: =357+429+210+86+42+44 -> 1168 | N6: =E6-M6 -> 4795 | O6: =N6/(배점기준!$G$9/1000) -> 3.1843982 | P6: =(IF(N6<231,0,IF(O6>=2.5,3,IF(O6>=2,2,IF(O6>=1.5,1.5,IF(O6>=1,1,IF(O6>=0.5,0.5,0.25)))))))*K6/H6 -> 2.2109589
A7: 소계 | P7: =SUM(P6:P6) -> 2.2109589
A8: 총계 | P8: =P7 -> 2.2109589
A9: 주) | B9: ※신고자의 실적에 해당하는 양식을 사용하여 작성합니다. 합계건수가 기술자 시트에 입력 되도록 확인합니다.
A10: 1 | B10: 참여기술자가 발주청 및 엔지니어 등 수행한 용역을 기초로 해당 양식을 사용하여 작성 합니다.
A11: 2 | B11: 발주청에서 직접 자체설계한 실적은 감독관리건수에 포함하여 작성합니다.
A12: 3 | B12: 과업참여기간이 30일 이상인 용역 참여건의 참여기간을 전체 계약기간 중 실제 참여기간에 대한 비율로 평가합니다. 다만, 최대용역기간은 24개월을 초과할 수 없도록 산식이 되어 있으며, 참여개월수 또한 24개월을 초과할 수 없습니다. 예를 들어 실제 용역기간이 48개월이고, 그 중에 24개월만 참여한 경우에는 비율 100% 적용을 받습니다.
A13: 4 | B13: 용역중지기간은 용역기간 및 참여기간에 포함시키지 않습니다.
A14: 5 | B14: 용역실적증명서(원본 또는 사본)를 첨부하고, 실적대조를 위하여 양식에 작성된 연번을 반드시 기재하시기 바라며, 연번 순서대로 제본하여야 합니다.
A15: 6 | B15: 용역실적증명서의 참여기술자 명단이 누락 되었거나, 참여기술자 명단에 해당 참여기술자가 누락된 경우에는 해당실적을 인정하지 않습니다.
A16: 7 | B16: 업체의 실적금액은 금번 시행하는 용역의 지침상 인정하는 범위에 해당하는 금액만을 실적으로 인정합니다. 발주청에서 시행한 지구단위계획용역 또는 과업내용 중 지구단위계획이 포함된 용역으로서 기본계획, 개발계획용역을 같이 수행한 경우에는 기본계획, 개발계획의 실적금액(설계관련 실적제외)을 모두 인정합니다. 단, 과업포함여부 확인은 발주청에서 발급한 실적증명서 상 과업내용으로 명확하게 명시된 경우에 한하여 인정합니다.
A17: 8 | B17: 영향평가, 기본및 실시설계, 실시계획 등의 유사용역 외의 실적에 해당금액은 유사용역 제외금액에 입력합니다.
A18: 9 | B18: 기입란은 행 삽입,삭제가 가능하며, 행삽입,삭제시 실적이 합계에서 누락되지 않도록 반드시 확인(기술자실적 시트) 주의해야 합니다.

Sheet 상하수도참여(000)
B1: 상하수도 참여기술자 실적 | C1: OOO
B3: - 설계업체 근무실적 양식
A4: 번호 | B4: 참여용역명 | C4: 사업개요 | D4: 발주처 | E4: 준공금액 (백만원) | F4: 용역기간 | I4: 용역참여기간 | L4: 참여 전문분야 | M4: 유사용역 제외금액 (백만원) | N4: 유사용역 분야금액 (백만원) | O4: 실적 적용 구간 | P4: 적용 건수 | Q4: 비고
F5: 용역 착수일 | G5: 용역 준공일 | H5: 용역기간 (일) | I5: 참여 개시일 | J5: 참여 종료일 | K5: 참여기간 (일)
A6: 1 | B6: 안성공도지구 택지개발사업 조사설계 용역 | C6: ▣근거법:택지개발촉진법 위치 : 안성시 공도읍 만정리, 승두리,용두리일원 면적 : 478,860.7㎡ 항공측량:41,400,000원 토질조사및시험:71,794,000원 기본계획:80,600,000원 기본설계:177,100,000원 실시설계:353,100,000원 환경영향평가:150,200,000원 교통영향평가:107,300,000원 재해영향평가:128,800,000원 지구단위계획:432,200,000원 경관형성계획:55,864,000원 에너지사용계획:58,197,000원 | D6: 경기지방공사 | E6: 2202 | F6: 36894 | G6: 39204 | H6: =IF(G6-F6+1>=2*365,2*365,G6-F6+1) -> 730 | I6: 36894 | J6: 39204 | K6: =IF(J6-I6+1>=2*365,2*365,J6-I6+1) -> 730 | L6: 상하수도 | M6: =2202-80.6-177.1-353.1-432.2-58.1 -> 1100.9 | N6: =E6-M6 -> 1101.1 | O6: =N6/(배점기준!$G$9/1000) -> 0.73124941 | P6: =(IF(N6<231,0,IF(O6>=2.5,3,IF(O6>=2,2,IF(O6>=1.5,1.5,IF(O6>=1,1,IF(O6>=0.5,0.5,0.25)))))))*K6/H6 -> 0.5
A7: 소계 | P7: =SUM(P6:P6) -> 0.5
A8: 총계 | P8: =P7 -> 0.5

Sheet 교육훈련
B1: 참여기술자 교육실적
B3: 참여분야 | C3: 성 명 | D3: 교육과정명 | E3: 교육기간 | F3: 교육기관 | G3: 평점
B4: 2주이상교육자 (11)인
B5: 사 업 책 임 | C5: ooo
B6: 도시계획 책임 | C6: ooo
B7: 토질·지질 책임 | C7: ooo
B8: 도로및공항 책임 | C8: ooo
B9: 토목구조 책임 | C9: ooo
B10: 상하수도 책임 | C10: ooo
B11: 도시계획 참여 | C11: ooo
B12: 토질·지질 참여 | C12: ooo
B13: 도로및공항 참여 | C13: ooo
B14: 토목구조 참여 | C14: ooo
B15: 상하수도 참여 | C15: ooo
B16: 계 | D16: (11/11)×1 = 1.0 | G16: 1
P18: =기술투자!#REF! -> #REF!

Sheet 전차용역(기술자)
B1: 전차용역수행 현황
B3: 전차용역명 | C3: "해당사항 없음"
B4: 계약기간
B5: 착공일 | E5: 준공일
B6: 전차용역의범위
B7: 계약금액 | F7: 용역참여기술자 참여율
B8: 사업책임 기술자 | C8: 전차참여분야 | D8: 성명 | E8: 경과기간(년) | F8: 계약기간(월) | G8: 참여기간(월) | H8: 참여적용비율
C9: 사업책임 OR 분야별책임
B12: 주) 1. | C12: 해당 전차용역 현황을 기재하시기 바랍니다.
B13: 2. | C13: 용역에 참여한 기술자(사책,분책)현황을 기재합니다.
P23: =기술투자!#REF! -> #REF!

Sheet 유사용역
A1: 2. 유사용역 수행실적(15점)
B3: 항목 | C3: 업체명 | D3: 실적 | E3: 지분율 | F3: 소계 | H3: 평가
B4: 실적건수 (건) | C4: =참여업체!C6 -> oo엔지니어링 | D4: ='유사(000)'!M10 -> 2.57 | E4: =참여업체!C7 -> 0.42 | F4: =(D4*E4)+(D5*E5)+(D6*E6) -> 2.25765 | H4: =IF(F4>=배점기준!$E$67,배점기준!$E$68,IF(F4>=배점기준!$F$67,배점기준!$F$68,IF(F4>=배점기준!$G$67,배점기준!$G$68,배점기준!$H$68))) -> 6.3
C5: =참여업체!D6 -> ＊＊엔지니어링 | D5: ='유사(0001)'!M8 -> 1.45 | E5: =참여업체!D7 -> 0.33
C6: =참여업체!E6 -> ☆☆엔지니어링 | D6: ='유사(0002)'!M10 -> 2.799 | E6: =참여업체!E7 -> 0.25
B7: 실적금액 (억원) | C7: =C4 -> oo엔지니어링 | D7: ='유사(000)'!K10 -> 9110.888 | E7: =참여업체!C7 -> 0.42 | F7: =(D7*E7)+(D8*E8)+(D9*E9) -> 7074.4035 | G7: =F7/(배점기준!G6/1000) -> 4.6981685 | H7: =(IF(G7>=배점기준!D71,배점기준!D72,IF(G7>=배점기준!E71,배점기준!E72,IF(G7>=배점기준!F71,배점기준!F72,IF(G7>=배점기준!G71,배점기준!G72,IF(G7>=배점기준!H71,배점기준!H72,배점기준!I72)))))) -> 7
C8: =C5 -> ＊＊엔지니어링 | D8: ='유사(0001)'!K8 -> 7416.1 | E8: =참여업체!D7 -> 0.33
C9: =C6 -> ☆☆엔지니어링 | D9: ='유사(0002)'!K10 -> 3202.07 | E9: =참여업체!E7 -> 0.25
B10: 전차용역 (1점) (배점한도) | C10: 전차용역범위 | D10: 시간경과 | E10: 참여 지분율 | F10: 평가
F11: =C11*D11*E11 -> 0
P21: =기술투자!#REF! -> #REF!

Sheet 유사(000)
A1: ▣ 용역 수행실적 | C1: =참여업체!C6 -> oo엔지니어링
A2: 번호 | B2: 참여용역명 | C2: 사업개요 | D2: 발주처 | E2: 용역기간 | G2: 준공 금액 (백만원) | H2: 실적제외금액(백만원) | I2: 도급 지분 | J2: 적용금액 (백만원) | K2: 실적금액 (백만원) | L2: 용역건수 (지분율 미반영) | M2: 실적건수 (지분율 반영) | N2: 비고
E3: 용역 계약일 | F3: 용역 준공일 | P3: 사업번호
A4: 1 | B4: 파주출판문화정보 국가산업단지 2단계 조사설계 용역 | C4: 근거법:산업입지및개발에 관한법률 면적:687,896㎡ 위치:파주시교하읍문발리, 산남리,신촌리,서패리일원 기본설계보완:68,871,000원 기본및실시설계:554,906,000원 토질조사:183,381,000원 조경기본계획:16,082,000원 교통영향평가:82,181,000원 재해영향평가:82,742,000원 현황측량:130,900,000원 배수펌프장기본및실시설계: 584,320,000원 유량조정조기본및실시설계: 31,410,720원 진입도로기본및실시설계: 120,297,100원 개발계획및실시계획.인허가: 83,725,180 | D4: 한국토지공사 | E4: 37972 | F4: 41264 | G4: 1938 | H4: =1938-68.8-554.9-16-584.3-31.4-120.2 -> 562.4 | I4: 0.5 | J4: =IF(G4-H4<231,0,G4-H4) -> 1375.6 | K4: =J4*I4 -> 687.8 | L4: =(IF(J4<배점기준!$E$69*100,0,IF(J4<배점기준!$F$69*100,배점기준!$E$70,IF(J4<배점기준!$G$69*100,배점기준!$F$70,배점기준!$G$70)))) -> 0.7 | M4: =I4*L4 -> 0.35
A5: =A4+1 -> 2 | B5: 평택오성 지방산업단지 조성사업 조사설계 용역 | C5: ▣근거법:산업입지및개발에관한법률 위치:경기도 평택시 오성면 양교리, 청북면 토진.후사리 일원 면적:600,978㎡ 토질조사및시험:46,594,900원 에너지사용계획:38,326,000원 기본계획:158,479,200원 기본및실시설계:886,882,700원 광역교통개선대책:22,899,800원 도시기본계획(변경)수립: 88,330,000원 환경영향평가:256,183,400원 사전재해영향성검토:18,969,500원 교통영향평가:137,575,900원 측량:28,411,900원 재해영향평가:50,563,700원 진입도로설계:124,072,300원 인구영향평가:45,497,100원 농업생산기반시설정비: 265,546,900원 | D5: 경기지방공사 | E5: 38114 | F5: 40543 | G5: 2168 | H5: =2168-158.4-38.3-886.8 -> 1084.5 | I5: 0.4 | J5: =IF(G5-H5<231,0,G5-H5) -> 1083.5 | K5: =J5*I5 -> 433.4 | L5: =(IF(J5<배점기준!$E$69*100,0,IF(J5<배점기준!$F$69*100,배점기준!$E$70,IF(J5<배점기준!$G$69*100,배점기준!$F$70,배점기준!$G$70)))) -> 0.7 | M5: =I5*L5 -> 0.28
A6: =A5+1 -> 3 | B6: 강동권역 택지개발사업 조사설계 용역 | C6: 근거법:택지개발촉진법 면적:A지구:589,570.3㎡ B지구:217,750㎡ A지구 기본계획:96,913,200원 기본및실시설계:49,638,160원 특수구조물실시설계: 607,513,000원 지반조사비:100,053,000원 에너지사용계획:65,565,000원 지구단위계획:163,587,000원 문화재지표조사:24,213,440원 추가설계용역비:224,485,879원 손해배상공제료:6,887,321원 부가가치세:127,141,800원 B지구 기본계획:37,412,100원 기본및실시설계:159,323,911원 지반조사비:21,787,400원 지구단위계획:58,914,200원 문화재지표조사:8,758,800원 손해배상공제료:771,658원 추가설계용역비:42,017,931월 부가가치세:31,434,200원 | D6: SH공사 | E6: 38168 | F6: 41639 | G6: 2216 | H6: =2216-96.9-439.6-607.5-65.5-163.5-37.4-159.3-58.9 -> 587.4 | I6: 0.48 | J6: =IF(G6-H6<231,0,G6-H6) -> 1628.6 | K6: =J6*I6 -> 781.728 | L6: =(IF(J6<배점기준!$E$69*100,0,IF(J6<배점기준!$F$69*100,배점기준!$E$70,IF(J6<배점기준!$G$69*100,배점기준!$F$70,배점기준!$G$70)))) -> 1 | M6: =I6*L6 -> 0.48
A7: =A6+1 -> 4 | B7: 김포한강지구 택지개발사업 조사설계용역 | C7: 근거법:택지개발촉진법 위치:경기김포시운양동일원 면적:10,872,190.7㎡ (연약지반:4,016,000㎡) 토질조사(시추조사338공) :1,128,751,800원 기본계획:1,331,973,500원 기본및실시설계 :6,192,959,300원 조경기본계획:119,732,800원 에너지사용계획:198,631,400원 용역손해보험료:27,283,300원 지구지정제안서:23,852,400원 특수구조물기본및실시설계: 2,108,506,400원 송전설로이설:161,502,000원 | D7: 한국토지주택공사 | E7: 38310 | F7: 41661 | G7: 11293 | H7: =11293-1331.9-6192.9-119.7-198.6 -> 3449.9 | I7: 0.4 | J7: =IF(G7-H7<231,0,G7-H7) -> 7843.1 | K7: =J7*I7 -> 3137.24 | L7: =(IF(J7<배점기준!$E$69*100,0,IF(J7<배점기준!$F$69*100,배점기준!$E$70,IF(J7<배점기준!$G$69*100,배점기준!$F$70,배점기준!$G$70)))) -> 1.3 | M7: =I7*L7 -> 0.52
A8: =A7+1 -> 5 | B8: 석문국가 산업단지 개발사업 조사설계용역 | C8: 근거법:산업입지및개발에관한법률 면적:12,018,189㎡ 위치:충청남도당진군석문면삼봉리, 고대면성산리일원및해면 일부지역 기본계획:582,878,000원 지구단위계획:345,070,000원 기본및실시설계(특수구조물포함): 7,329,819,000원 조경기본계획:155,661,000원 토질조사:1,104,477,000원 에너지사용계획:190,735,000원 매립재확보방안검토:182,600,000원 | D8: 한국토지주택공사 당진사업본부 | E8: 38425 | F8: 40899 | G8: 9891 | H8: =9891-582.8-345-155.6-7329.8-190.7 -> 1287.1 | I8: 0.4 | J8: =IF(G8-H8<231,0,G8-H8) -> 8603.9 | K8: =J8*I8 -> 3441.56 | L8: =(IF(J8<배점기준!$E$69*100,0,IF(J8<배점기준!$F$69*100,배점기준!$E$70,IF(J8<배점기준!$G$69*100,배점기준!$F$70,배점기준!$G$70)))) -> 1.3 | M8: =I8*L8 -> 0.52
A9: =A8+1 -> 6 | B9: 김포한강지구 택지개발사업 지구단위계획 및 경관계획수립 용역 | C9: 근거법:택지개발촉진법, 국토의계획및이용에관한법률 위치:경기도김포시운양동일원 면적:10,872,190.7㎡ 지구단위계획부문: 1,049,488,176원 경관계획부문:641,483,824원 | D9: 한국토지주택공사 | E9: 38448 | F9: 41639 | G9: 1690 | H9: 641.4 | I9: 0.6 | J9: =IF(G9-H9<231,0,G9-H9) -> 1048.6 | K9: =J9*I9 -> 629.16 | L9: =(IF(J9<배점기준!$E$69*100,0,IF(J9<배점기준!$F$69*100,배점기준!$E$70,IF(J9<배점기준!$G$69*100,배점기준!$F$70,배점기준!$G$70)))) -> 0.7 | M9: =I9*L9 -> 0.42
A10: 합계 | K10: =SUM(K4:K9) -> 9110.888 | M10: =SUM(M4:M9) -> 2.57
A12: 주)1. | B12: 위 양식은 단지조성공사 설계용역에 해당하며, 2억원 실적기준이 적용되지 않는 용역의 경우에는 양식을 수정하여 작성바랍니다. 단, 최종 점수 셀은 유지해야 점수가 합산되오니 주의 바랍니다.
A13: 2. | B13: 실적금액에 따른 건수인정기준은 공동도급비율 적용 전의 금액을 기준으로 산정하며, 건수산정 후 공동도급비율을 반영합니다.
A14: 3, | B14: 업체의 실적금액은 금번 시행하는 용역의 지침상 인정하는 범위에 해당하는 금액만을 실적으로 인정합니다. 발주청에서 시행한 지구단위계획용역 또는 과업내용 중 지구단위계획이 포함된 용역으로서 기본계획, 개발계획용역을 같이 수행한 경우에는 기본계획, 개발계획의 실적금액(설계관련 실적제외)을 모두 인정합니다. 단, 과업포함여부 확인은 발주청에서 발급한 실적증명서 상 과업내용으로 명확하게 명시된 경우에 한하여 인정합니다.
A15: 4, | B15: 영향평가, 기본및 실시설계, 실시계획 등의 유사용역 외의 실적에 해당금액은 유사용역 제외금액에 입력합니다.
A16: 5. | B16: 발주청이 발행한 실적증명서나 계약서 사본(원본대조필)으로 하되 참여기술자, 용역수행기간, 준공금액 및 공동도급업체수가 확인될 수 있어야 합니다.
A17: 6. | B17: 설계·시공일괄입찰 또는 대안입찰방식으로 참여하여 낙찰자 및 설계보상대상자로 지정된 경우에는 해당 발주기관이 발급한 증명서를 첨부하되 해당입찰의 낙찰금액이 확인될 수 있어야 합니다.
A18: 7. | B18: 기입란이 부족한 경우 행 삽입,삭제가 가능하며, 행삽입,삭제시 실적이 합계에서 누락되지 않도록 반드시 확인(유사용역 시트) 주의해야 합니다

Sheet 유사(0001)
A1: ▣ 유사용역 수행실적 | C1: =참여업체!D6 -> ＊＊엔지니어링
A2: 번호 | B2: 참여용역명 | C2: 사업개요 | D2: 발주처 | E2: 용역기간 | G2: 준공 금액 (백만원) | H2: 실적제외금액(백만원) | I2: 도급지분 | J2: 적용금액 (백만원) | K2: 실적금액 (백만원) | L2: 용역건수 (지분율미반영) | M2: 실적건수 (지분율반영) | N2: 비고
E3: 용역 계약일 | F3: 용역 준공일
A4: 1 | B4: 석문국가산업단지 개발사업 조사설계용역 | C4: 관련근거법:산업입지및개발에관한법률 면적:12,018,189㎡ | D4: 한국토지주택공사당진사업본부 | E4: 38425 | F4: 40899 | G4: 9891 | H4: 1287 | I4: 0.3 | J4: =IF(G4-H4<231,0,G4-H4) -> 8604 | K4: =J4*I4 -> 2581.2 | L4: =(IF(J4<배점기준!$E$69*100,0,IF(J4<배점기준!$F$69*100,배점기준!$E$70,IF(J4<배점기준!$G$69*100,배점기준!$F$70,배점기준!$G$70)))) -> 1.3 | M4: =I4*L4 -> 0.39
A5: 2 | B5: 대구신서지구 택지개발사업 조사설계용역 | C5: 관련근거법:택지개발촉진법, 공공기관 지방이전에 따른 혁신도시건설 및 지원에 관한 특별법 면적:4,216,496㎡ | D5: 한국토지주택공사대구경북지역본부 | E5: 38511 | F5: 41897 | G5: 7515 | H5: 1193 | I5: 0.3 | J5: =IF(G5-H5<231,0,G5-H5) -> 6322 | K5: =J5*I5 -> 1896.6 | L5: =(IF(J5<배점기준!$E$69*100,0,IF(J5<배점기준!$F$69*100,배점기준!$E$70,IF(J5<배점기준!$G$69*100,배점기준!$F$70,배점기준!$G$70)))) -> 1.3 | M5: =I5*L5 -> 0.39
A6: 3 | B6: 인천경제자유구역 영종하늘도시 개발사업 조사설계용역(1단계) | C6: 관련근거법:경제자유구역의지정및운영에관한특별법 면적:15,067,747㎡ | D6: 한국토지주택공사 청라영종사업본부 | E6: 38551 | F6: 40543 | G6: 10961 | H6: 2848 | I6: 0.3 | J6: =IF(G6-H6<231,0,G6-H6) -> 8113 | K6: =J6*I6 -> 2433.9 | L6: =(IF(J6<배점기준!$E$69*100,0,IF(J6<배점기준!$F$69*100,배점기준!$E$70,IF(J6<배점기준!$G$69*100,배점기준!$F$70,배점기준!$G$70)))) -> 1.3 | M6: =I6*L6 -> 0.39
A7: 4 | B7: 행복도시 첫마을사업 도시조성공사 설계용역 | C7: ·관련근거법:행정중심 복합도시건설을 위한 특별법 ·면적:1,130,000㎡ | D7: 한국토지주택공사세종시사업본부 | E7: 38975 | F7: 40543 | G7: 1627 | H7: 366 | I7: 0.4 | J7: =IF(G7-H7<231,0,G7-H7) -> 1261 | K7: =J7*I7 -> 504.4 | L7: =(IF(J7<배점기준!$E$69*100,0,IF(J7<배점기준!$F$69*100,배점기준!$E$70,IF(J7<배점기준!$G$69*100,배점기준!$F$70,배점기준!$G$70)))) -> 0.7 | M7: =I7*L7 -> 0.28
A8: 합계 | K8: =SUM(K4:K7) -> 7416.1 | M8: =SUM(M4:M7) -> 1.45
A10: 주)1. | B10: 위 양식은 단지조성공사 설계용역에 해당하며, 2.3억원 실적기준이 적용되지 않는 용역의 경우에는 양식을 수정하여 작성바랍니다. 단, 최종 점수 셀은 유지해야 점수가 합산되오니 주의 바랍니다.
A11: 2. | B11: 실적금액에 따른 건수인정기준은 공동도급비율 적용 전의 금액을 기준으로 산정하며, 건수산정 후 공동도급비율을 반영합니다.
A12: 3. | B12: 발주청이 발행한 실적증명서나 계약서 사본(원본대조필)으로 하되 참여기술자, 용역수행기간, 준공금액 및 공동도급업체수가 확인될 수 있어야 합니다.
A13: 4. | B13: 설계·시공일괄입찰 또는 대안입찰방식으로 참여하여 낙찰자 및 설계보상대상자로 지정된 경우에는 해당 발주기관이 발급한 증명서를 첨부하되 해당입찰의 낙찰금액이 확인될 수 있어야 합니다.
A14: 5. | B14: 기입란이 부족한 경우 행 삽입,삭제가 가능하며, 행삽입,삭제시 실적이 합계에서 누락되지 않도록 반드시 확인(유사용역 시트) 주의해야 합니다

Sheet 유사(0002)
A1: ▣ 용역 수행실적 | C1: =참여업체!E6 -> ☆☆엔지니어링
A2: 번호 | B2: 참여용역명 | C2: 사업개요 | D2: 발주처 | E2: 용역기간 | G2: 준공 금액 (백만원) | H2: 실적제외금액(백만원) | I2: 도급 지분 | J2: 적용금액 (백만원) | K2: 실적금액 (백만원) | L2: 용역건수 (지분율 미반영) | M2: 실적건수 (지분율 반영) | N2: 비고
E3: 용역 계약일 | F3: 용역 준공일 | P3: 사업번호
A4: 1 | B4: 금곡지구 택지개발사업 조사설계용역 | C4: - 기본 및 실시설계 | D4: 인천도시공사 | E4: 39805 | F4: 40392 | G4: 593 | H4: 0 | I4: 0.7 | J4: =IF(G4-H4<230,0,G4-H4) -> 593 | K4: =J4*I4 -> 415.1 | L4: =(IF(J4<배점기준!$E$69*100,0,IF(J4<배점기준!$F$69*100,배점기준!$E$70,IF(J4<배점기준!$G$69*100,배점기준!$F$70,배점기준!$G$70)))) -> 0.7 | M4: =I4*L4 -> 0.49
A5: 2 | B5: 시화2단계(송산그린시티)개발사업 제3공구기본및실시설계용역 | C5: - 기본 및 실시설계 | D5: 한국수자원공사 | E5: 39734 | F5: 40421 | G5: 4668 | H5: 343 | I5: 0.29 | J5: =IF(G5-H5<230,0,G5-H5) -> 4325 | K5: =J5*I5 -> 1254.25 | L5: =(IF(J5<배점기준!$E$69*100,0,IF(J5<배점기준!$F$69*100,배점기준!$E$70,IF(J5<배점기준!$G$69*100,배점기준!$F$70,배점기준!$G$70)))) -> 1.3 | M5: =I5*L5 -> 0.377
A6: 3 | B6: 구미국가산업단지 확장단지 조성사업 지구단위계획 용역 | C6: - 지구단위계획 | D6: 한국수자원공사 | E6: 39987 | F6: 40532 | G6: 927 | H6: 0 | I6: 0.76 | J6: =IF(G6-H6<230,0,G6-H6) -> 927 | K6: =J6*I6 -> 704.52 | L6: =(IF(J6<배점기준!$E$69*100,0,IF(J6<배점기준!$F$69*100,배점기준!$E$70,IF(J6<배점기준!$G$69*100,배점기준!$F$70,배점기준!$G$70)))) -> 0.7 | M6: =I6*L6 -> 0.532
A7: 4 | B7: 괴산발효식품농공단지실시설계용역 | C7: - 실시설계 | D7: 괴산군 | E7: 40295 | F7: 40532 | G7: 349 | H7: 0 | I7: 0.7 | J7: =IF(G7-H7<230,0,G7-H7) -> 349 | K7: =J7*I7 -> 244.3 | L7: =(IF(J7<배점기준!$E$69*100,0,IF(J7<배점기준!$F$69*100,배점기준!$E$70,IF(J7<배점기준!$G$69*100,배점기준!$F$70,배점기준!$G$70)))) -> 0.7 | M7: =I7*L7 -> 0.49
A8: 5 | B8: 동해안권 경제자유구역 지정을 위한 개발계획수립용역중 기술및도면작성 부문 위탁용역 | C8: - 개발계획 | D8: 강원발전연구원 | E8: 39680 | F8: 40542 | G8: 259 | H8: 0 | I8: 1 | J8: =IF(G8-H8<230,0,G8-H8) -> 259 | K8: =J8*I8 -> 259 | L8: =(IF(J8<배점기준!$E$69*100,0,IF(J8<배점기준!$F$69*100,배점기준!$E$70,IF(J8<배점기준!$G$69*100,배점기준!$F$70,배점기준!$G$70)))) -> 0.7 | M8: =I8*L8 -> 0.7
A9: 6 | B9: 평택오성산업단지조성사업조사설계 용역 | C9: - 기본 및 실시설계 | D9: 경기도시공사 | E9: 38114 | F9: 40543 | G9: 2168 | H9: =47+23+256+138+51+45+88+19+28+124+266 -> 1085 | I9: 0.3 | J9: =IF(G9-H9<230,0,G9-H9) -> 1083 | K9: =J9*I9 -> 324.9 | L9: =(IF(J9<배점기준!$E$69*100,0,IF(J9<배점기준!$F$69*100,배점기준!$E$70,IF(J9<배점기준!$G$69*100,배점기준!$F$70,배점기준!$G$70)))) -> 0.7 | M9: =I9*L9 -> 0.21
A10: 합계 | K10: =SUM(K4:K9) -> 3202.07 | M10: =SUM(M4:M9) -> 2.799
A12: 주)1. | B12: 위 양식은 단지조성공사 설계용역에 해당하며, 2억원 실적기준이 적용되지 않는 용역의 경우에는 양식을 수정하여 작성바랍니다. 단, 최종 점수 셀은 유지해야 점수가 합산되오니 주의 바랍니다.
A13: 2. | B13: 실적금액에 따른 건수인정기준은 공동도급비율 적용 전의 금액을 기준으로 산정하며, 건수산정 후 공동도급비율을 반영합니다.
A14: 3, | B14: 업체의 실적금액은 금번 시행하는 용역의 지침상 인정하는 범위에 해당하는 금액만을 실적으로 인정합니다. 발주청에서 시행한 지구단위계획용역 또는 과업내용 중 지구단위계획이 포함된 용역으로서 기본계획, 개발계획용역을 같이 수행한 경우에는 기본계획, 개발계획의 실적금액(설계관련 실적제외)을 모두 인정합니다. 단, 과업포함여부 확인은 발주청에서 발급한 실적증명서 상 과업내용으로 명확하게 명시된 경우에 한하여 인정합니다.
A15: 4, | B15: 영향평가, 기본및 실시설계, 실시계획 등의 유사용역 외의 실적에 해당금액은 유사용역 제외금액에 입력합니다.
A16: 5. | B16: 발주청이 발행한 실적증명서나 계약서 사본(원본대조필)으로 하되 참여기술자, 용역수행기간, 준공금액 및 공동도급업체수가 확인될 수 있어야 합니다.
A17: 6. | B17: 설계·시공일괄입찰 또는 대안입찰방식으로 참여하여 낙찰자 및 설계보상대상자로 지정된 경우에는 해당 발주기관이 발급한 증명서를 첨부하되 해당입찰의 낙찰금액이 확인될 수 있어야 합니다.
A18: 7. | B18: 기입란이 부족한 경우 행 삽입,삭제가 가능하며, 행삽입,삭제시 실적이 합계에서 누락되지 않도록 반드시 확인(유사용역 시트) 주의해야 합니다

Sheet 전차용역
B1: 전차용역수행 현황
B3: 전차용역명 | C3: "해당사항 없음"
B4: 계약금액
B5: 계약기간
B6: 착공일 | D6: 준공일
B7: 전차용역의범위
B8: 공동도급현황
B9: 업체명
B10: 지분율
B13: 주) 1. | C13: 해당 전차용역 현황을 기재하시기 바랍니다.

Sheet 신용도
A1: 3. 신용도(10점)
B3: □ 입찰참가제한 및 업무정지(7점)
B4: 업체명 | C4: 정지기간(일) | E4: 점수 | H4: 지분율 | I4: 부실벌점 | L4: 평가
C5: 업체 | D5: 기술자 | E5: 업체 | F5: 기술자 | G5: 소계 | I5: 업체 | J5: 적용 | K5: 기술자
B6: =참여업체!C6 -> oo엔지니어링 | C6: 0 | D6: 0 | E6: =((CEILING(C6/30,1)*배점기준!$E$76)) -> 0 | F6: =(CEILING(D6/90,1)*배점기준!$E$78) -> 0 | G6: =E6+F6 -> 0 | H6: 0.42 | I6: =부실벌점!E5 -> 0.06 | J6: =부실벌점!F5 -> 0 | K6: =부실벌점!F22 -> 0 | L6: =7+G6*H6+G8*H8+J6*H6+J8*H8+K6 -> 7
B7: =참여업체!D6 -> ＊＊엔지니어링 | C7: 0 | D7: 0 | E7: 0 | F7: 0 | G7: - | H7: 0.33 | I7: =부실벌점!E6 -> 0.13 | J7: 0
B8: =참여업체!E6 -> ☆☆엔지니어링 | C8: 0 | D8: 0 | E8: =((CEILING(C8/30,1)*배점기준!$E$76)) -> 0 | F8: =(CEILING(D8/90,1)*배점기준!$E$78) -> 0 | G8: =E8+F8 -> 0 | H8: 0.25 | I8: =부실벌점!E7 -> 0.1 | J8: =부실벌점!F7 -> 0
B10: □ 재정상태 건실도- 신용평가등급(3점)
B11: 업체명 | C11: 회사채 | D11: 기업어음 | E11: 기업신용 | F11: 회사채 | G11: 기업어음 | H11: 기업신용 | I11: 업체별 | J11: 지분율 | K11: 평가
C12: 신용도 | D12: 신용도 | E12: 신용도 | F12: 점수 | G12: 점수 | H12: 점수 | I12: 점수
B13: =B6 -> oo엔지니어링 | C13: 미제출 | D13: 미제출 | E13: BBB0 | F13: =IF(OR(C13=C$22,C13=C$23,C13=C$24,C13=C$25,C13=C$26,C13=C$27,C13=C$28),3,IF(OR(C13=C$29,C13=C$30,C13=C$31),2.7,IF(OR(C13=C$32,C13=C$33,C13=C$34,C13=C$35,C13=C$36,C13=C$37),2.4,IF(C13=C$38,2.1,0)))) -> 0 | G13: =IF(OR(D13=D$22,D13=D$23,D13=D$24,D13=D$25),3,IF(D13=D$26,2.7,IF(OR(D13=D$27,D13=D$28,D13=D$29,D13=D$30,D13=D$31),2.4,IF(D13=D$32,2.1,0)))) -> 0 | H13: =IF(OR(E13=E$22,E13=E$23,E13=E$24,E13=E$25,E13=E$26,E13=E$27,E13=E$28),3,IF(OR(E13=E$29,E13=E$30,E13=E$31),2.7,IF(OR(E13=E$32,E13=E$33,E13=E$34,E13=E$35,E13=E$36,E13=E$37),2.4,IF(E13=E$38,2.1,0)))) -> 2.7 | I13: =MAX(F13:H13) -> 2.7 | J13: 0.42 | K13: =I13*J13+I14*J14+I15*J15 -> 2.874
B14: =B7 -> ＊＊엔지니어링 | C14: 미제출 | D14: 미제출 | E14: A0 | F14: =IF(OR(C14=C$22,C14=C$23,C14=C$24,C14=C$25,C14=C$26,C14=C$27,C14=C$28),3,IF(OR(C14=C$29,C14=C$30,C14=C$31),2.7,IF(OR(C14=C$32,C14=C$33,C14=C$34,C14=C$35,C14=C$36,C14=C$37),2.4,IF(C14=C$38,2.1,0)))) -> 0 | G14: =IF(OR(D14=D$22,D14=D$23,D14=D$24,D14=D$25),3,IF(D14=D$26,2.7,IF(OR(D14=D$27,D14=D$28,D14=D$29,D14=D$30,D14=D$31),2.4,IF(D14=D$32,2.1,0)))) -> 0 | H14: =IF(OR(E14=E$22,E14=E$23,E14=E$24,E14=E$25,E14=E$26,E14=E$27,E14=E$28),3,IF(OR(E14=E$29,E14=E$30,E14=E$31),2.7,IF(OR(E14=E$32,E14=E$33,E14=E$34,E14=E$35,E14=E$36,E14=E$37),2.4,IF(E14=E$38,2.1,0)))) -> 3 | I14: =MAX(F14:H14) -> 3 | J14: 0.33
B15: =B8 -> ☆☆엔지니어링 | C15: 미제출 | D15: 미제출 | E15: A- | F15: =IF(OR(C15=C$22,C15=C$23,C15=C$24,C15=C$25,C15=C$26,C15=C$27,C15=C$28),3,IF(OR(C15=C$29,C15=C$30,C15=C$31),2.7,IF(OR(C15=C$32,C15=C$33,C15=C$34,C15=C$35,C15=C$36,C15=C$37),2.4,IF(C15=C$38,2.1,0)))) -> 0 | G15: =IF(OR(D15=D$22,D15=D$23,D15=D$24,D15=D$25),3,IF(D15=D$26,2.7,IF(OR(D15=D$27,D15=D$28,D15=D$29,D15=D$30,D15=D$31),2.4,IF(D15=D$32,2.1,0)))) -> 0 | H15: =IF(OR(E15=E$22,E15=E$23,E15=E$24,E15=E$25,E15=E$26,E15=E$27,E15=E$28),3,IF(OR(E15=E$29,E15=E$30,E15=E$31),2.7,IF(OR(E15=E$32,E15=E$33,E15=E$34,E15=E$35,E15=E$36,E15=E$37),2.4,IF(E15=E$38,2.1,0)))) -> 3 | I15: =MAX(F15:H15) -> 3 | J15: 0.25
A17: 주) 1. | B17: 란을 직접입력합니다.
A18: 2. | B18: 재정상태건실도 평가는 유효기간내의 회사채,기업어음,기업신용 중 한가지만 입력하면 됩니다.
A19: 3. | B19: 회사채(또는 기업어음)에 대한 신용평가등급 및 기업신용평가에 따른 평점이 다른 경우에는 높은 평점으로 평가하며, 등급확인서를 제출하지 않은 경우에는 0점으로 평가합니다.
C21: 회사채 | D21: 기업어음 | E21: 기업신용
C22: AAA | D22: A1 | E22: AAA
C23: AA+ | D23: A2+ | E23: AA+
C24: AA0 | D24: A20 | E24: AA0
C25: AA- | D25: A2- | E25: AA-
C26: A+ | D26: A3+ | E26: A+
C27: A0 | D27: A30 | E27: A0
C28: A- | D28: A3- | E28: A-
C29: BBB+ | D29: B+ | E29: BBB+
C30: BBB0 | D30: B0 | E30: BBB0
C31: BBB- | D31: B- | E31: BBB-
C32: BB+ | D32: C 이하 | E32: BB+
C33: BB0 | D33: 미제출 | E33: BB0
C34: BB- | E34: BB-
C35: B+ | E35: B+
C36: B0 | E36: B0
C37: B- | E37: B-
C38: CCC+ 이하 | E38: CCC+ 이하
C39: 미제출 | E39: 미제출

Sheet 부실벌점
B1: 부실벌점 현황
B3: 1) 참여업체 부실벌점
B4: 업체명 | C4: 지분율 | D4: 부실벌점 내용 | E4: 부실벌점 | F4: 평가
B5: =신용도!B13 -> oo엔지니어링 | C5: 0.42 | D5: 1점미만 (감점없음) | E5: 0.06 | F5: =IF(E5>=20,배점기준!$J$80,IF(E5>=15,배점기준!$I$80,IF(E5>=10,배점기준!$H$80,IF(E5>=5,배점기준!$G$80,IF(E5>=2,배점기준!$F$80,IF(E5>=1,배점기준!$E$80,0))))))*-1 -> 0
B6: =신용도!B14 -> ＊＊엔지니어링 | C6: 0.33 | D6: 1점미만 (감점없음) | E6: 0.13 | F6: 0
B7: =신용도!B8 -> ☆☆엔지니어링 | C7: 0.25 | D7: 1점미만 (감점없음) | E7: 0.1 | F7: =IF(E7>=20,배점기준!$J$80,IF(E7>=15,배점기준!$I$80,IF(E7>=10,배점기준!$H$80,IF(E7>=5,배점기준!$G$80,IF(E7>=2,배점기준!$F$80,IF(E7>=1,배점기준!$E$80,0))))))*-1 -> 0
B9: 2) 참여기술자 부실벌점
B10: 참여분야 | C10: 성명 | D10: 부실벌점 내용 | E10: 부실벌점 | F10: 평가
B11: 사 업 책 임 | D11: "해당사항 없음" | E11: 0 | F11: =IF(E11>=20,배점기준!$J$80,IF(E11>=15,배점기준!$I$80,IF(E11>=10,배점기준!$H$80,IF(E11>=5,배점기준!$G$80,IF(E11>=2,배점기준!$F$80,IF(E11>=1,배점기준!$E$80,0))))))*-1 -> 0
B12: 도시계획 책임 | D12: "해당사항 없음" | E12: 0 | F12: =IF(E12>=20,배점기준!$J$80,IF(E12>=15,배점기준!$I$80,IF(E12>=10,배점기준!$H$80,IF(E12>=5,배점기준!$G$80,IF(E12>=2,배점기준!$F$80,IF(E12>=1,배점기준!$E$80,0))))))*-1 -> 0
B13: 토질지질 책임 | D13: "해당사항 없음" | E13: 0 | F13: =IF(E13>=20,배점기준!$J$80,IF(E13>=15,배점기준!$I$80,IF(E13>=10,배점기준!$H$80,IF(E13>=5,배점기준!$G$80,IF(E13>=2,배점기준!$F$80,IF(E13>=1,배점기준!$E$80,0))))))*-1 -> 0
B14: 도로및공항 책임 | D14: "해당사항 없음" | E14: 0 | F14: =IF(E14>=20,배점기준!$J$80,IF(E14>=15,배점기준!$I$80,IF(E14>=10,배점기준!$H$80,IF(E14>=5,배점기준!$G$80,IF(E14>=2,배점기준!$F$80,IF(E14>=1,배점기준!$E$80,0))))))*-1 -> 0
B15: 토목구조 책임 | D15: "해당사항 없음" | E15: 0 | F15: =IF(E15>=20,배점기준!$J$80,IF(E15>=15,배점기준!$I$80,IF(E15>=10,배점기준!$H$80,IF(E15>=5,배점기준!$G$80,IF(E15>=2,배점기준!$F$80,IF(E15>=1,배점기준!$E$80,0))))))*-1 -> 0
B16: 상하수도 책임 | D16: "해당사항 없음" | E16: 0 | F16: =IF(E16>=20,배점기준!$J$80,IF(E16>=15,배점기준!$I$80,IF(E16>=10,배점기준!$H$80,IF(E16>=5,배점기준!$G$80,IF(E16>=2,배점기준!$F$80,IF(E16>=1,배점기준!$E$80,0))))))*-1 -> 0
B17: 도시계획 참여 | D17: "해당사항 없음" | E17: 0 | F17: =IF(E17>=20,배점기준!$J$80,IF(E17>=15,배점기준!$I$80,IF(E17>=10,배점기준!$H$80,IF(E17>=5,배점기준!$G$80,IF(E17>=2,배점기준!$F$80,IF(E17>=1,배점기준!$E$80,0))))))*-1 -> 0
B18: 토질지질 참여 | D18: "해당사항 없음" | E18: 0 | F18: =IF(E18>=20,배점기준!$J$80,IF(E18>=15,배점기준!$I$80,IF(E18>=10,배점기준!$H$80,IF(E18>=5,배점기준!$G$80,IF(E18>=2,배점기준!$F$80,IF(E18>=1,배점기준!$E$80,0))))))*-1 -> 0
B19: 도로공항 참여 | D19: "해당사항 없음" | E19: 0 | F19: =IF(E19>=20,배점기준!$J$80,IF(E19>=15,배점기준!$I$80,IF(E19>=10,배점기준!$H$80,IF(E19>=5,배점기준!$G$80,IF(E19>=2,배점기준!$F$80,IF(E19>=1,배점기준!$E$80,0))))))*-1 -> 0
B20: 토목구조 참여 | D20: "해당사항 없음" | E20: 0 | F20: =IF(E20>=20,배점기준!$J$80,IF(E20>=15,배점기준!$I$80,IF(E20>=10,배점기준!$H$80,IF(E20>=5,배점기준!$G$80,IF(E20>=2,배점기준!$F$80,IF(E20>=1,배점기준!$E$80,0))))))*-1 -> 0
B21: 상하수도 참여 | D21: "해당사항 없음" | E21: 0 | F21: =IF(E21>=20,배점기준!$J$80,IF(E21>=15,배점기준!$I$80,IF(E21>=10,배점기준!$H$80,IF(E21>=5,배점기준!$G$80,IF(E21>=2,배점기준!$F$80,IF(E21>=1,배점기준!$E$80,0))))))*-1 -> 0
B22: 계 | F22: =SUM(F11:F21) -> 0

Sheet 기술투자
A1: 4. 기술개발 및 투자실적(15점)
B3: □ 개발실적(2점)
B4: 업체명 | C4: 신기술 | D4: 점수 | E4: 특허 | H4: 소계 | I4: 점수 | J4: 실용신안 | L4: 소계 | M4: 점수 | N4: 지분율 | O4: 평가
E5: 5년미만 | F5: 5~10년 | G5: 10~20년 | J5: 5년미만 | K5: 5~10년
B6: =부실벌점!B5 -> oo엔지니어링 | C6: ='개발(000)'!J4 -> 0 | D6: =C6*N6+C7*N7+C8*N8 -> 0.3325 | E6: ='개발(000)'!J12 -> 0 | F6: ='개발(000)'!J9 -> 2 | G6: ='개발(000)'!J6 -> 0 | H6: =(E6+F6*배점기준!$F$88+G6*배점기준!$G$88)*배점기준!$F$86 -> 0.96 | I6: =H6*N6+H7*N7+H8*N8 -> 0.7716 | J6: ='개발(000)'!J16 -> 0 | K6: ='개발(000)'!J14 -> 0 | L6: =(J6*배점기준!$E$89+K6*배점기준!$F$89)*배점기준!$G$86 -> 0 | M6: =L6*N6+L8*N8 -> 0 | N6: =참여업체!C7 -> 0.42 | O6: =IF((D6+I6+M6)>=배점기준!$C$85,배점기준!$C$85,(D6+I6+M6)) -> 1.1041
B7: =부실벌점!B6 -> ＊＊엔지니어링 | C7: ='개발(0001)'!J4 -> 0.25 | E7: ='개발(0001)'!J10 -> 0 | F7: ='개발(0001)'!J8 -> 1 | G7: ='개발(0001)'!J6 -> 0 | H7: =(E7+F7*배점기준!$F$88+G7*배점기준!$G$88)*배점기준!$F$86 -> 0.48 | J7: ='개발(0001)'!J14 -> 0 | K7: ='개발(0001)'!J12 -> 0 | L7: =(J7*배점기준!$E$89+K7*배점기준!$F$89)*배점기준!$G$86 -> 0 | N7: =참여업체!D7 -> 0.33
B8: =부실벌점!B7 -> ☆☆엔지니어링 | C8: ='개발(0002)'!J4 -> 1 | E8: ='개발(0002)'!J10 -> 0 | F8: ='개발(0002)'!J8 -> 1 | G8: ='개발(0002)'!J6 -> 1 | H8: =(E8+F8*배점기준!$F$88+G8*배점기준!$G$88)*배점기준!$F$86 -> 0.84 | J8: ='개발(0002)'!J14 -> 0 | K8: ='개발(0002)'!J12 -> 0 | L8: =(J8*배점기준!$E$89+K8*배점기준!$F$89)*배점기준!$G$86 -> 0 | N8: =참여업체!E7 -> 0.25
B10: □ 투자실적(10점)
B11: 업체명 | C11: 년도별 | D11: 최근3년간(백만원) | F11: 비율 | G11: 비율평균 | H11: 지분율 | I11: 실적 | J11: 평가
D12: 투자금액 | E12: 건설매출
B13: =B6 -> oo엔지니어링 | C13: 2012 | D13: 5268 | E13: 140278 | F13: =IF(D13=0,"0",D13/E13) -> 0.037554 | G13: =(F13+F14+F15)/3 -> 0.036042271 | H13: =참여업체!C7 -> 0.42 | I13: =G13*H13+G16*H16+G19*H19 -> 0.039058943 | J13: =IF(I13>=배점기준!$E$90,배점기준!$E$91,IF(I13>=배점기준!$F$90,배점기준!$F$91,IF(I13>=배점기준!$G$90,배점기준!$G$91,IF(I13>=배점기준!$H$90,배점기준!$H$91,IF(I13<배점기준!$I$90,배점기준!$I$91))))) -> 10
C14: 2013 | D14: 5556 | E14: 140506 | F14: =IF(D14=0,"0",D14/E14) -> 0.039542795
C15: 2014 | D15: 3738 | E15: 120464 | F15: =IF(D15=0,"0",D15/E15) -> 0.031030017
B16: =B7 -> ＊＊엔지니어링 | C16: 2012 | D16: 1761 | E16: 48107 | F16: =IF(D16=0,"0",D16/E16) -> 0.036605899 | G16: =(F16+F17+F18)/3 -> 0.034557549 | H16: 0.33
C17: 2013 | D17: 1587 | E17: 45360 | F17: =IF(D17=0,"0",D17/E17) -> 0.034986772
C18: 2014 | D18: 1505 | E18: 46914 | F18: =IF(D18=0,"0",D18/E18) -> 0.032079976
B19: =B8 -> ☆☆엔지니어링 | C19: 2012 | D19: 7548 | E19: 150287 | F19: =IF(D19=0,"0",D19/E19) -> 0.050223905 | G19: =(F19+F20+F21)/3 -> 0.050068794 | H19: 0.25
C20: 2013 | D20: 7695 | E20: 153835 | F20: =IF(D20=0,"0",D20/E20) -> 0.050021127
C21: 2014 | D21: 7045 | E21: 141009 | F21: =IF(D21=0,"0",D21/E21) -> 0.04996135
B23: □ 활용실적(3점)
B24: 업체명 | C24: 신기술 | E24: 특허 | G24: 실용신안 | I24: 지분율 | J24: 평가
C25: 점수 | D25: 소계 | E25: 점수 | F25: 소계 | G25: 점수 | H25: 소계
B26: =B6 -> oo엔지니어링 | C26: ='활용(000)'!J6 -> 2.9 | D26: =C26*I26+C27*L27+C28*I28 -> 2.693 | E26: ='활용(000)'!J8 -> 0.216 | F26: =E26*I26+E28*I28 -> 0.09072 | G26: ='활용(000)'!J10 -> 0 | H26: =G26*I26+G28*I28 -> 0 | I26: =참여업체!C7 -> 0.42 | J26: =IF((D26+F26+H26)>=배점기준!$C$92,배점기준!$C$92,(D26+F26+H26)) -> 2.78372
B27: =B7 -> ＊＊엔지니어링 | C27: ='활용(0001)'!J10 -> 5.5 | E27: ='활용(0001)'!J12 -> 0 | G27: ='활용(0001)'!J14 -> 0 | I27: =참여업체!D7 -> 0.33
B28: =B8 -> ☆☆엔지니어링 | C28: ='활용(0002)'!J12 -> 5.9 | E28: ='활용(0002)'!J14 -> 0 | G28: ='활용(0002)'!J16 -> 0 | I28: =참여업체!E7 -> 0.25
A31: 주) 1. | B31: 증빙서류는 공인회계사 또는 세무사가 증명한 최근 3회계년 투자실적입니다.
B32: (단, 투자실적에서 R&D사업 참여실적에 적용된 실적금액은 제외)

Sheet 개발(000)
A1: ='[1]개발(동일)'!A1 -> ▣ 개발실적 | C1: =기술투자!B6 -> oo엔지니어링 | G1: 입찰공고일 : | H1: 42213
A2: 종류 | B2: 번호 | C2: 기술명 | D2: 기술개요 | E2: 최초 출원인 | F2: 출원 인수 | G2: 지정(출원)일 | H2: 경과기간 | I2: 유효기간 | J2: 건수
A3: 건설신기술
A4: 신기술 소계 | J4: =SUM(J3:J3) -> 0
A5: 특허
A6: 특허 20년미만 소계 | J6: =SUM(J5:J5) -> 0
A7: 특허 | B7: 1 | F7: 1 | G7: 39850 | H7: =$H$1-G7 -> 2363 | I7: 47155 | J7: =1/F7 -> 1
A8: 특허 | B8: 2 | F8: 1 | G8: 39850 | H8: =$H$1-G8 -> 2363 | I8: 47155 | J8: =1/F8 -> 1
A9: 특허 10년미만 소계 | J9: =SUM(J7:J8) -> 2
A12: 특허 5년미만 소계 | J12: =SUM(J10:J11) -> 0
A13: 실용신안
A14: 실용신안 10년미만 소계 | J14: =SUM(J13:J13) -> 0
A15: 실용신안
A16: 실용신안 5년미만 소계 | J16: =SUM(J15:J15) -> 0

Sheet 개발(0001)
A1: 개발실적 | C1: =기술투자!B7 -> ＊＊엔지니어링 | G1: 입찰공고일 : | H1: 42213
A2: 종류 | B2: 번호 | C2: 기술명 | D2: 기술개요 | E2: 최초출원인 | F2: 출원 인수 | G2: 지정(출원)일 | H2: 경과기간 | I2: 유효기간 | J2: 건수
A3: 건설신기술 | B3: 1 | C3: 강박스 내측 하면에 아치형상의 콘크리트를 타설한 개구형박스 단면을 Ⅰ형 단면의 상부에 조합하여 변단면 구조를 갖도록 한 강합성거더 공법 | D3: 이 기술은 강재거더를 지점부에서는 폐단면이고 지간 중앙부에서는 개구형박스(⊔)단면이 I형단면과 아치형태의 변단면 구성을 갖는 형상이며,강박스 내부에 압축 주응력이 작용하는 방향을따라 아치형태의 콘크리트를 배치하여 이종재료의 상호보완효과로 효율적인 단면강성을 확보함에 따라 좌굴저항성 증대와 보강재를 최소화 할 수 있는 동시에 진동성능을 증대시킬 수 있는 강합성거더 공법이다 | E3: ㈜경동엔지니어링 외 3인 | F3: 4 | G3: 40977 | H3: =$H$1-G3 -> 1236 | I3: 42802 | J3: =1/F3 -> 0.25
A4: 신기술 소계 | J4: =SUM(J3:J3) -> 0.25
A5: 특허 | D5: "해당사항 없음"
A6: 특허 20년미만 소계 | J6: =SUM(J5:J5) -> 0
A7: 특허 | B7: 1 | F7: 1 | G7: 38845 | H7: =$H$1-G7 -> 3368 | I7: 46150 | J7: =1/F7 -> 1
A8: 특허 10년미만 소계 | J8: =SUM(J7:J7) -> 1
A9: 특허 | D9: "해당사항 없음" | J9: 0
A10: 특허 5년미만 소계 | J10: =SUM(J9:J9) -> 0
A11: 실용신안 | D11: "해당사항 없음" | J11: 0
A12: 실용신안 10년미만 소계 | J12: =SUM(J11:J11) -> 0
A13: 실용신안 | D13: "해당사항 없음" | J13: 0
A14: 실용신안 5년미만 소계 | J14: =SUM(J13:J13) -> 0
A15: 주) 1. | B15: 19
A16: 2. | B16: 경과기간은 출원일로부터 경과기간을 기재해야 하며, 2인이상 출원시 출원인수로 나누어 산정한 건수로 산정되어집니다.
A17: 3. | B17: 증빙서류는 최근 1월 이내에 관할기관에서 발행한 등본이어야 합니다.

Sheet 개발(0002)
A1: 개발실적 | C1: =기술투자!B8 -> ☆☆엔지니어링 | G1: 입찰공고일 : | H1: 42213
A2: 종류 | B2: 번호 | C2: 기술명 | D2: 기술개요 | E2: 최초출원인 | F2: 출원 인수 | G2: 지정(출원)일 | H2: 경과기간 | I2: 유효기간 | J2: 건수
A3: 건설신기술 | B3: 1 | C3: ㄱ 형 perfobond리브 전단연결재를 적용한 콘크리트 충전강관거더 교량 시공기술 | D3: 강관 내·외부 또는 내부에 ㄱ형 돌기를 갖는 부착보강재(perfobond리브 전단열재)를 설치하고 콘크리트를 강관에 충전함으로써 충전콘크리트 또는 바닥판과 강관간의 합성거동효과 증대로 거더의 휨내력을 증진시킨 CFT(Concrete Filled Tubular)거더 교량 시공기술이다 | F3: 1 | G3: 39913 | H3: =$H$1-G3 -> 2300 | I3: 43564 | J3: =1/F3 -> 1
A4: 신기술 소계 | J4: =SUM(J3:J3) -> 1
A5: 특허 | B5: 1 | F5: 1 | G5: 39141 | H5: =$H$1-G5 -> 3072 | I5: 46446 | J5: =1/F5 -> 1
A6: 특허 20년미만 소계 | J6: =SUM(J5) -> 1
A7: 특허 | B7: 1 | F7: 1 | G7: 39141 | H7: =$H$1-G7 -> 3072 | I7: 46446 | J7: =1/F7 -> 1
A8: 특허 10년미만 소계 | J8: =SUM(J7:J7) -> 1
A9: 특허
A10: 특허 5년미만 소계 | J10: =SUM(J9:J9) -> 0
A11: 실용신안
A12: 실용신안 10년미만 소계 | J12: =SUM(J11:J11) -> 0
A13: 실용신안
A14: 실용신안 5년미만 소계 | J14: =SUM(J13:J13) -> 0
A15: 주) 1. | B15: 증빙서류 좌측에 연번을 반드시 기재후 연번순서대로 제본하여야 합니다.
A16: 2. | B16: 경과기간은 출원일로부터 경과기간을 기재해야 하며, 2인이상 출원시 출원인수로 나누어 산정한 건수로 산정되어집니다.
A17: 3. | B17: 증빙서류는 최근 1월 이내에 관할기관에서 발행한 등본이어야 합니다.

Sheet 활용(000)
A1: 신기술 활용실적
A2: 종류 | B2: 번호 | C2: 지정 번호 | D2: 기술명 | E2: 경과기간 가중치 | F2: 실적 금액 (백만원) | G2: 실적 건수 | H2: 금액 가중치 | I2: 건수 가중치 | J2: 점수 | K2: 비고
A3: 신기술 | B3: 1 | C3: 401 | D3: 바(BAR)조립식 보수팩커와 가지관 보수팩커를 이용한 하수관거 비굴착 부분보수공법 (Multi Point Liner System/MPL공법) | E3: 1 | F3: 2058 | G3: 2 | H3: =IF(F3>=2000,1,IF(F3>=1800,0.9,IF(F3>=1600,0.8,IF(F3>=1400,0.7,IF(F3>=1200,0.6,0))))) -> 1 | I3: =IF(G3>=5,1,IF(G3>=4,0.9,IF(G3>=3,0.8,IF(G3>=2,0.7,IF(G3>=1,0.6,0))))) -> 0.7 | J3: =배점기준!$E$93*MAX(H3,I3)*E3 -> 1
A4: 신기술 | B4: 2 | C4: 441 | D4: 수냉 비정질 C12A7계 시멘트 광물계 급결제와 복합에어인젝션 시스템으로 구성된 타설 장비를 이용한 습식 숏크리트 공법 | E4: 1 | F4: 1943 | G4: 1 | H4: =IF(F4>=2000,1,IF(F4>=1800,0.9,IF(F4>=1600,0.8,IF(F4>=1400,0.7,IF(F4>=1200,0.6,0))))) -> 0.9 | I4: =IF(G4>=5,1,IF(G4>=4,0.9,IF(G4>=3,0.8,IF(G4>=2,0.7,IF(G4>=1,0.6,0))))) -> 0.6 | J4: =배점기준!$E$93*MAX(H4,I4)*E4 -> 0.9
A5: 신기술 | B5: 3 | C5: 453 | D5: 단부의 측면에 설치된 정착장치와 연속 텐던을 이용한 PSC-I형 거더 합성교의 연속화 공법 | E5: 1 | F5: 3326 | G5: 5 | H5: =IF(F5>=2000,1,IF(F5>=1800,0.9,IF(F5>=1600,0.8,IF(F5>=1400,0.7,IF(F5>=1200,0.6,0))))) -> 1 | I5: =IF(G5>=5,1,IF(G5>=4,0.9,IF(G5>=3,0.8,IF(G5>=2,0.7,IF(G5>=1,0.6,0))))) -> 1 | J5: =배점기준!$E$93*MAX(H5,I5)*E5 -> 1
A6: 신기술 소계 | J6: =SUM(J3:J5) -> 2.9
A7: 특허 | B7: 12 | C7: 10-0440671 | D7: 강관말뚝 결합구 | E7: 0.6 | F7: 97 | G7: 1 | H7: =IF(F7>=2000,1,IF(F7>=1800,0.9,IF(F7>=1600,0.8,IF(F7>=1400,0.7,IF(F7>=1200,0.6,0))))) -> 0 | I7: =IF(G7>=5,1,IF(G7>=4,0.9,IF(G7>=3,0.8,IF(G7>=2,0.7,IF(G7>=1,0.6,0))))) -> 0.6 | J7: =배점기준!$F$86*MAX(H7,I7)*E7 -> 0.216
A8: 특허 소계 | J8: =SUM(J7:J7) -> 0.216
A9: 실용신안
A10: 실용신안 소계 | J10: =SUM(J9:J9) -> 0

Sheet 활용(0001)
A1: 신기술 활용실적 00엔지니어링
A2: 종류 | B2: 번호 | C2: 지정 번호 | D2: 기술명 | E2: 경과기간 가중치 | F2: 실적 금액 (백만원) | G2: 실적 건수 | H2: 금액 가중치 | I2: 건수 가중치 | J2: 점수 | K2: 비고
A3: 신기술 | B3: 1 | C3: 453 | D3: 단부의 측면에 설치된 정착장치와 연속 텐던을 이용한 PSC-I형 거더 합성교의 연속화 공법 | E3: 1 | F3: 488 | G3: 3 | H3: =IF(F3>=2000,1,IF(F3>=1800,0.9,IF(F3>=1600,0.8,IF(F3>=1400,0.7,IF(F3>=1200,0.6,0))))) -> 0 | I3: =IF(G3>=5,1,IF(G3>=4,0.9,IF(G3>=3,0.8,IF(G3>=2,0.7,IF(G3>=1,0.6,0))))) -> 0.8 | J3: =배점기준!$E$93*MAX(H3,I3)*E3 -> 0.8
A4: 신기술 | B4: 2 | C4: 461 | D4: 자연분해성 섬유를 이용한 토사 및 풍화암 비탈면 녹화공법 | E4: 1 | F4: 273 | G4: 2 | H4: =IF(F4>=2000,1,IF(F4>=1800,0.9,IF(F4>=1600,0.8,IF(F4>=1400,0.7,IF(F4>=1200,0.6,0))))) -> 0 | I4: =IF(G4>=5,1,IF(G4>=4,0.9,IF(G4>=3,0.8,IF(G4>=2,0.7,IF(G4>=1,0.6,0))))) -> 0.7 | J4: =배점기준!$E$93*MAX(H4,I4)*E4 -> 0.7
A5: 신기술 | B5: 3 | C5: 517 | D5: PSC I형 거더의 상연에 강판을 매설하고 부모멘트 구간에 강판 및 강선을 연결한 교량의 연속화 공법 | E5: 1 | F5: 2030 | G5: 5 | H5: =IF(F5>=2000,1,IF(F5>=1800,0.9,IF(F5>=1600,0.8,IF(F5>=1400,0.7,IF(F5>=1200,0.6,0))))) -> 1 | I5: =IF(G5>=5,1,IF(G5>=4,0.9,IF(G5>=3,0.8,IF(G5>=2,0.7,IF(G5>=1,0.6,0))))) -> 1 | J5: =배점기준!$E$93*MAX(H5,I5)*E5 -> 1
A6: 신기술 | B6: 4 | C6: 521 | D6: 에어튜브를 이용한 에어데크 발파공법 | E6: 1 | F6: 24 | G6: 1 | H6: =IF(F6>=2000,1,IF(F6>=1800,0.9,IF(F6>=1600,0.8,IF(F6>=1400,0.7,IF(F6>=1200,0.6,0))))) -> 0 | I6: =IF(G6>=5,1,IF(G6>=4,0.9,IF(G6>=3,0.8,IF(G6>=2,0.7,IF(G6>=1,0.6,0))))) -> 0.6 | J6: =배점기준!$E$93*MAX(H6,I6)*E6 -> 0.6
A7: 신기술 | B7: 5 | C7: 553 | D7: 고강도 프리캐스트 패널(LB-DECK)과 전용 작업대차를 활용한 교량 바닥판 시공공법 | E7: 1 | F7: 615 | G7: 2 | H7: =IF(F7>=2000,1,IF(F7>=1800,0.9,IF(F7>=1600,0.8,IF(F7>=1400,0.7,IF(F7>=1200,0.6,0))))) -> 0 | I7: =IF(G7>=5,1,IF(G7>=4,0.9,IF(G7>=3,0.8,IF(G7>=2,0.7,IF(G7>=1,0.6,0))))) -> 0.7 | J7: =배점기준!$E$93*MAX(H7,I7)*E7 -> 0.7
A8: 신기술 | B8: 6 | C8: 556 | D8: 강관말뚝과 PHC말뚝을 결합구로 용접시킨 매입형 복합말뚝(HCP:Hybrid Composite Pile)의 설계 및 시공 방법 | E8: 1 | F8: 593 | G8: 2 | H8: =IF(F8>=2000,1,IF(F8>=1800,0.9,IF(F8>=1600,0.8,IF(F8>=1400,0.7,IF(F8>=1200,0.6,0))))) -> 0 | I8: =IF(G8>=5,1,IF(G8>=4,0.9,IF(G8>=3,0.8,IF(G8>=2,0.7,IF(G8>=1,0.6,0))))) -> 0.7 | J8: =배점기준!$E$93*MAX(H8,I8)*E8 -> 0.7
A9: 신기술 | B9: 7 | C9: 582 | D9: 거더 단부의 상부에 긴장재의 이완과 재긴장이 가능한 정착시스템을 이용한 프리스트레스트 콘크리트 거더 공법 | E9: 1 | F9: 2851 | G9: 3 | H9: =IF(F9>=2000,1,IF(F9>=1800,0.9,IF(F9>=1600,0.8,IF(F9>=1400,0.7,IF(F9>=1200,0.6,0))))) -> 1 | I9: =IF(G9>=5,1,IF(G9>=4,0.9,IF(G9>=3,0.8,IF(G9>=2,0.7,IF(G9>=1,0.6,0))))) -> 0.8 | J9: =배점기준!$E$93*MAX(H9,I9)*E9 -> 1
A10: 신기술 소계 | J10: =SUM(J3:J9) -> 5.5
A11: 특허
A12: 특허 소계 | J12: =SUM(J11:J11) -> 0
A13: 실용신안
A14: 실용신안 소계 | J14: =SUM(J13:J13) -> 0

Sheet 활용(0002)
A1: 신기술 활용실적
A2: 종류 | B2: 번호 | C2: 지정 번호 | D2: 기술명 | E2: 경과기간 가중치 | F2: 실적 금액 (백만원) | G2: 실적 건수 | H2: 금액 가중치 | I2: 건수 가중치 | J2: 점수 | K2: 비고
A3: 신기술 | B3: 1 | C3: 453 | D3: 단부의 측면에 설치된 정착장치와 연속 텐던을 이용한 PSC-I형 거더 합성교의 연속화 공법 | E3: 1 | F3: 350 | G3: 1 | H3: =IF(F3>=2000,1,IF(F3>=1800,0.9,IF(F3>=1600,0.8,IF(F3>=1400,0.7,IF(F3>=1200,0.6,0))))) -> 0 | I3: =IF(G3>=5,1,IF(G3>=4,0.9,IF(G3>=3,0.8,IF(G3>=2,0.7,IF(G3>=1,0.6,0))))) -> 0.6 | J3: =배점기준!$E$93*MAX(H3,I3)*E3 -> 0.6
A4: 신기술 | B4: 2 | C4: 461 | D4: 자연분해성 섬유를 이용한 토사 및 풍화암 비탈면 녹화공법 | E4: 1 | F4: 330 | G4: 1 | H4: =IF(F4>=2000,1,IF(F4>=1800,0.9,IF(F4>=1600,0.8,IF(F4>=1400,0.7,IF(F4>=1200,0.6,0))))) -> 0 | I4: =IF(G4>=5,1,IF(G4>=4,0.9,IF(G4>=3,0.8,IF(G4>=2,0.7,IF(G4>=1,0.6,0))))) -> 0.6 | J4: =배점기준!$E$93*MAX(H4,I4)*E4 -> 0.6
A5: 신기술 | B5: 4 | C5: 513 | D5: PS강봉에 프리스트레스를 도입한 단면력 저감형 PC옹벽공법 | E5: 1 | F5: 920 | G5: 1 | H5: =IF(F5>=2000,1,IF(F5>=1800,0.9,IF(F5>=1600,0.8,IF(F5>=1400,0.7,IF(F5>=1200,0.6,0))))) -> 0 | I5: =IF(G5>=5,1,IF(G5>=4,0.9,IF(G5>=3,0.8,IF(G5>=2,0.7,IF(G5>=1,0.6,0))))) -> 0.6 | J5: =배점기준!$E$93*MAX(H5,I5)*E5 -> 0.6
A6: 신기술 | B6: 5 | C6: 517 | D6: PCS I형 거더의 상연에 강판을 매설하고 부모멘트 구간에 강판 및 강선을 연결한 교량의 연속화 공법 | E6: 1 | F6: 2264 | G6: 3 | H6: =IF(F6>=2000,1,IF(F6>=1800,0.9,IF(F6>=1600,0.8,IF(F6>=1400,0.7,IF(F6>=1200,0.6,0))))) -> 1 | I6: =IF(G6>=5,1,IF(G6>=4,0.9,IF(G6>=3,0.8,IF(G6>=2,0.7,IF(G6>=1,0.6,0))))) -> 0.8 | J6: =배점기준!$E$93*MAX(H6,I6)*E6 -> 1
A7: 신기술 | B7: 6 | C7: 518 | D7: 터널 심발부 중앙공 선기폭 및 단계별 V-CUT 발파공법 | E7: 1 | F7: 455 | G7: 1 | H7: =IF(F7>=2000,1,IF(F7>=1800,0.9,IF(F7>=1600,0.8,IF(F7>=1400,0.7,IF(F7>=1200,0.6,0))))) -> 0 | I7: =IF(G7>=5,1,IF(G7>=4,0.9,IF(G7>=3,0.8,IF(G7>=2,0.7,IF(G7>=1,0.6,0))))) -> 0.6 | J7: =배점기준!$E$93*MAX(H7,I7)*E7 -> 0.6
A8: 신기술 | B8: 7 | C8: 553 | D8: 고강도 프리캐스트 패널(LB-DECK)과 전용 작업대차를 활용한 교량 바닥판 시공공법 | E8: 1 | F8: 22 | G8: 1 | H8: =IF(F8>=2000,1,IF(F8>=1800,0.9,IF(F8>=1600,0.8,IF(F8>=1400,0.7,IF(F8>=1200,0.6,0))))) -> 0 | I8: =IF(G8>=5,1,IF(G8>=4,0.9,IF(G8>=3,0.8,IF(G8>=2,0.7,IF(G8>=1,0.6,0))))) -> 0.6 | J8: =배점기준!$E$93*MAX(H8,I8)*E8 -> 0.6
A9: 신기술 | B9: 8 | C9: 561 | D9: WPC(Wide flange Prestressed Concrete)박스거더 교량공법 | E9: 1 | F9: 1396 | G9: 2 | H9: =IF(F9>=2000,1,IF(F9>=1800,0.9,IF(F9>=1600,0.8,IF(F9>=1400,0.7,IF(F9>=1200,0.6,0))))) -> 0.6 | I9: =IF(G9>=5,1,IF(G9>=4,0.9,IF(G9>=3,0.8,IF(G9>=2,0.7,IF(G9>=1,0.6,0))))) -> 0.7 | J9: =배점기준!$E$93*MAX(H9,I9)*E9 -> 0.7
A10: 신기술 | B10: 9 | C10: 582 | D10: 거더 단부의 상부에 긴장재의 이완과 재긴장이 가능한 정착시스템을 이용한 프리스트레스트 콘크리트 거더 공법 | E10: 1 | F10: 558 | G10: 1 | H10: =IF(F10>=2000,1,IF(F10>=1800,0.9,IF(F10>=1600,0.8,IF(F10>=1400,0.7,IF(F10>=1200,0.6,0))))) -> 0 | I10: =IF(G10>=5,1,IF(G10>=4,0.9,IF(G10>=3,0.8,IF(G10>=2,0.7,IF(G10>=1,0.6,0))))) -> 0.6 | J10: =배점기준!$E$93*MAX(H10,I10)*E10 -> 0.6
A11: 신기술 | B11: 10 | C11: 597 | D11: LU형으로 3차원 가공된 이형철근을 결합한 강관말뚝 두부보강 공법 | E11: 1 | F11: 9 | G11: 1 | H11: =IF(F11>=2000,1,IF(F11>=1800,0.9,IF(F11>=1600,0.8,IF(F11>=1400,0.7,IF(F11>=1200,0.6,0))))) -> 0 | I11: =IF(G11>=5,1,IF(G11>=4,0.9,IF(G11>=3,0.8,IF(G11>=2,0.7,IF(G11>=1,0.6,0))))) -> 0.6 | J11: =배점기준!$E$93*MAX(H11,I11)*E11 -> 0.6
A12: 신기술 소계 | J12: =SUM(J3:J11) -> 5.9
A13: 특허
A14: 특허 소계 | J14: =SUM(J13:J13) -> 0
A15: 실용신안
A16: 실용신안 소계 | J16: =SUM(J15:J15) -> 0
P21: =기술투자!#REF! -> #REF!

Sheet 중복도
A1: 5. 업무중복도 (10점)
I2: 용역기간 | J2: 24
B4: 업체명 | C4: 중복건수
C5: 구분 | D5: 사업책임 | E5: =배점기준!C3 -> 도시계획 | F5: =배점기준!C4 -> 토질지질 | G5: =배점기준!C5 -> 도로공항 | H5: =배점기준!C6 -> 토목구조 | I5: =배점기준!C7 -> 상하수도 | J5: 분책소계
B6: =신용도!B6 -> oo엔지니어링 | C6: 중복기간합계 (개월) | D6: =중복신고!H9 -> 4.5333333 | E6: =중복신고!H18 -> 21.033333 | F6: =중복신고!H26 -> 34.333333 | G6: =중복신고!H38 -> 30.1 | H6: =중복신고!H45 -> 48 | I6: =중복신고!H52 -> 12.4
B7: =신용도!B7 -> ＊＊엔지니어링 | C7: 중첩률 | D7: =D6/$J$2 -> 0.18888889 | E7: =E6/$J$2 -> 0.87638889 | F7: =F6/$J$2 -> 1.4305556 | G7: =G6/$J$2 -> 1.2541667 | H7: =H6/$J$2 -> 2 | I7: =I6/$J$2 -> 0.51666667
B8: =신용도!B8 -> ☆☆엔지니어링 | C8: 평점 | D8: =IF(D7<$D$10,$D$11,IF(D7<$E$10,$E$11,IF(D7<F10,F11,IF(D7<G10,G11,IF(D7>=H10,H11))))) -> 4 | E8: =IF(E7<$D$10,$D$12,IF(E7<$E$10,$E$12,IF(E7<$F$10,$F$12,IF(E7<$G$10,$G$12,IF(E7>=$H$10,$H$12)))))*배점기준!D3 -> 1.8 | F8: =IF(F7<$D$10,$D$12,IF(F7<$E$10,$E$12,IF(F7<$F$10,$F$12,IF(F7<$G$10,$G$12,IF(F7>=$H$10,$H$12)))))*배점기준!D4 -> 0.54 | G8: =IF(G7<$D$10,$D$12,IF(G7<$E$10,$E$12,IF(G7<$F$10,$F$12,IF(G7<$G$10,$G$12,IF(G7>=$H$10,$H$12)))))*배점기준!D5 -> 1.35 | H8: =IF(H7<$D$10,$D$12,IF(H7<$E$10,$E$12,IF(H7<$F$10,$F$12,IF(H7<$G$10,$G$12,IF(H7>=$H$10,$H$12)))))*배점기준!D6 -> 0.48 | I8: =IF(I7<$D$10,$D$12,IF(I7<$E$10,$E$12,IF(I7<$F$10,$F$12,IF(I7<$G$10,$G$12,IF(I7>=$H$10,$H$12)))))*배점기준!D7 -> 1.5 | J8: =SUM(E8:I8) -> 5.67
B10: 배점기준 | C10: 벌점여부 | D10: 1 | E10: 1.6 | F10: 2.2 | G10: 2.8 | H10: 2.8
C11: 사업책임 | D11: =배점기준!C101 -> 4 | E11: =$D$11*0.9 -> 3.6 | F11: =$D$11*0.8 -> 3.2 | G11: =$D$11*0.7 -> 2.8 | H11: =$D$11*0.6 -> 2.4
C12: 분야별책임 | D12: =배점기준!C102 -> 6 | E12: =$D$12*0.9 -> 5.4 | F12: =$D$12*0.8 -> 4.8 | G12: =$D$12*0.7 -> 4.2 | H12: =$D$12*0.6 -> 3.6
A14: 주) 1. | B14: 사업책임기술자, 분야별책임기술자별로 작성합니다.
A15: 2 | B15: PQ서류 제출일기준 잔여과업기간이 3개월이상인 용역에 대하여 작성합니다.
A16: 3 | B16: 용역계약서사본, 참여기술자명단 등 현재 수행중인 용역현황을 파악할 수 있는 증빙서류를 첨부합니다.
A17: 4 | B17: 현재 중지중인 용역에 대하여도 모두 기재하시기 바라며, 이경우에 해당시 중지일 및 중지사유 기재. 공사발주완료된 경우는 확인할수 있는 근거서류 제출합니다.

Sheet 중복신고
A1: 업무중복도 (10점) | K1: PQ서류제출일
B2: □ 사업책임기술자(4점) | K2: 42234
B4: □ 사업책임기술자 000(참여업체)
B5: 번호 | C5: 참여용역명 | D5: 참여용역 | F5: 계약기간 (일) | G5: 계약금액 (백만원) | H5: 잔여기간 (일) | I5: 용역중지일 | J5: 중지사유 | K5: 비고
D6: 용역계약일 | E6: 용역준공일
B7: 1 | D7: 41599 | E7: 42236 | F7: =E7-D7+1 -> 638 | G7: 395 | H7: =IF((E7-$K$2+1)>=(중복도!$J$2*30),(중복도!$J$2*30),IF((E7-$K$2+1)<30,0,(E7-$K$2+1))) -> 0
B8: 2 | D8: 41821 | E8: 42369 | F8: =E8-D8+1 -> 549 | G8: 487 | H8: =IF((E8-$K$2+1)>=(중복도!$J$2*30),(중복도!$J$2*30),IF((E8-$K$2+1)<30,0,(E8-$K$2+1))) -> 136
B9: 합 계 | H9: =SUM(H7:H8)/30 -> 4.5333333
B11: □ 분야별 책임기술자(6점)
B13: □ 도시계획분야 책임기술자 000(참여업체)
B14: 번호 | C14: 참여용역명 | D14: 참여용역 | F14: 계약기간 (일) | G14: 계약금액 (백만원) | H14: 잔여기간 (일) | I14: 용역중지일 | J14: 중지사유 | K14: 비고
D15: 용역계약일 | E15: 용역준공일
B16: 1 | D16: 42153 | E16: 42523 | F16: =E16-D16+1 -> 371 | G16: 880 | H16: =IF((E16-$K$2+1)>=(중복도!$J$2*30),(중복도!$J$2*30),IF((E16-$K$2+1)<30,0,(E16-$K$2+1))) -> 290
B17: 2 | D17: 42118 | E17: 42574 | F17: =E17-D17+1 -> 457 | G17: 440 | H17: =IF((E17-$K$2+1)>=(중복도!$J$2*30),(중복도!$J$2*30),IF((E17-$K$2+1)<30,0,(E17-$K$2+1))) -> 341
B18: 합 계 | H18: =SUM(H16:H17)/30 -> 21.033333
B19: □ 토질·지질분야 책임기술자 000(참여업체)
B20: 번호 | C20: 참여용역명 | D20: 참여용역 | F20: 계약기간 (일) | G20: 계약금액 (백만원) | H20: 잔여기간 (일) | I20: 용역중지일 | J20: 중지사유 | K20: 비고
D21: 용역계약일 | E21: 용역준공일
B22: 1 | D22: 41459 | E22: 42326 | F22: =E22-D22+1 -> 868 | G22: 991 | H22: =IF((E22-$K$2+1)>=(중복도!$J$2*30),(중복도!$J$2*30),IF((E22-$K$2+1)<30,0,(E22-$K$2+1))) -> 93
B23: 2 | D23: 41827 | E23: 42546 | F23: =E23-D23+1 -> 720 | G23: 602 | H23: =IF((E23-$K$2+1)>=(중복도!$J$2*30),(중복도!$J$2*30),IF((E23-$K$2+1)<30,0,(E23-$K$2+1))) -> 313
B24: 3 | D24: 41946 | E24: 42575 | F24: =E24-D24+1 -> 630 | G24: 807 | H24: =IF((E24-$K$2+1)>=(중복도!$J$2*30),(중복도!$J$2*30),IF((E24-$K$2+1)<30,0,(E24-$K$2+1))) -> 342
B25: 4 | D25: 42216 | E25: 42515 | F25: =E25-D25+1 -> 300 | G25: 481 | H25: =IF((E25-$K$2+1)>=(중복도!$J$2*30),(중복도!$J$2*30),IF((E25-$K$2+1)<30,0,(E25-$K$2+1))) -> 282
B26: 합 계 | H26: =SUM(H22:H25)/30 -> 34.333333
B29: □ 도로·공항분야 책임기술자 000 (참여업체)
B30: 번호 | C30: 참여용역명 | D30: 참여용역 | F30: 계약기간 (일) | G30: 계약금액 (백만원) | H30: 잔여기간 (일) | I30: 용역중지일 | J30: 중지사유 | K30: 비고
D31: 용역계약일 | E31: 용역준공일
B32: 1 | D32: 41821 | E32: 42369 | F32: =E32-D32+1 -> 549 | G32: 487 | H32: =IF((E32-$K$2+1)>=(중복도!$J$2*30),(중복도!$J$2*30),IF((E32-$K$2+1)<30,0,(E32-$K$2+1))) -> 136
B33: 2 | D33: 41842 | E33: 42388 | F33: =E33-D33+1 -> 547 | G33: 232 | H33: =IF((E33-$K$2+1)>=(중복도!$J$2*30),(중복도!$J$2*30),IF((E33-$K$2+1)<30,0,(E33-$K$2+1))) -> 155
B34: 3 | D34: 42167 | E34: 42706 | F34: =E34-D34+1 -> 540 | G34: 357 | H34: =IF((E34-$K$2+1)>=(중복도!$J$2*30),(중복도!$J$2*30),IF((E34-$K$2+1)<30,0,(E34-$K$2+1))) -> 473
B35: 4 | D35: 42193 | E35: 42372 | F35: =E35-D35+1 -> 180 | G35: 203 | H35: =IF((E35-$K$2+1)>=(중복도!$J$2*30),(중복도!$J$2*30),IF((E35-$K$2+1)<30,0,(E35-$K$2+1))) -> 139
B36: 5 | D36: 41800 | E36: 42519 | F36: =E36-D36+1 -> 720 | G36: 950 | I36: 42180
B37: 6 | D37: 41893 | E37: 42432 | F37: =E37-D37+1 -> 540 | G37: 358 | H37: - | I37: 42178
B38: 합 계 | H38: =SUM(H32:H37)/30 -> 30.1
B40: □ 토목구조분야 책임기술자 000 (참여업체)
B41: 번호 | C41: 참여용역명 | D41: 참여용역 | F41: 계약기간 (일) | G41: 계약금액 (백만원) | H41: 잔여기간 (일) | I41: 용역중지일 | J41: 중지사유 | K41: 비고
D42: 용역계약일 | E42: 용역준공일
B43: 1 | D43: 42135 | E43: 43049 | F43: =E43-D43+1 -> 915 | G43: 581 | H43: =IF((E43-$K$2+1)>=(중복도!$J$2*30),(중복도!$J$2*30),IF((E43-$K$2+1)<30,0,(E43-$K$2+1))) -> 720
B44: 2 | D44: 42150 | E44: 43976 | F44: =E44-D44+1 -> 1827 | G44: 650 | H44: =IF((E44-$K$2+1)>=(중복도!$J$2*30),(중복도!$J$2*30),IF((E44-$K$2+1)<30,0,(E44-$K$2+1))) -> 720
B45: 합 계 | H45: =SUM(H43:H44)/30 -> 48
B47: □ 상하수도분야 책임기술자 000 (참여업체)
B48: 번호 | C48: 참여용역명 | D48: 참여용역 | F48: 계약기간 (일) | G48: 계약금액 (백만원) | H48: 잔여기간 (일) | I48: 용역중지일 | J48: 중지사유 | K48: 비고
D49: 용역계약일 | E49: 용역준공일
B50: 1 | D50: 41785 | E50: 42246 | F50: =E50-D50+1 -> 462 | G50: 754 | H50: =IF((E50-$K$2+1)>=([2]중첩도!$K$2*30),([2]중첩도!$K$2*30),(E50-$K$2+1)) -> 13 | I50: 42003 | J50: 하수도정비대책수립
B51: 2 | D51: 42143 | E51: 42592 | F51: =E51-D51+1 -> 450 | G51: 867 | H51: =IF((E51-$K$2+1)>=(중복도!$J$2*30),(중복도!$J$2*30),IF((E51-$K$2+1)<30,0,(E51-$K$2+1))) -> 359
B52: 합 계 | H52: =SUM(H50:H51)/30 -> 12.4
B56: 주) 1. | C56: 사업책임기술자, 분야별책임기술자별로 작성합니다.
B57: 2. | C57: 공고일기준 잔여과업기간이 3개월이상인 용역에 대하여 작성합니다.
B58: 3. | C58: 용역계약서사본, 참여기술자명단 등 현재 수행중인 용역현황을 파악할 수 있는 증빙서류를 첨부합니다.
B59: 4. | C59: 현재 중지중인 용역에 대하여도 모두 기재하시기 바라며, 중복금액합계나 중복적용건수에는 반영하지 않습니다. 이경우에 해당시 중지일 및 중지사유 기재. 공사발주완료된 경우는 확인할수 있는 근거서류를 제시한경우만 인정합니다.
B60: 5. | C60: 기입란이 부족한 경우 행 삽입,삭제가 가능하며, 행삽입,삭제시 실적이 합계에서 누락되지 않도록 반드시 확인(중첩도 시트) 주의해야 합니다

Sheet 가감점
A1: 6. 가감점
B3: 업체명 | C3: 지분율 | D3: 우수(하위) 용역업자 | E3: 건설기술자 신규고용율 | F3: 평 가
B5: =중복도!B6 -> oo엔지니어링 | C5: =참여업체!C7 -> 0.42 | D5: 0 | F5: =ROUND((D5*C5+D6*C6+D7*C7)+(E5*C5+E6*C6+D7*C7),2) -> 0
B6: =중복도!B7 -> ＊＊엔지니어링 | C6: =참여업체!D7 -> 0.33 | D6: 0
B7: =중복도!B8 -> ☆☆엔지니어링 | C7: =참여업체!E7 -> 0.25 | D7: 0
Q22: =기술투자!#REF! -> #REF!

Sheet Sheet1
