Workbook
Name 기준: 신용도!#REF!
Name 기준: 신용도!#REF!
Name 기준: 신용도!#REF!
Name 기준: 신용도!#REF!
Name 기준: 신용도!#REF!
Name 기준: 신용도!#REF!
Name 회사채: 신용도!$D$22:$D$40

Sheet 작성요령
A2: PQ 평가표 작성 요령
A4: 1. 입력시 색으로 표시된 부분에 직접입력하도록 하고, 색으로 표시된 부분은 목록에서 선택하고, 산식으로 계산된 부분은 입력하지 않습니다.
A5: 2. 각 실적 입력 시트에 | D5: 색으로 표시된 셀은 집계표의 참조셀이므로 절대로 삭제하면 안됩니다.
A6: 3. 해당용역 해당분야별 실적금액 입력시는 영향평가관련 분야의 준공실적 만을 기입합니다.
A7: 4. 만약 평가지침과 본 평가표 양식의 차이가 발생할 시에는 평가지침의 내용을 따릅니다.
A8: 5. '배점'시트는 평가점수산정시 필요한 기준들을 기입한 시트로 분야별 가중치 외는 참고만 합니다. 단, 교통영향분석, 개선대책과 광역교통개선대책을 통합용역으로 별도 발주하는 경우에는 배점을 수정합니다.
A9: 6. 평가부서에서는 업체에서 제출한 작성표를 근거로 관련 증빙자료 검증 후 점수를 조정할 수 있습니다.
A10: 7. 엑셀수식오류 및 업체의 양식임의변경으로 발생될 수 있는 오류에 대하여는 당사에서 책임지지 않으니, 업체산정점수와 엑셀산출점수를 확인 후 제출바랍니다.
A11: 8. 본 엑셀양식은 가로인쇄로 작성되어 있으며 인쇄후 평가서 제본시에는 접지않고 횡상철하여 제출하시기 바랍니다.
A12: 9. 추가로 증빙자료의 총괄 설명이 필요할시에는 임의양식으로 작성제출 하시기 바랍니다.
A13: 10. 엑셀서식오류 등 작성양식과 관련된 문의 사항은 본사 기술지원단 (055-922-5372)로 문의 바랍니다.

Sheet 참여업체
B2: O O 지구 O O 영향평가 용역
B4: 사업수행능력평가 참가업체
B6: 업체명 | C6: ㈜ㅁㅁ엔지니어링 | D6: ㅇㅇ엔지니어링㈜ | E6: ◇◇기술공사㈜ | F6: 비고
B7: 지분율 | C7: 0.5 | D7: 0.3 | E7: 0.2
A8: 주) | B8: 공동도급인 경우에는 업체명과 각 해당 지분율을 입력합니다.

Sheet 배점기준
A1: ■ 기준입력
A2: 항 목 | B2: 구분 | C2: 해당분야 | D2: 비율 | E2: 평가대상 인원수 | G2: 입찰공고일 | H2: 42039
A3: 참여평가자 전문분야 별 비율 | B3: 분야1 | C3: 대기관리 | D3: 0.25 | E3: =COUNTA(C3:C8)*2+1 -> 9 | G3: PQ서류 제출일 | H3: 42050
B4: 분야2 | C4: 수질관리 | D4: 0.25 | G4: 발주금액 | H4: 500000
B5: 분야3 | C5: 소음진동 | D5: 0.25 | G5: 사업구분 | H5: 단순
B6: 분야4 | C6: 폐기물처리 | D6: 0.25 | G6: 업체능력평가 여부 | H6: 미시행
B7: 분야5 | D7: 0
B8: 분야6 | D8: 0
B9: 소계 | D9: =SUM(D3:D8) -> 1
A11: ■ 배점기준
A12: 항 목 | C12: 세부항목 | D12: 배점 | E12: 구분 | F12: 1순위 | G12: 2순위 | H12: 3순위 | I12: 4순위 | J12: 5순위 | K12: 6순위 | L12: 7순위
A13: 환경평가 참여자 능력평가 | B13: 총괄평가자 | C13: 자격 및 등급 | D13: 3 | E13: 등급 | F13: 환경영향평가사 | G13: 해당기술사 | H13: 특급기술자
E14: 점수 | F14: 3 | G14: 2.85 | H14: 2.7
C15: 경 력 | D15: =IF($H$6="시행",4,5) -> 5 | E15: 경력 | F15: 17 | G15: 15 | H15: 13 | I15: 10 | J15: 9 | K15: 7 | L15: 7
E16: 점수 | F16: =D15*N17 -> 5 | G16: =D15*N18 -> 5 | H16: =D15*N19 -> 4.5 | I16: =D15*N21 -> 4 | J16: =D15*N22 -> 3.5 | K16: =D15*N23 -> 3 | L16: =D15*N24 -> 2.5 | N16: 적용점수 | P16: 분류
C17: 실 적 | D17: =IF($H$6="시행",4,5) -> 5 | E17: 실적 | F17: 15 | G17: 13 | H17: 11 | I17: 9 | J17: 9 | N17: =IF(H5="복잡",O17,1) -> 1 | O17: 1 | P17: 단순 | Q17: 시행
E18: 점수 | F18: =D17*N17 -> 5 | G18: =D17*N18 -> 5 | H18: =D17*N19 -> 4.5 | I18: =D17*N21 -> 4 | J18: =D17*N22 -> 3.5 | N18: =IF(H5="복잡",O18,1) -> 1 | O18: 0.9 | P18: 복잡 | Q18: 미시행
C19: 업무여유도 | D19: 4 | E19: 기준 | F19: 중복없음 | G19: 5억원 초과 | N19: =IF(H5="복잡",O19,0.9) -> 0.9 | O19: 0.8
E20: 점수 | F20: =D19 -> 4 | G20: 0 | N20: =IF(H5="복잡",O20,0.8) -> 0.8 | O20: 0
B21: 분야별 책임평가자 | C21: 자격 및 등급 | D21: 6 | E21: 등급 | F21: 환경영향평가사 | G21: 해당기술사 | H21: 특급기술자 | I21: 고급기술자 | J21: 중급기술자 | N21: =IF(H5="복잡",O21,0.8) -> 0.8 | O21: 0.7
E22: 점수 | F22: =D21*N17 -> 6 | G22: =D21*N17 -> 6 | H22: =D21*N18 -> 6 | I22: =D21*N19 -> 5.4 | J22: =D21*N20 -> 4.8 | N22: =IF(H5="복잡",O22,0.7) -> 0.7 | O22: 0.6
E23: =C3 -> 대기관리 | F23: =F22*$D$3 -> 1.5 | G23: =G22*$D$3 -> 1.5 | H23: =H22*$D$3 -> 1.5 | I23: =I22*$D$3 -> 1.35 | J23: =J22*$D$3 -> 1.2 | N23: =IF(H5="복잡",O23,0.6) -> 0.6 | O23: 0.5
E24: =C4 -> 수질관리 | F24: =F22*$D$4 -> 1.5 | G24: =G22*$D$4 -> 1.5 | H24: =H22*$D$4 -> 1.5 | I24: =I22*$D$4 -> 1.35 | J24: =J22*$D$4 -> 1.2 | N24: =IF(H5="복잡",O24,0.5) -> 0.5 | O24: 0.4
E25: =C5 -> 소음진동 | F25: =F22*$D$5 -> 1.5 | G25: =G22*$D$5 -> 1.5 | H25: =H22*$D$5 -> 1.5 | I25: =I22*$D$5 -> 1.35 | J25: =J22*$D$5 -> 1.2
E26: =C6 -> 폐기물처리 | F26: =F22*$D$6 -> 1.5 | G26: =G22*$D$6 -> 1.5 | H26: =H22*$D$6 -> 1.5 | I26: =I22*$D$6 -> 1.35 | J26: =J22*$D$6 -> 1.2
E27: =C7 -> 0 | F27: =F22*$D$7 -> 0 | G27: =G22*$D$7 -> 0 | H27: =H22*$D$7 -> 0 | I27: =I22*$D$7 -> 0 | J27: =J22*$D$7 -> 0
E28: =C8 -> 0 | F28: =F22*$D$8 -> 0 | G28: =G22*$D$8 -> 0 | H28: =H22*$D$8 -> 0 | I28: =I22*$D$8 -> 0 | J28: =J22*$D$8 -> 0
C29: 경 력 | D29: 7 | E29: 경력 | F29: 17 | G29: 15 | H29: 13 | I29: 10 | J29: 9 | K29: 7 | L29: 7
E30: 점수 | F30: =D29*N17 -> 7 | G30: =D29*N17 -> 7 | H30: =D29*N18 -> 7 | I30: =D29*N19 -> 6.3 | J30: =D29*N21 -> 5.6 | K30: =D29*N22 -> 4.9 | L30: =D29*N23 -> 4.2
E31: =E23 -> 대기관리 | F31: =F30*$D$3 -> 1.75 | G31: =G30*$D$3 -> 1.75 | H31: =H30*$D$3 -> 1.75 | I31: =I30*$D$3 -> 1.575 | J31: =J30*$D$3 -> 1.4 | K31: =K30*$D$3 -> 1.225 | L31: =L30*$D$3 -> 1.05
E32: =E24 -> 수질관리 | F32: =F30*$D$4 -> 1.75 | G32: =G30*$D$4 -> 1.75 | H32: =H30*$D$4 -> 1.75 | I32: =I30*$D$4 -> 1.575 | J32: =J30*$D$4 -> 1.4 | K32: =K30*$D$4 -> 1.225 | L32: =L30*$D$4 -> 1.05
E33: =E25 -> 소음진동 | F33: =F30*$D$5 -> 1.75 | G33: =G30*$D$5 -> 1.75 | H33: =H30*$D$5 -> 1.75 | I33: =I30*$D$5 -> 1.575 | J33: =J30*$D$5 -> 1.4 | K33: =K30*$D$5 -> 1.225 | L33: =L30*$D$5 -> 1.05
E34: =E26 -> 폐기물처리 | F34: =F30*$D$6 -> 1.75 | G34: =G30*$D$6 -> 1.75 | H34: =H30*$D$6 -> 1.75 | I34: =I30*$D$6 -> 1.575 | J34: =J30*$D$6 -> 1.4 | K34: =K30*$D$6 -> 1.225 | L34: =L30*$D$6 -> 1.05
E35: =E27 -> 0 | F35: =F30*$D$7 -> 0 | G35: =G30*$D$7 -> 0 | H35: =H30*$D$7 -> 0 | I35: =I30*$D$7 -> 0 | J35: =J30*$D$7 -> 0 | K35: =K30*$D$7 -> 0 | L35: =L30*$D$7 -> 0
E36: =E28 -> 0 | F36: =F30*$D$8 -> 0 | G36: =G30*$D$8 -> 0 | H36: =H30*$D$8 -> 0 | I36: =I30*$D$8 -> 0 | J36: =J30*$D$8 -> 0 | K36: =K30*$D$8 -> 0 | L36: =L30*$D$8 -> 0
C37: 3.실적 | D37: 7 | E37: 실적 | F37: 15 | G37: 13 | H37: 11 | I37: 9 | J37: 9
E38: 점수 | F38: =D37*N17 -> 7 | G38: =D37*N18 -> 7 | H38: =D37*N19 -> 6.3 | I38: =D37*N21 -> 5.6 | J38: =D37*N22 -> 4.9
E39: =E23 -> 대기관리 | F39: =F38*$D$3 -> 1.75 | G39: =G38*$D$3 -> 1.75 | H39: =H38*$D$3 -> 1.575 | I39: =I38*$D$3 -> 1.4 | J39: =J38*$D$3 -> 1.225
E40: =E24 -> 수질관리 | F40: =F38*$D$4 -> 1.75 | G40: =G38*$D$4 -> 1.75 | H40: =H38*$D$4 -> 1.575 | I40: =I38*$D$4 -> 1.4 | J40: =J38*$D$4 -> 1.225
E41: =E25 -> 소음진동 | F41: =F38*$D$5 -> 1.75 | G41: =G38*$D$5 -> 1.75 | H41: =H38*$D$5 -> 1.575 | I41: =I38*$D$5 -> 1.4 | J41: =J38*$D$5 -> 1.225
...

Sheet 종합평가표
A1: 종 합 평 가 표
A3: =참여업체!B2 -> O O 지구 O O 영향평가 용역
A4: 평가항목 | C4: 세 부 사 항 | F4: 평가 | G4: 제출 점수
A5: 분 야 별 | B5: 배점 | C5: 항 목 | E5: 배 점
A6: 환경평가 참여자 능력평가 | B6: =SUM(E6:E20) -> 70 | C6: 자격 및 등급 | D6: 총괄평가자 | E6: =배점기준!D13 -> 3 | F6: =평가자!$H$4 -> 2.85
D7: 분야별 책임평가자 | E7: =배점기준!D21 -> 6 | F7: =평가자!$L$13 -> 5.85
D8: 분야별 평가자 | E8: =배점기준!D53 -> 5 | F8: =평가자!$L$25 -> 5
C9: 경력 | D9: 총괄평가자 | E9: =배점기준!D15 -> 5 | F9: =평가자!$H5 -> 2.5
D10: 분야별 책임평가자 | E10: =배점기준!D29 -> 7 | F10: =평가자!L15 -> 4.2
D11: 분야별 평가자 | E11: =배점기준!D61 -> 6 | F11: =평가자!L27 -> 6
C12: 실적 | D12: 총괄평가자 | E12: =배점기준!D17 -> 5 | F12: =평가자!H6 -> 3.5
D13: 분야별 책임평가자 | E13: =배점기준!D37 -> 7 | F13: =평가자!L17 -> 5.08
D14: 분야별 평가자 | E14: =배점기준!D69 -> 6 | F14: =평가자!L29 -> 5.55
C15: 업무여유도 | D15: 총괄평가자 | E15: =배점기준!D19 -> 4 | F15: =평가자!H7 -> 4
D16: 분야별 책임평가자 | E16: =배점기준!D45 -> 7 | F16: =평가자!L19 -> 7
D17: 분야별 평가자 | E17: =배점기준!D77 -> 6 | F17: =평가자!L31 -> 6
C18: 교육훈련 | E18: =배점기준!D85 -> 1 | F18: =평가자!F35 -> 0.27777778
C19: 과업의 이해도 | E19: =배점기준!D87 -> 1 | F19: =평가자!F39 -> 0.22
C20: 환경평가발전(평가자) | E20: 1 | F20: 1
A21: 환경평가업체 능력평가 | B21: =SUM(E21:E31) -> 30 | C21: 환경영향평가등 수행실적 | D21: 건수 | E21: =배점기준!D91 -> 7 | F21: =환경평가업체!H5 -> 5.6
D22: 금액 | E22: =배점기준!D93 -> 7 | F22: =환경평가업체!H8 -> 7
C23: 신용도 | D23: 업무정지, 거짓작성 등 | E23: =배점기준!D95 -> 5 | F23: =신용도!I5 -> 0.88
D24: 재정상태 건실도 | E24: =배점기준!D103 -> 3 | F24: =신용도!L14 -> 3
C25: 기술개발 및 투자실적 | D25: 개발실적 | E25: 2 | F25: =기술투자!Q6 -> 2
D26: 투자실적 | E26: 2 | F26: =기술투자!J13 -> 2
D27: 활용실적 | E27: 2 | F27: =기술투자!L26 -> 2
C28: 환경평가발전 | D28: 우수업체 | E28: 1 | F28: 1
D29: 공동도급 | E29: 1 | F29: 1
C30: 업체능력평가 | D30: 총괄평가자의 능력 | E30: =배점기준!D129 -> 0 | F30: 0
D31: 참여의향서 | E31: =배점기준!D131 -> 0 | F31: 0
C32: 가감점 | D32: 하도급 준수여부, 입찰불참 | F32: =가감점!F11 -> 0
A33: 계 | E33: =SUM(E6:E32) -> 100 | F33: =SUM(F6:F32) -> 83.507778 | G33: =IF(F33>=70,"선정","미선정") -> 선정

Sheet 평가자
A1: 1. 환경평가 참여자 능력평가
B2: ○ 총괄평가자[15점(17점)]
C3: 업체명 | D3: 항목 | E3: 배점 | F3: 등급 | G3: 이적계수 | H3: 평가
C4: =참여업체!C6&"+"&참여업체!D6&"+"&참여업체!E6 -> ㈜ㅁㅁ엔지니어링+ㅇㅇ엔지니어링㈜+◇◇기술공사㈜ | D4: 등급 | E4: =배점기준!D13 -> 3 | F4: 해당기술사 | G4: 1 | H4: =IF(F4=배점기준!F13,배점기준!$F$14,IF(F4=배점기준!G13,배점기준!$G$14,IF(F4=배점기준!H13,배점기준!$H$14,0)))*G4 -> 2.85 | O4: 분류
D5: 경력(년) | E5: =배점기준!D15 -> 5 | F5: =총괄경력!K19 -> 0 | H5: =IF(F5>=배점기준!$F$15,배점기준!$F$16,IF(F5>=배점기준!$G$15,배점기준!$G$16,IF(F5>=배점기준!$H$15,배점기준!$H$16,IF(F5>=배점기준!$I$15,배점기준!$I$16,IF(F5>=배점기준!$J$15,배점기준!$J$16,IF(F5>=배점기준!$K$15,배점기준!$K$16,IF(F5<배점기준!$L$15,배점기준!$L$16))))))*G4) -> 2.5 | O5: 환경영향평가사
D6: 실적(건) | E6: =배점기준!D17 -> 5 | F6: =총괄실적!N19 -> 8.75 | H6: =IF(F6>=배점기준!$F$17,배점기준!$F$18,IF(F6>=배점기준!$G$17,배점기준!$G$18,IF(F6>=배점기준!$H$17,배점기준!$H$18,IF(F6>=배점기준!$I$17,배점기준!$I$18,IF(F6<배점기준!$J$17,배점기준!$J$18))))*G4) -> 3.5 | O6: 해당기술사
D7: 업무여유도(억원) | E7: =배점기준!D19 -> 4 | F7: =업무여유도!K9 -> 0 | H7: =IF((배점기준!F20-(배점기준!F20*F7/2.5))<0,0,(배점기준!F20-(배점기준!F20*F7/2.5))) -> 4 | O7: 특급기술자
O8: 고급기술자
B9: ○ 분야별 책임평가자[27점] | O9: 중급기술자
C10: 업체명 | D10: 항목 | E10: 배점 | F10: =배점기준!$E$23 -> 대기관리 | G10: =배점기준!$E$24 -> 수질관리 | H10: =배점기준!$E$25 -> 소음진동 | I10: =배점기준!$E$26 -> 폐기물처리 | J10: =배점기준!$C$7 -> 0 | K10: =배점기준!$C$8 -> 0 | L10: 평가 | O10: 초급기술자
C11: =C4 -> ㈜ㅁㅁ엔지니어링+ㅇㅇ엔지니어링㈜+◇◇기술공사㈜ | D11: 이적계수 | E11: - | F11: 1 | G11: 1 | H11: 1 | I11: 1 | J11: 1 | K11: 1
D12: 등급 | E12: =배점기준!D21 -> 6 | F12: 환경영향평가사 | G12: 해당기술사 | H12: 특급기술자 | I12: 고급기술자 | J12: 고급기술자 | K12: 중급기술자
D13: 점수 | F13: =IF(F12=배점기준!$F$21,배점기준!$F$23,IF(F12=배점기준!$G$21,배점기준!$G$23,IF(F12=배점기준!$H$21,배점기준!$H$23,IF(F12=배점기준!$I$21,배점기준!$I$23,0))))*F11 -> 1.5 | G13: =IF(G12=배점기준!$F$21,배점기준!$F$24,IF(G12=배점기준!$G$21,배점기준!$G$24,IF(G12=배점기준!$H$21,배점기준!$H$24,IF(G12=배점기준!$I$21,배점기준!$I$24,0))))*G11 -> 1.5 | H13: =IF(H12=배점기준!$F$21,배점기준!$F$25,IF(H12=배점기준!$G$21,배점기준!$G$25,IF(H12=배점기준!$H$21,배점기준!$H$25,IF(H13=배점기준!$I$21,배점기준!$I$25,0))))*H11 -> 1.5 | I13: =IF(I12=배점기준!$F$21,배점기준!$F$26,IF(I12=배점기준!$G$21,배점기준!$G$26,IF(I12=배점기준!$H$21,배점기준!$H$26,IF(I12=배점기준!$I$21,배점기준!$I$26,0))))*I11 -> 1.35 | J13: =IF(J12=배점기준!$F$21,배점기준!$F$23,IF(J12=배점기준!$G$21,배점기준!$G$23,IF(J12=배점기준!$H$21,배점기준!$H$23,IF(J22=배점기준!$I$21,배점기준!$I$23,0))))*J11 -> 0 | K13: =IF(K12=배점기준!$F$21,배점기준!$F$23,IF(K12=배점기준!$G$21,배점기준!$G$23,IF(K12=배점기준!$H$21,배점기준!$H$23,IF(K22=배점기준!$I$21,배점기준!$I$23,0))))*K11 -> 0 | L13: =ROUND(SUM(F13:K13),2) -> 5.85
D14: 경력 | E14: =배점기준!D29 -> 7 | F14: =분야별책임경력!J21 -> 0 | G14: =분야별책임경력!J41 -> 0 | H14: =분야별책임경력!J61 -> 0 | I14: =분야별책임경력!J81 -> 0 | J14: =분야별책임경력!J101 -> 0 | K14: =분야별책임경력!J121 -> 0
D15: 점수 | F15: =IF(F14>=배점기준!$F$29,배점기준!$F$31,IF(F14>=배점기준!$G$29,배점기준!$G$31,IF(F14>=배점기준!$H$29,배점기준!$H$31,IF(F14>=배점기준!$I$29,배점기준!$I$31,IF(F14>=배점기준!$J$29,배점기준!$J$31,IF(F14>=배점기준!$K$29,배점기준!$K$31,IF(F14<배점기준!$L$29,배점기준!$L$31)))))))*F11 -> 1.05 | G15: =IF(G14>=배점기준!$F$29,배점기준!$F$32,IF(G14>=배점기준!$G$29,배점기준!$G$32,IF(G14>=배점기준!$H$29,배점기준!$H$32,IF(G14>=배점기준!$I$29,배점기준!$I$32,IF(G14>=배점기준!$J$29,배점기준!$J$32,IF(G14>=배점기준!$K$29,배점기준!$K$32,IF(G14<배점기준!$L$29,배점기준!$L$32)))))))*G11 -> 1.05 | H15: =IF(H14>=배점기준!$F$29,배점기준!$F$33,IF(H14>=배점기준!$G$29,배점기준!$G$33,IF(H14>=배점기준!$H$29,배점기준!$H$33,IF(H14>=배점기준!$I$29,배점기준!$I$33,IF(H14>=배점기준!$J$29,배점기준!$J$33,IF(H14>=배점기준!$K$29,배점기준!$K$33,IF(H14<배점기준!$L$29,배점기준!$L$33)))))))*H11 -> 1.05 | I15: =IF(I14>=배점기준!$F$29,배점기준!$F$34,IF(I14>=배점기준!$G$29,배점기준!$G$34,IF(I14>=배점기준!$H$29,배점기준!$H$34,IF(I14>=배점기준!$I$29,배점기준!$I$34,IF(I14>=배점기준!$J$29,배점기준!$J$34,IF(I14>=배점기준!$K$29,배점기준!$K$34,IF(I14<배점기준!$L$29,배점기준!$L$34)))))))*I11 -> 1.05 | J15: =IF(J14>=배점기준!$F$29,배점기준!$F$35,IF(J14>=배점기준!$G$29,배점기준!$G$35,IF(J14>=배점기준!$H$29,배점기준!$H$35,IF(J14>=배점기준!$I$29,배점기준!$I$35,IF(J14>=배점기준!$J$29,배점기준!$J$35,IF(J14>=배점기준!$K$29,배점기준!$K$35,IF(J14<배점기준!$L$29,배점기준!$L$35)))))))*J11 -> 0 | K15: =IF(K14>=배점기준!$F$29,배점기준!$F$36,IF(K14>=배점기준!$G$29,배점기준!$G$36,IF(K14>=배점기준!$H$29,배점기준!$H$36,IF(K14>=배점기준!$I$29,배점기준!$I$36,IF(K14>=배점기준!$J$29,배점기준!$J$36,IF(K14>=배점기준!$K$29,배점기준!$K$36,IF(K14<배점기준!$L$29,배점기준!$L$36)))))))*K11 -> 0 | L15: =ROUND(SUM(F15:K15),2) -> 4.2
D16: 실적(건) | E16: =배점기준!D37 -> 7 | F16: =분야별책임실적!$O$18 -> 9.15 | G16: =분야별책임실적!$O$37 -> 8.75 | H16: =분야별책임실적!$O$56 -> 8.75 | I16: =분야별책임실적!$O$75 -> 8.75 | J16: =분야별책임실적!$O$94 -> 8.75 | K16: =분야별책임실적!$O$113 -> 8.75
D17: 점수 | F17: =IF(F16>=배점기준!$F$37,배점기준!$F$39,IF(F16>=배점기준!$G$37,배점기준!$G$39,IF(F16>=배점기준!$H$37,배점기준!$H$39,IF(F16>=배점기준!$I$37,배점기준!$I$39,IF(F16<배점기준!$J$37,배점기준!$J$39)))))*F11 -> 1.4 | G17: =IF(G16>=배점기준!$F$37,배점기준!$F$40,IF(G16>=배점기준!$G$37,배점기준!$G$40,IF(G16>=배점기준!$H$37,배점기준!$H$40,IF(G16>=배점기준!$I$37,배점기준!$I$40,IF(G16<배점기준!$J$37,배점기준!$J$40)))))*G11 -> 1.225 | H17: =IF(H16>=배점기준!$F$37,배점기준!$F$41,IF(H16>=배점기준!$G$37,배점기준!$G$41,IF(H16>=배점기준!$H$37,배점기준!$H$41,IF(H16>=배점기준!$I$37,배점기준!$I$41,IF(H16<배점기준!$J$37,배점기준!$J$41)))))*H11 -> 1.225 | I17: =IF(I16>=배점기준!$F$37,배점기준!$F$42,IF(I16>=배점기준!$G$37,배점기준!$G$42,IF(I16>=배점기준!$H$37,배점기준!$H$42,IF(I16>=배점기준!$I$37,배점기준!$I$42,IF(I16<배점기준!$J$37,배점기준!$J$42)))))*I11 -> 1.225 | J17: =IF(J16>=배점기준!$F$37,배점기준!$F$43,IF(J16>=배점기준!$G$37,배점기준!$G$43,IF(J16>=배점기준!$H$37,배점기준!$H$43,IF(J16>=배점기준!$I$37,배점기준!$I$43,IF(J16<배점기준!$J$37,배점기준!$J$43)))))*J11 -> 0 | K17: =IF(K16>=배점기준!$F$37,배점기준!$F$44,IF(K16>=배점기준!$G$37,배점기준!$G$44,IF(K16>=배점기준!$H$37,배점기준!$H$44,IF(K16>=배점기준!$I$37,배점기준!$I$44,IF(K16<배점기준!$J$37,배점기준!$J$44)))))*K11 -> 0 | L17: =ROUND(SUM(F17:K17),2) -> 5.08
D18: 업무여유도(억원) | E18: =배점기준!D45 -> 7 | F18: =업무여유도!K18 -> 0 | G18: =업무여유도!K26 -> 0 | H18: =업무여유도!K34 -> 0 | I18: =업무여유도!K42 -> 0 | J18: =업무여유도!K50 -> 0 | K18: =업무여유도!K58 -> 0
D19: 점수 | F19: =IF((배점기준!$F$47-(배점기준!$F$47*F18/2.5))<0,0,(배점기준!$F$47-(배점기준!$F$47*F18/2.5))) -> 1.75 | G19: =IF((배점기준!$F$48-(배점기준!$F$48*G18/2.5))<0,0,(배점기준!$F$48-(배점기준!$F$48*G18/2.5))) -> 1.75 | H19: =IF((배점기준!$F$49-(배점기준!$F$49*H18/2.5))<0,0,(배점기준!$F$49-(배점기준!$F$49*H18/2.5))) -> 1.75 | I19: =IF((배점기준!$F$50-(배점기준!$F$50*I18/2.5))<0,0,(배점기준!$F$50-(배점기준!$F$50*I18/2.5))) -> 1.75 | J19: =IF((배점기준!$F$51-(배점기준!$F$51*J18/2.5))<0,0,(배점기준!$F$51-(배점기준!$F$51*J18/2.5))) -> 0 | K19: =IF((배점기준!$F$52-(배점기준!$F$52*K18/2.5))<0,0,(배점기준!$F$52-(배점기준!$F$52*K18/2.5))) -> 0 | L19: =ROUND(SUM(F19:K19),2) -> 7
B21: ○ 분야별 평가자[23점]
C22: 업체명 | D22: 항목 | E22: 배점 | F22: =배점기준!$E$23 -> 대기관리 | G22: =배점기준!$E$24 -> 수질관리 | H22: =배점기준!$E$25 -> 소음진동 | I22: =배점기준!$E$26 -> 폐기물처리 | J22: =배점기준!$C$7 -> 0 | K22: =배점기준!$C$8 -> 0 | L22: 평가
C23: =C4 -> ㈜ㅁㅁ엔지니어링+ㅇㅇ엔지니어링㈜+◇◇기술공사㈜ | D23: 이적계수 | E23: - | F23: 1 | G23: 1 | H23: 1 | I23: 1 | J23: 1 | K23: 1
D24: 등급 | E24: =배점기준!D53 -> 5 | F24: 환경영향평가사 | G24: 환경영향평가사 | H24: 환경영향평가사 | I24: 환경영향평가사 | J24: 환경영향평가사 | K24: 중급기술자
D25: 점수 | F25: =IF(F24=배점기준!$F$53,배점기준!$F$55,IF(F24=배점기준!$G$53,배점기준!$G$55,IF(F24=배점기준!$H$53,배점기준!$H$55,IF(F24=배점기준!$I$53,배점기준!$IIF$55,IF(F24=배점기준!$J$53,배점기준!$J$55,IF(F24=배점기준!$K$53,배점기준!$K$55,0))))))*F23 -> 1.25 | G25: =IF(G24=배점기준!$F$53,배점기준!$F$56,IF(G24=배점기준!$G$53,배점기준!$G$56,IF(G24=배점기준!$H$53,배점기준!$H$56,IF(G24=배점기준!$I$53,배점기준!$IIF$56,IF(G24=배점기준!$J$53,배점기준!$J$56,IF(G24=배점기준!$K$53,배점기준!$K$56,0))))))*G23 -> 1.25 | H25: =IF(H24=배점기준!$F$53,배점기준!$F$57,IF(H24=배점기준!$G$53,배점기준!$G$57,IF(H24=배점기준!$H$53,배점기준!$H$57,IF(H24=배점기준!$I$53,배점기준!$IIF$57,IF(H24=배점기준!$J$53,배점기준!$J$57,IF(H24=배점기준!$K$53,배점기준!$K$57,0))))))*H23 -> 1.25 | I25: =IF(I24=배점기준!$F$53,배점기준!$F$58,IF(I24=배점기준!$G$53,배점기준!$G$58,IF(I24=배점기준!$H$53,배점기준!$H$58,IF(I24=배점기준!$I$53,배점기준!$IIF$58,IF(I24=배점기준!$J$53,배점기준!$J$58,IF(I24=배점기준!$K$53,배점기준!$K$58,0))))))*I23 -> 1.25 | J25: =IF(J24=배점기준!$F$53,배점기준!$F$59,IF(J24=배점기준!$G$53,배점기준!$G$59,IF(J24=배점기준!$H$53,배점기준!$H$59,IF(J24=배점기준!$I$53,배점기준!$IIF$59,IF(J24=배점기준!$J$53,배점기준!$J$59,IF(J24=배점기준!$K$53,배점기준!$K$59,0))))))*J23 -> 0 | K25: =IF(K24=배점기준!$F$53,배점기준!$F$60,IF(K24=배점기준!$G$53,배점기준!$G$60,IF(K24=배점기준!$H$53,배점기준!$H$60,IF(K24=배점기준!$I$53,배점기준!$IIF$60,IF(K24=배점기준!$J$53,배점기준!$J$60,IF(K24=배점기준!$K$53,배점기준!$K$60,0))))))*K23 -> 0 | L25: =SUM(F25:K25) -> 5
D26: 경력 | E26: =배점기준!D61 -> 6 | F26: =분야별경력!J20 -> 0 | G26: =분야별책임경력!J41 -> 0 | H26: =분야별경력!J58 -> 0 | I26: =분야별경력!J77 -> 0 | J26: =분야별경력!J96 -> 0 | K26: =분야별경력!J115 -> 0
D27: 점수 | F27: =IF(F26>=배점기준!$F$61,배점기준!$F$63,IF(F26>=배점기준!$G$61,배점기준!$G$63,IF(F26>=배점기준!$H$61,배점기준!$H$63,IF(F26>=배점기준!$I$61,배점기준!$I$63,배점기준!$J$63))))*F23 -> 1.5 | G27: =IF(G26>=배점기준!$F$61,배점기준!$F$64,IF(G26>=배점기준!$G$61,배점기준!$G$64,IF(G26>=배점기준!$H$61,배점기준!$H$64,IF(G26>=배점기준!$I$61,배점기준!$I$64,배점기준!$J$64))))*G23 -> 1.5 | H27: =IF(H26>=배점기준!$F$61,배점기준!$F$65,IF(H26>=배점기준!$G$61,배점기준!$G$65,IF(H26>=배점기준!$H$61,배점기준!$H$65,IF(H26>=배점기준!$I$61,배점기준!$I$65,배점기준!$J$65))))*H23 -> 1.5 | I27: =IF(I26>=배점기준!$F$61,배점기준!$F$66,IF(I26>=배점기준!$G$61,배점기준!$G$66,IF(I26>=배점기준!$H$61,배점기준!$H$66,IF(I26>=배점기준!$I$61,배점기준!$I$66,배점기준!$J$66))))*I23 -> 1.5 | J27: =IF(J26>=배점기준!$F$61,배점기준!$F$67,IF(J26>=배점기준!$G$61,배점기준!$G$67,IF(J26>=배점기준!$H$61,배점기준!$H$67,IF(J26>=배점기준!$I$61,배점기준!$I$67,배점기준!$J$67))))*J23 -> 0 | K27: =IF(K26>=배점기준!$F$61,배점기준!$F$68,IF(K26>=배점기준!$G$61,배점기준!$G$68,IF(K26>=배점기준!$H$61,배점기준!$H$68,IF(K26>=배점기준!$I$61,배점기준!$I$68,배점기준!$J$68))))*K23 -> 0 | L27: =ROUND(SUM(F27:K27),2) -> 6
D28: 실적(건) | E28: =배점기준!D69 -> 6 | F28: =분야별실적!$O$18 -> 9.15 | G28: =분야별실적!$O$37 -> 8.75 | H28: =분야별실적!$O$56 -> 8.75 | I28: =분야별실적!$O$75 -> 8.75 | J28: =분야별실적!$O$94 -> 8.75 | K28: =분야별실적!$O$113 -> 8.75
D29: 점수 | F29: =IF(F28>=배점기준!$F$69,배점기준!$F$71,IF(F28>=배점기준!$G$69,배점기준!$G$71,IF(F28>=배점기준!$H$69,배점기준!$H$71,IF(F28>=배점기준!$I$69,배점기준!$I$71,IF(F28<배점기준!$J$69,배점기준!$J$71)))))*F23 -> 1.5 | G29: =IF(G28>=배점기준!$F$69,배점기준!$F$72,IF(G28>=배점기준!$G$69,배점기준!$G$72,IF(G28>=배점기준!$H$69,배점기준!$H$72,IF(G28>=배점기준!$I$69,배점기준!$I$72,IF(G28<배점기준!$J$69,배점기준!$J$72)))))*G23 -> 1.35 | H29: =IF(H28>=배점기준!$F$69,배점기준!$F$73,IF(H28>=배점기준!$G$69,배점기준!$G$73,IF(H28>=배점기준!$H$69,배점기준!$H$73,IF(H28>=배점기준!$I$69,배점기준!$I$73,IF(H28<배점기준!$J$69,배점기준!$J$73)))))*H23 -> 1.35 | I29: =IF(I28>=배점기준!$F$69,배점기준!$F$74,IF(I28>=배점기준!$G$69,배점기준!$G$74,IF(I28>=배점기준!$H$69,배점기준!$H$74,IF(I28>=배점기준!$I$69,배점기준!$I$74,IF(I28<배점기준!$J$69,배점기준!$J$74)))))*I23 -> 1.35 | J29: =IF(J28>=배점기준!$F$69,배점기준!$F$75,IF(J28>=배점기준!$G$69,배점기준!$G$75,IF(J28>=배점기준!$H$69,배점기준!$H$75,IF(J28>=배점기준!$I$69,배점기준!$I$75,IF(J28<배점기준!$J$69,배점기준!$J$75)))))*J23 -> 0 | K29: =IF(K28>=배점기준!$F$69,배점기준!$F$76,IF(K28>=배점기준!$G$69,배점기준!$G$76,IF(K28>=배점기준!$H$69,배점기준!$H$76,IF(K28>=배점기준!$I$69,배점기준!$I$76,IF(K28<배점기준!$J$69,배점기준!$J$76)))))*K23 -> 0 | L29: =ROUND(SUM(F29:K29),2) -> 5.55
D30: 업무여유도(억원) | E30: =배점기준!D77 -> 6 | F30: =업무여유도!K67 -> 0 | G30: =업무여유도!K75 -> 0 | H30: =업무여유도!K83 -> 0 | I30: =업무여유도!K91 -> 0 | J30: =업무여유도!K99 -> 0 | K30: =업무여유도!K107 -> 0
D31: 점수 | F31: =IF((배점기준!$F$79-(배점기준!$F$79*F30/2.5))<0,0,(배점기준!$F$79-(배점기준!$F$79*F30/2.5))) -> 1.5 | G31: =IF((배점기준!$F$80-(배점기준!$F$80*G30/2.5))<0,0,(배점기준!$F$80-(배점기준!$F$80*G30/2.5))) -> 1.5 | H31: =IF((배점기준!$F$81-(배점기준!$F$81*H30/2.5))<0,0,(배점기준!$F$81-(배점기준!$F$81*H30/2.5))) -> 1.5 | I31: =IF((배점기준!$F$82-(배점기준!$F$82*I30/2.5))<0,0,(배점기준!$F$82-(배점기준!$F$82*I30/2.5))) -> 1.5 | J31: =IF((배점기준!$F$83-(배점기준!$F$83*J30/2.5))<0,0,(배점기준!$F$83-(배점기준!$F$83*J30/2.5))) -> 0 | K31: =IF((배점기준!$F$84-(배점기준!$F$84*K30/2.5))<0,0,(배점기준!$F$84-(배점기준!$F$84*K30/2.5))) -> 0 | L31: =ROUND(SUM(F31:K31),2) -> 6
B33: ○ 교육훈련(1점)
C34: 2주이상 | D34: 1주이상 | F34: 평가
C35: =교육훈련!G10 -> 5 | D35: =-교육훈련!G18 -> -5 | F35: =(C35/배점기준!$E$3*배점기준!F86+D35/배점기준!$E$3*배점기준!G86) -> 0.27777778
B37: ○ 교육훈련(1점) | C37: 과업의 이해도
C38: 총평가인원수 | D38: 전단계 용역 참여자수 | F38: 평가
C39: =배점기준!E3 -> 9 | D39: =과업의이해도!K11 -> 2 | F39: =ROUND(배점기준!F88*(평가자!D39/평가자!C39),2) -> 0.22
C41: ※ 증빙서류 - 자격증 사본(원본대조필) - 자격인정 기술자의 경우에는 경력증명서 추가 - 경력증명서 발급시 직무분야 및 전문분야 기술 등급이 반드시 기재되어야 하며, 직무분야 및 전문분야 등급이 표시되지 않은 경우 등급평가시 불이익을 받을수 있음

Sheet 총괄경력
A1: 총괄평가자 경력 | D1: 홍길동
A3: 번호 | B3: 페이지 | C3: 참여용역명 | D3: 사업개요 | E3: 발주청 (발주자) | F3: 계약기간 | I3: 적용 일수 (인정일) | J3: 경력계수 | K3: 적용 일수 (일) | L3: 비고
F4: 착수일 | G4: 준공일 | H4: 용역일 | J4: 평가종류
A5: 1 | C5: 대전노은지구 택지개발사업 영향평가 | D5: - OOOOOO | E5: LH | F5: 34645 | G5: 36522 | H5: =G5-F5+1 -> 1878 | J5: 0.6 | K5: =ROUND(I5*J5,0) -> 0
A6: 2 | C6: 남양주마석지구 택지개발사업 영향평가 | D6: - OOOOOO | E6: LH | F6: 34692 | G6: 37063 | H6: =G6-F6+1 -> 2372 | J6: 0.6 | K6: =ROUND(I6*J6,0) -> 0 | T6: 분류
A7: 3 | C7: 부천상동지구 택지개발사업 영향평가 | D7: - OOOOOO | E7: LH | F7: 34967 | G7: 36871 | H7: =G7-F7+1 -> 1905 | J7: 0.6 | K7: =ROUND(I7*J7,0) -> 0 | T7: 1
A8: 4 | C8: 용인죽전지구 택지개발사업 영향평가 | D8: - OOOOOO | E8: LH | F8: 36194 | G8: 37008 | H8: =G8-F8+1 -> 815 | J8: 0.6 | K8: =ROUND(I8*J8,0) -> 0 | T8: 0.6
A9: 5 | C9: 의정부녹양지구 택지개발사업 영향평가용역 | D9: - OOOOOO | E9: LH | F9: 37369 | G9: 37954 | H9: =G9-F9+1 -> 586 | J9: 1 | K9: =ROUND(I9*J9,0) -> 0
A10: 7 | C10: 강동권역 도시개발사업 영향평가 | D10: - OOOOOO | E10: LH | F10: 37673 | G10: 38929 | H10: =G10-F10+1 -> 1257 | J10: 0.6 | K10: =ROUND(I10*J10,0) -> 0
A11: 8 | C11: 남양주별내지구 택지개발사업 영향평가 | D11: - OOOOOO | E11: LH | F11: 38240 | G11: 39562 | H11: =G11-F11+1 -> 1323 | J11: 1 | K11: =ROUND(I11*J11,0) -> 0
A12: 9 | C12: 아산배방지구 영향평가용역 | D12: - OOOOOO | E12: LH | F12: 38078 | G12: 38660 | H12: =G12-F12+1 -> 583 | J12: 0.6 | K12: =ROUND(I12*J12,0) -> 0
A13: 10 | C13: 청주성화2지구 택지개발사업 영향평가 | D13: - OOOOOO | E13: LH | F13: 38127 | G13: 38717 | H13: =G13-F13+1 -> 591 | J13: 1 | K13: =ROUND(I13*J13,0) -> 0
A14: 11 | C14: 인천삼산3지구 택지개발사업 영향평가 | D14: - OOOOOO | E14: LH | F14: 38098 | G14: 38717 | H14: =G14-F14+1 -> 620 | J14: 0.6 | K14: =ROUND(I14*J14,0) -> 0
A15: 12 | C15: 광명소하지구 택지개발사업 영향평가용역 | D15: - OOOOOO | E15: LH | F15: 37376 | G15: 38730 | H15: =G15-F15+1 -> 1355 | J15: 1 | K15: =ROUND(I15*J15,0) -> 0
A16: 13 | C16: 천안00국민임대주택단지예정지구 영향평가용역 | D16: - OOOOOO | E16: LH | F16: 38750 | G16: 39082 | H16: =G16-F16+1 -> 333 | J16: 0.6 | K16: =ROUND(I16*J16,0) -> 0
A17: 15 | C17: 하남풍산지구 택지개발사업 영향평가 | D17: - OOOOOO | E17: LH | F17: 37435 | G17: 39414 | H17: =G17-F17+1 -> 1980 | J17: 1 | K17: =ROUND(I17*J17,0) -> 0
A18: 16 | C18: 청주성화(2)지구 택지개발조성공사 영향평가용역 | D18: - OOOOOO | E18: LH | F18: 38834 | G18: 39482 | H18: =G18-F18+1 -> 649 | J18: 1 | K18: =ROUND(I18*J18,0) -> 0
A19: 총계 | K19: =ROUND((SUM(K5:K18))/365,2) -> 0
A20: 주) | B20: ※신고자의 경력에 해당하는 양식을 사용하여 작성합니다. 합계건수가 평가자 시트에 입력 되도록 확인합니다.
A21: 1 | B21: 참여기술자가 발주청 및 엔지니어 등 수행한 용역을 기초로 해당 양식을 사용하여 작성 합니다.
A22: 2 | B22: 발주청에서 직접 자체설계한 실적은 감독관리건수에 포함하여 작성합니다.
A23: 3 | B23: 용역중지기간은 용역기간에 포함시키지 않습니다.
A24: 4 | B24: 용역실적증명서(원본 또는 사본)를 첨부하고, 경력대조를 위하여 양식에 작성된 연번을 반드시 기재하시기 바라며, 연번 순서대로 제본하여야 합니다.
A25: 5 | B25: 용역실적증명서의 참여평가자 명단이 누락 되었거나, 참여평가자 명단에 해당 평가자가 누락된 경우에는 해당실적을 인정하지 않습니다.
A26: 6 | B26: 사업수행능력평서에 경력계수가 1.0은 형광색, 0.6은 주황핵으로 표시하여 제출하시기 바랍니다
A27: 7 | B27: 기입란은 행 삽입,삭제가 가능하며, 행삽입,삭제시 실적이 합계에서 누락되지 않도록 반드시 확인(기술자실적 시트) 주의해야 합니다.

Sheet 분야별책임경력
B1: 분야별 책임평가자
A3: =배점기준!C3 -> 대기관리 | C3: 분야 책임평가자 | D3: 홍길동
A5: 번호 | B5: 참여용역명 | C5: 사업개요 | D5: 발주청 (발주자) | E5: 계약기간 | H5: 적용 일수 (인정일) | I5: 경력계수 | J5: 적용 일수 (일) | K5: 비고
E6: 착수일 | F6: 준공일 | G6: 용역일 | I6: 평가종류
A7: 1 | B7: 대전노은지구 택지개발사업 영향평가 | C7: - OOOOOO | D7: LH | E7: 34645 | F7: 36522 | G7: =F7-E7+1 -> 1878 | I7: 1 | J7: =ROUND(H7*I7,0) -> 0
A8: 2 | B8: 남양주마석지구 택지개발사업 영향평가 | C8: - OOOOOO | D8: LH | E8: 34692 | F8: 37063 | G8: =F8-E8+1 -> 2372 | H8: 0 | I8: 0.6 | J8: =ROUND(H8*I8,0) -> 0 | S8: 분류
A9: 3 | B9: 부천상동지구 택지개발사업 영향평가 | C9: - OOOOOO | D9: LH | E9: 34967 | F9: 36871 | G9: =F9-E9+1 -> 1905 | I9: 1 | J9: =ROUND(H9*I9,0) -> 0 | S9: 1
A10: 4 | B10: 용인죽전지구 택지개발사업 영향평가 | C10: - OOOOOO | D10: LH | E10: 36194 | F10: 37008 | G10: =F10-E10+1 -> 815 | I10: 0.6 | J10: =ROUND(H10*I10,0) -> 0 | S10: 0.6
A11: 5 | B11: 의정부녹양지구 택지개발사업 영향평가용역 | C11: - OOOOOO | D11: LH | E11: 37369 | F11: 37954 | G11: =F11-E11+1 -> 586 | I11: 1 | J11: =ROUND(H11*I11,0) -> 0
A12: 7 | B12: 강동권역 도시개발사업 영향평가 | C12: - OOOOOO | D12: LH | E12: 37673 | F12: 38929 | G12: =F12-E12+1 -> 1257 | I12: 0.6 | J12: =ROUND(H12*I12,0) -> 0
A13: 8 | B13: 남양주별내지구 택지개발사업 영향평가 | C13: - OOOOOO | D13: LH | E13: 38240 | F13: 39562 | G13: =F13-E13+1 -> 1323 | I13: 1 | J13: =ROUND(H13*I13,0) -> 0
A14: 9 | B14: 아산배방지구 영향평가용역 | C14: - OOOOOO | D14: LH | E14: 38078 | F14: 38660 | G14: =F14-E14+1 -> 583 | I14: 0.6 | J14: =ROUND(H14*I14,0) -> 0
A15: 10 | B15: 청주성화2지구 택지개발사업 영향평가 | C15: - OOOOOO | D15: LH | E15: 38127 | F15: 38717 | G15: =F15-E15+1 -> 591 | I15: 1 | J15: =ROUND(H15*I15,0) -> 0
A16: 11 | B16: 인천삼산3지구 택지개발사업 영향평가 | C16: - OOOOOO | D16: LH | E16: 38098 | F16: 38717 | G16: =F16-E16+1 -> 620 | I16: 0.6 | J16: =ROUND(H16*I16,0) -> 0
A17: 12 | B17: 광명소하지구 택지개발사업 영향평가용역 | C17: - OOOOOO | D17: LH | E17: 37376 | F17: 38730 | G17: =F17-E17+1 -> 1355 | I17: 1 | J17: =ROUND(H17*I17,0) -> 0
A18: 13 | B18: 천안00국민임대주택단지예정지구 영향평가용역 | C18: - OOOOOO | D18: LH | E18: 38750 | F18: 39082 | G18: =F18-E18+1 -> 333 | I18: 0.6 | J18: =ROUND(H18*I18,0) -> 0
A19: 15 | B19: 하남풍산지구 택지개발사업 영향평가 | C19: - OOOOOO | D19: LH | E19: 37435 | F19: 39414 | G19: =F19-E19+1 -> 1980 | I19: 1 | J19: =ROUND(H19*I19,0) -> 0
A20: 16 | B20: 청주성화(2)지구 택지개발조성공사 영향평가용역 | C20: - OOOOOO | D20: LH | E20: 38834 | F20: 39482 | G20: =F20-E20+1 -> 649 | I20: 1 | J20: =ROUND(H20*I20,0) -> 0
A21: 총계 | J21: =ROUND((SUM(J7:J20))/365,2) -> 0
A23: =배점기준!C4 -> 수질관리 | C23: 분야 책임평가자 | D23: 홍길동
A25: 번호 | B25: 참여용역명 | C25: 사업개요 | D25: 발주청 (발주자) | E25: 계약기간 | H25: 적용 일수 (인정일) | I25: 경력계수 | J25: 적용 일수 (일) | K25: 비고
E26: 착수일 | F26: 준공일 | G26: 용역일 | I26: 평가종류
A27: 1 | B27: 대전노은지구 택지개발사업 영향평가 | C27: - OOOOOO | D27: LH | E27: 34645 | F27: 36522 | G27: =F27-E27+1 -> 1878 | I27: 1 | J27: =ROUND(H27*I27,0) -> 0
A28: 2 | B28: 남양주마석지구 택지개발사업 영향평가 | C28: - OOOOOO | D28: LH | E28: 34692 | F28: 37063 | G28: =F28-E28+1 -> 2372 | I28: 0.6 | J28: =ROUND(H28*I28,0) -> 0 | S28: 분류
A29: 3 | B29: 부천상동지구 택지개발사업 영향평가 | C29: - OOOOOO | D29: LH | E29: 34967 | F29: 36871 | G29: =F29-E29+1 -> 1905 | I29: 1 | J29: =ROUND(H29*I29,0) -> 0 | S29: 1
A30: 4 | B30: 용인죽전지구 택지개발사업 영향평가 | C30: - OOOOOO | D30: LH | E30: 36194 | F30: 37008 | G30: =F30-E30+1 -> 815 | I30: 0.6 | J30: =ROUND(H30*I30,0) -> 0 | S30: 0.6
A31: 5 | B31: 의정부녹양지구 택지개발사업 영향평가용역 | C31: - OOOOOO | D31: LH | E31: 37369 | F31: 37954 | G31: =F31-E31+1 -> 586 | I31: 1 | J31: =ROUND(H31*I31,0) -> 0
A32: 7 | B32: 강동권역 도시개발사업 영향평가 | C32: - OOOOOO | D32: LH | E32: 37673 | F32: 38929 | G32: =F32-E32+1 -> 1257 | I32: 0.6 | J32: =ROUND(H32*I32,0) -> 0
A33: 8 | B33: 남양주별내지구 택지개발사업 영향평가 | C33: - OOOOOO | D33: LH | E33: 38240 | F33: 39562 | G33: =F33-E33+1 -> 1323 | I33: 1 | J33: =ROUND(H33*I33,0) -> 0
A34: 9 | B34: 아산배방지구 영향평가용역 | C34: - OOOOOO | D34: LH | E34: 38078 | F34: 38660 | G34: =F34-E34+1 -> 583 | I34: 0.6 | J34: =ROUND(H34*I34,0) -> 0
A35: 10 | B35: 청주성화2지구 택지개발사업 영향평가 | C35: - OOOOOO | D35: LH | E35: 38127 | F35: 38717 | G35: =F35-E35+1 -> 591 | I35: 1 | J35: =ROUND(H35*I35,0) -> 0
A36: 11 | B36: 인천삼산3지구 택지개발사업 영향평가 | C36: - OOOOOO | D36: LH | E36: 38098 | F36: 38717 | G36: =F36-E36+1 -> 620 | I36: 0.6 | J36: =ROUND(H36*I36,0) -> 0
A37: 12 | B37: 광명소하지구 택지개발사업 영향평가용역 | C37: - OOOOOO | D37: LH | E37: 37376 | F37: 38730 | G37: =F37-E37+1 -> 1355 | I37: 1 | J37: =ROUND(H37*I37,0) -> 0
A38: 13 | B38: 천안00국민임대주택단지예정지구 영향평가용역 | C38: - OOOOOO | D38: LH | E38: 38750 | F38: 39082 | G38: =F38-E38+1 -> 333 | I38: 0.6 | J38: =ROUND(H38*I38,0) -> 0
A39: 15 | B39: 하남풍산지구 택지개발사업 영향평가 | C39: - OOOOOO | D39: LH | E39: 37435 | F39: 39414 | G39: =F39-E39+1 -> 1980 | I39: 1 | J39: =ROUND(H39*I39,0) -> 0
A40: 16 | B40: 청주성화(2)지구 택지개발조성공사 영향평가용역 | C40: - OOOOOO | D40: LH | E40: 38834 | F40: 39482 | G40: =F40-E40+1 -> 649 | I40: 1 | J40: =ROUND(H40*I40,0) -> 0
A41: 총계 | J41: =ROUND((SUM(J27:J40))/365,2) -> 0
A43: =배점기준!C5 -> 소음진동 | C43: 분야 책임평가자 | D43: 홍길동
A45: 번호 | B45: 참여용역명 | C45: 사업개요 | D45: 발주청 (발주자) | E45: 계약기간 | H45: 적용 일수 (인정일) | I45: 경력계수 | J45: 적용 일수 (일) | K45: 비고
E46: 착수일 | F46: 준공일 | G46: 용역일 | I46: 평가종류
...

Sheet 분야별경력
B1: 분야별 평가자
A3: =배점기준!C3 -> 대기관리 | C3: 분야 평가자 | D3: 홍길동
A4: 번호 | B4: 참여용역명 | C4: 사업개요 | D4: 발주청 (발주자) | E4: 계약기간 | H4: 적용 일수 (인정일) | I4: 경력계수 | J4: 적용 일수 (일) | K4: 비고
E5: 착수일 | F5: 준공일 | G5: 용역일 | I5: 평가종류
A6: 1 | B6: 대전노은지구 택지개발사업 영향평가 | C6: - OOOOOO | D6: LH | E6: 34645 | F6: 36522 | G6: =F6-E6+1 -> 1878 | I6: 1 | J6: =ROUND(H6*I6,0) -> 0
A7: 2 | B7: 남양주마석지구 택지개발사업 영향평가 | C7: - OOOOOO | D7: LH | E7: 34692 | F7: 37063 | G7: =F7-E7+1 -> 2372 | I7: 0.6 | J7: =ROUND(H7*I7,0) -> 0 | S7: 분류
A8: 3 | B8: 부천상동지구 택지개발사업 영향평가 | C8: - OOOOOO | D8: LH | E8: 34967 | F8: 36871 | G8: =F8-E8+1 -> 1905 | I8: 1 | J8: =ROUND(H8*I8,0) -> 0 | S8: 1
A9: 4 | B9: 용인죽전지구 택지개발사업 영향평가 | C9: - OOOOOO | D9: LH | E9: 36194 | F9: 37008 | G9: =F9-E9+1 -> 815 | I9: 0.6 | J9: =ROUND(H9*I9,0) -> 0 | S9: 0.6
A10: 5 | B10: 의정부녹양지구 택지개발사업 영향평가용역 | C10: - OOOOOO | D10: LH | E10: 37369 | F10: 37954 | G10: =F10-E10+1 -> 586 | I10: 1 | J10: =ROUND(H10*I10,0) -> 0
A11: 7 | B11: 강동권역 도시개발사업 영향평가 | C11: - OOOOOO | D11: LH | E11: 37673 | F11: 38929 | G11: =F11-E11+1 -> 1257 | I11: 0.6 | J11: =ROUND(H11*I11,0) -> 0
A12: 8 | B12: 남양주별내지구 택지개발사업 영향평가 | C12: - OOOOOO | D12: LH | E12: 38240 | F12: 39562 | G12: =F12-E12+1 -> 1323 | I12: 1 | J12: =ROUND(H12*I12,0) -> 0
A13: 9 | B13: 아산배방지구 영향평가용역 | C13: - OOOOOO | D13: LH | E13: 38078 | F13: 38660 | G13: =F13-E13+1 -> 583 | I13: 0.6 | J13: =ROUND(H13*I13,0) -> 0
A14: 10 | B14: 청주성화2지구 택지개발사업 영향평가 | C14: - OOOOOO | D14: LH | E14: 38127 | F14: 38717 | G14: =F14-E14+1 -> 591 | I14: 1 | J14: =ROUND(H14*I14,0) -> 0
A15: 11 | B15: 인천삼산3지구 택지개발사업 영향평가 | C15: - OOOOOO | D15: LH | E15: 38098 | F15: 38717 | G15: =F15-E15+1 -> 620 | I15: 0.6 | J15: =ROUND(H15*I15,0) -> 0
A16: 12 | B16: 광명소하지구 택지개발사업 영향평가용역 | C16: - OOOOOO | D16: LH | E16: 37376 | F16: 38730 | G16: =F16-E16+1 -> 1355 | I16: 1 | J16: =ROUND(H16*I16,0) -> 0
A17: 13 | B17: 천안00국민임대주택단지예정지구 영향평가용역 | C17: - OOOOOO | D17: LH | E17: 38750 | F17: 39082 | G17: =F17-E17+1 -> 333 | I17: 0.6 | J17: =ROUND(H17*I17,0) -> 0
A18: 15 | B18: 하남풍산지구 택지개발사업 영향평가 | C18: - OOOOOO | D18: LH | E18: 37435 | F18: 39414 | G18: =F18-E18+1 -> 1980 | I18: 1 | J18: =ROUND(H18*I18,0) -> 0
A19: 16 | B19: 청주성화(2)지구 택지개발조성공사 영향평가용역 | C19: - OOOOOO | D19: LH | E19: 38834 | F19: 39482 | G19: =F19-E19+1 -> 649 | I19: 1 | J19: =ROUND(H19*I19,0) -> 0
A20: 총계 | J20: =ROUND((SUM(J6:J19))/365,2) -> 0
A22: =배점기준!C4 -> 수질관리 | C22: 분야 평가자 | D22: 홍길동
A23: 번호 | B23: 참여용역명 | C23: 사업개요 | D23: 발주청 (발주자) | E23: 계약기간 | H23: 적용 일수 (인정일) | I23: 경력계수 | J23: 적용 일수 (일) | K23: 비고
E24: 착수일 | F24: 준공일 | G24: 용역일 | I24: 평가종류
A25: 1 | B25: 대전노은지구 택지개발사업 영향평가 | C25: - OOOOOO | D25: LH | E25: 34645 | F25: 36522 | G25: =F25-E25+1 -> 1878 | I25: 0.6 | J25: =ROUND(H25*I25,0) -> 0
A26: 2 | B26: 남양주마석지구 택지개발사업 영향평가 | C26: - OOOOOO | D26: LH | E26: 34692 | F26: 37063 | G26: =F26-E26+1 -> 2372 | I26: 0.6 | J26: =ROUND(H26*I26,0) -> 0 | S26: 분류
A27: 3 | B27: 부천상동지구 택지개발사업 영향평가 | C27: - OOOOOO | D27: LH | E27: 34967 | F27: 36871 | G27: =F27-E27+1 -> 1905 | I27: 1 | J27: =ROUND(H27*I27,0) -> 0 | S27: 1
A28: 4 | B28: 용인죽전지구 택지개발사업 영향평가 | C28: - OOOOOO | D28: LH | E28: 36194 | F28: 37008 | G28: =F28-E28+1 -> 815 | I28: 0.6 | J28: =ROUND(H28*I28,0) -> 0 | S28: 0.6
A29: 5 | B29: 의정부녹양지구 택지개발사업 영향평가용역 | C29: - OOOOOO | D29: LH | E29: 37369 | F29: 37954 | G29: =F29-E29+1 -> 586 | I29: 1 | J29: =ROUND(H29*I29,0) -> 0
A30: 7 | B30: 강동권역 도시개발사업 영향평가 | C30: - OOOOOO | D30: LH | E30: 37673 | F30: 38929 | G30: =F30-E30+1 -> 1257 | I30: 0.6 | J30: =ROUND(H30*I30,0) -> 0
A31: 8 | B31: 남양주별내지구 택지개발사업 영향평가 | C31: - OOOOOO | D31: LH | E31: 38240 | F31: 39562 | G31: =F31-E31+1 -> 1323 | I31: 1 | J31: =ROUND(H31*I31,0) -> 0
A32: 9 | B32: 아산배방지구 영향평가용역 | C32: - OOOOOO | D32: LH | E32: 38078 | F32: 38660 | G32: =F32-E32+1 -> 583 | I32: 0.6 | J32: =ROUND(H32*I32,0) -> 0
A33: 10 | B33: 청주성화2지구 택지개발사업 영향평가 | C33: - OOOOOO | D33: LH | E33: 38127 | F33: 38717 | G33: =F33-E33+1 -> 591 | I33: 1 | J33: =ROUND(H33*I33,0) -> 0
A34: 11 | B34: 인천삼산3지구 택지개발사업 영향평가 | C34: - OOOOOO | D34: LH | E34: 38098 | F34: 38717 | G34: =F34-E34+1 -> 620 | I34: 0.6 | J34: =ROUND(H34*I34,0) -> 0
A35: 12 | B35: 광명소하지구 택지개발사업 영향평가용역 | C35: - OOOOOO | D35: LH | E35: 37376 | F35: 38730 | G35: =F35-E35+1 -> 1355 | I35: 1 | J35: =ROUND(H35*I35,0) -> 0
A36: 13 | B36: 천안00국민임대주택단지예정지구 영향평가용역 | C36: - OOOOOO | D36: LH | E36: 38750 | F36: 39082 | G36: =F36-E36+1 -> 333 | I36: 0.6 | J36: =ROUND(H36*I36,0) -> 0
A37: 15 | B37: 하남풍산지구 택지개발사업 영향평가 | C37: - OOOOOO | D37: LH | E37: 37435 | F37: 39414 | G37: =F37-E37+1 -> 1980 | I37: 1 | J37: =ROUND(H37*I37,0) -> 0
A38: 16 | B38: 청주성화(2)지구 택지개발조성공사 영향평가용역 | C38: - OOOOOO | D38: LH | E38: 38834 | F38: 39482 | G38: =F38-E38+1 -> 649 | I38: 1 | J38: =ROUND(H38*I38,0) -> 0
A39: 총계 | J39: =ROUND((SUM(J25:J38))/365,2) -> 0
A41: =배점기준!C5 -> 소음진동 | C41: 분야 평가자 | D41: 홍길동
A42: 번호 | B42: 참여용역명 | C42: 사업개요 | D42: 발주청 (발주자) | E42: 계약기간 | H42: 적용 일수 (인정일) | I42: 경력계수 | J42: 적용 일수 (일) | K42: 비고
E43: 착수일 | F43: 준공일 | G43: 용역일 | I43: 평가종류
...

Sheet 총괄실적
A1: 총괄평자자 실적 | C1: 홍길동
A3: 번호 | B3: 참여용역명 | C3: 사업개요 | D3: 발주청 (발주자) | E3: 계약기간 | H3: 참여기간 | K3: 참여율 | L3: 실적계수 | N3: 적용 건수 | O3: 비고
E4: 착수일 | F4: 준공일 | G4: 용역일 | H4: 참여개시일 | I4: 참여종료일 | J4: 참여일 | L4: 평가종류 | M4: 사업종류
A5: 1 | B5: 대전노은지구 택지개발사업 영향평가 | C5: - OOOOOO | D5: LH | E5: 34645 | F5: 36522 | G5: =IF(F5-E5>=90,F5-E5,0) -> 1877 | H5: 34645 | I5: 36522 | J5: =IF(I5-H5>=30,I5-H5,0) -> 1877 | K5: =J5/G5 -> 1 | L5: 1 | M5: 0.6 | N5: =ROUND(K5*L5*M5,2) -> 0.6
A6: 2 | B6: 남양주마석지구 택지개발사업 영향평가 | C6: - OOOOOO | D6: LH | E6: 34692 | F6: 37063 | G6: =IF(F6-E6>=90,F6-E6,0) -> 2371 | H6: 34692 | I6: 36525 | J6: =IF(I6-H6>=30,I6-H6,0) -> 1833 | K6: =J6/G6 -> 0.77309152 | L6: 0.6 | M6: 0.6 | N6: =ROUND(K6*L6*M6,2) -> 0.28 | W6: 분류
A7: 3 | B7: 부천상동지구 택지개발사업 영향평가 | C7: - OOOOOO | D7: LH | E7: 34967 | F7: 36871 | G7: =IF(F7-E7>=90,F7-E7,0) -> 1904 | H7: 34967 | I7: 36871 | J7: =IF(I7-H7>=30,I7-H7,0) -> 1904 | K7: =J7/G7 -> 1 | L7: 1 | M7: 1 | N7: =ROUND(K7*L7*M7,2) -> 1 | W7: 1
A8: 4 | B8: 용인죽전지구 택지개발사업 영향평가 | C8: - OOOOOO | D8: LH | E8: 36194 | F8: 37008 | G8: =IF(F8-E8>=90,F8-E8,0) -> 814 | H8: 36194 | I8: 37008 | J8: =IF(I8-H8>=30,I8-H8,0) -> 814 | K8: =J8/G8 -> 1 | L8: 0.6 | M8: 1 | N8: =ROUND(K8*L8*M8,2) -> 0.6 | W8: 0.6
A9: 5 | B9: 의정부녹양지구 택지개발사업 영향평가용역 | C9: - OOOOOO | D9: LH | E9: 37369 | F9: 37954 | G9: =IF(F9-E9>=90,F9-E9,0) -> 585 | H9: 37369 | I9: 37954 | J9: =IF(I9-H9>=30,I9-H9,0) -> 585 | K9: =J9/G9 -> 1 | L9: 1 | M9: 0.6 | N9: =ROUND(K9*L9*M9,2) -> 0.6
A10: 7 | B10: 강동권역 도시개발사업 영향평가 | C10: - OOOOOO | D10: LH | E10: 37673 | F10: 38929 | G10: =IF(F10-E10>=90,F10-E10,0) -> 1256 | H10: 37673 | I10: 38929 | J10: =IF(I10-H10>=30,I10-H10,0) -> 1256 | K10: =J10/G10 -> 1 | L10: 0.6 | M10: 0.6 | N10: =ROUND(K10*L10*M10,2) -> 0.36
A11: 8 | B11: 남양주별내지구 택지개발사업 영향평가 | C11: - OOOOOO | D11: LH | E11: 38240 | F11: 39562 | G11: =IF(F11-E11>=90,F11-E11,0) -> 1322 | H11: 38240 | I11: 39562 | J11: =IF(I11-H11>=30,I11-H11,0) -> 1322 | K11: =J11/G11 -> 1 | L11: 1 | M11: 1 | N11: =ROUND(K11*L11*M11,2) -> 1
A12: 9 | B12: 아산배방지구 영향평가용역 | C12: - OOOOOO | D12: LH | E12: 38078 | F12: 38660 | G12: =IF(F12-E12>=90,F12-E12,0) -> 582 | H12: 38078 | I12: 38660 | J12: =IF(I12-H12>=30,I12-H12,0) -> 582 | K12: =J12/G12 -> 1 | L12: 0.6 | M12: 1 | N12: =ROUND(K12*L12*M12,2) -> 0.6
A13: 10 | B13: 청주성화2지구 택지개발사업 영향평가 | C13: - OOOOOO | D13: LH | E13: 38127 | F13: 38717 | G13: =IF(F13-E13>=90,F13-E13,0) -> 590 | H13: 38127 | I13: 38717 | J13: =IF(I13-H13>=30,I13-H13,0) -> 590 | K13: =J13/G13 -> 1 | L13: 1 | M13: 0.6 | N13: =ROUND(K13*L13*M13,2) -> 0.6
A14: 11 | B14: 인천삼산3지구 택지개발사업 영향평가 | C14: - OOOOOO | D14: LH | E14: 38098 | F14: 38717 | G14: =IF(F14-E14>=90,F14-E14,0) -> 619 | H14: 38098 | I14: 38656 | J14: =IF(I14-H14>=30,I14-H14,0) -> 558 | K14: =J14/G14 -> 0.90145396 | L14: 0.6 | M14: 0.6 | N14: =ROUND(K14*L14*M14,2) -> 0.32
A15: 12 | B15: 광명소하지구 택지개발사업 영향평가용역 | C15: - OOOOOO | D15: LH | E15: 37376 | F15: 38730 | G15: =IF(F15-E15>=90,F15-E15,0) -> 1354 | H15: 38472 | I15: 38730 | J15: =IF(I15-H15>=30,I15-H15,0) -> 258 | K15: =J15/G15 -> 0.19054653 | L15: 1 | M15: 1 | N15: =ROUND(K15*L15*M15,2) -> 0.19
A16: 13 | B16: 천안00국민임대주택단지예정지구 영향평가용역 | C16: - OOOOOO | D16: LH | E16: 38750 | F16: 39082 | G16: =IF(F16-E16>=90,F16-E16,0) -> 332 | H16: 38750 | I16: 39082 | J16: =IF(I16-H16>=30,I16-H16,0) -> 332 | K16: =J16/G16 -> 1 | L16: 0.6 | M16: 1 | N16: =ROUND(K16*L16*M16,2) -> 0.6
A17: 15 | B17: 하남풍산지구 택지개발사업 영향평가 | C17: - OOOOOO | D17: LH | E17: 37435 | F17: 39414 | G17: =IF(F17-E17>=90,F17-E17,0) -> 1979 | H17: 37435 | I17: 39414 | J17: =IF(I17-H17>=30,I17-H17,0) -> 1979 | K17: =J17/G17 -> 1 | L17: 1 | M17: 1 | N17: =ROUND(K17*L17*M17,2) -> 1
A18: 16 | B18: 청주성화(2)지구 택지개발조성공사 영향평가용역 | C18: - OOOOOO | D18: LH | E18: 38834 | F18: 39482 | G18: =IF(F18-E18>=90,F18-E18,0) -> 648 | H18: 38834 | I18: 39482 | J18: =IF(I18-H18>=30,I18-H18,0) -> 648 | K18: =J18/G18 -> 1 | L18: 1 | M18: 1 | N18: =ROUND(K18*L18*M18,2) -> 1
A19: 총계 | N19: =SUM(N5:N18) -> 8.75
A20: 주) | B20: ※신고자의 실적에 해당하는 양식을 사용하여 작성합니다. 합계건수가 기술자 시트에 입력 되도록 확인합니다.
A21: 1 | B21: 참여평갖자가 발주청 및 엔지니어 등 수행한 용역을 기초로 해당 양식을 사용하여 작성 합니다.
A22: 2 | B22: 발주청(발주사 포함)에서 직접 자체설계한 실적은 감독관리건수에 포함하여 작성합니다.
A23: 3 | B23: 용역중지기간은 용역기간 및 참여기간에 포함시키지 않습니다.
A24: 4 | B24: 용역실적증명서(원본 또는 사본)를 첨부하고, 실적대조를 위하여 양식에 작성된 연번을 반드시 기재하시기 바라며, 연번 순서대로 제본하여야 합니다.
A25: 5 | B25: 용역실적증명서의 참여평가자 명단이 누락 되었거나, 참여평가자 명단에 해당 참여평가자가 누락된 경우에는 해당실적을 인정하지 않습니다.
A26: 6 | B26: 실적인정금액은 발주청에서 시행한 유사용역의 각 해당분야에 한합니다. 이 때 유사용역 범위 여부는 평가기준에 의거하여 발주용역의 내역에 준하여 인정한다.
A27: 7 | B27: 준공금액란에는 용역전체 금액을 기입하며, 해당분야 준공실적란에는 유사용역(영향평가)해당분야 실적의 해당금액을 기입합니다. 설계및영향평가 통합용역의 경우 영향평가실적분만 인정하며, 설계분야실적분은 인정하지 않습니다.
A28: 8 | B28: 기입란은 행 삽입,삭제가 가능하며, 행삽입,삭제시 실적이 합계에서 누락되지 않도록 반드시 확인(기술자실적 시트) 주의해야 합니다.

Sheet 분야별책임실적
A1: =배점기준!$C$3 -> 대기관리 | C1: 분야 책임평가자 | D1: 홍길동
A2: 번호 | B2: 참여용역명 | C2: 사업개요 | D2: 참여분야 | E2: 발주청 (발주자) | F2: 계약기간 | I2: 참여기간 | L2: 참여율 | M2: 실적계수 | O2: 적용 건수 | P2: 비고
F3: 착수일 | G3: 준공일 | H3: 용역일 | I3: 참여개시일 | J3: 참여종료일 | K3: 참여일 | M3: 평가종류 | N3: 사업종류
A4: 1 | B4: 대전노은지구 택지개발사업 영향평가 | C4: - OOOOOO | E4: LH | F4: 34645 | G4: 36522 | H4: =IF(G4-F4>=90,G4-F4,0) -> 1877 | I4: 34645 | J4: 36522 | K4: =IF(J4-I4>=30,J4-I4,0) -> 1877 | L4: =K4/H4 -> 1 | M4: 1 | N4: 1 | O4: =ROUND(L4*M4*N4,2) -> 1
A5: 2 | B5: 남양주마석지구 택지개발사업 영향평가 | C5: - OOOOOO | E5: LH | F5: 34692 | G5: 37063 | H5: =IF(G5-F5>=90,G5-F5,0) -> 2371 | I5: 34692 | J5: 36525 | K5: =IF(J5-I5>=30,J5-I5,0) -> 1833 | L5: =K5/H5 -> 0.77309152 | M5: 0.6 | N5: 0.6 | O5: =ROUND(L5*M5*N5,2) -> 0.28 | AA5: 분류
A6: 3 | B6: 부천상동지구 택지개발사업 영향평가 | C6: - OOOOOO | E6: LH | F6: 34967 | G6: 36871 | H6: =IF(G6-F6>=90,G6-F6,0) -> 1904 | I6: 34967 | J6: 36871 | K6: =IF(J6-I6>=30,J6-I6,0) -> 1904 | L6: =K6/H6 -> 1 | M6: 1 | N6: 1 | O6: =ROUND(L6*M6*N6,2) -> 1 | AA6: 1
A7: 4 | B7: 용인죽전지구 택지개발사업 영향평가 | C7: - OOOOOO | E7: LH | F7: 36194 | G7: 37008 | H7: =IF(G7-F7>=90,G7-F7,0) -> 814 | I7: 36194 | J7: 37008 | K7: =IF(J7-I7>=30,J7-I7,0) -> 814 | L7: =K7/H7 -> 1 | M7: 0.6 | N7: 1 | O7: =ROUND(L7*M7*N7,2) -> 0.6 | AA7: 0.6
A8: 5 | B8: 의정부녹양지구 택지개발사업 영향평가용역 | C8: - OOOOOO | E8: LH | F8: 37369 | G8: 37954 | H8: =IF(G8-F8>=90,G8-F8,0) -> 585 | I8: 37369 | J8: 37954 | K8: =IF(J8-I8>=30,J8-I8,0) -> 585 | L8: =K8/H8 -> 1 | M8: 1 | N8: 0.6 | O8: =ROUND(L8*M8*N8,2) -> 0.6
A9: 7 | B9: 강동권역 도시개발사업 영향평가 | C9: - OOOOOO | E9: LH | F9: 37673 | G9: 38929 | H9: =IF(G9-F9>=90,G9-F9,0) -> 1256 | I9: 37673 | J9: 38929 | K9: =IF(J9-I9>=30,J9-I9,0) -> 1256 | L9: =K9/H9 -> 1 | M9: 0.6 | N9: 0.6 | O9: =ROUND(L9*M9*N9,2) -> 0.36
A10: 8 | B10: 남양주별내지구 택지개발사업 영향평가 | C10: - OOOOOO | E10: LH | F10: 38240 | G10: 39562 | H10: =IF(G10-F10>=90,G10-F10,0) -> 1322 | I10: 38240 | J10: 39562 | K10: =IF(J10-I10>=30,J10-I10,0) -> 1322 | L10: =K10/H10 -> 1 | M10: 1 | N10: 1 | O10: =ROUND(L10*M10*N10,2) -> 1
A11: 9 | B11: 아산배방지구 영향평가용역 | C11: - OOOOOO | E11: LH | F11: 38078 | G11: 38660 | H11: =IF(G11-F11>=90,G11-F11,0) -> 582 | I11: 38078 | J11: 38660 | K11: =IF(J11-I11>=30,J11-I11,0) -> 582 | L11: =K11/H11 -> 1 | M11: 0.6 | N11: 1 | O11: =ROUND(L11*M11*N11,2) -> 0.6
A12: 10 | B12: 청주성화2지구 택지개발사업 영향평가 | C12: - OOOOOO | E12: LH | F12: 38127 | G12: 38717 | H12: =IF(G12-F12>=90,G12-F12,0) -> 590 | I12: 38127 | J12: 38717 | K12: =IF(J12-I12>=30,J12-I12,0) -> 590 | L12: =K12/H12 -> 1 | M12: 1 | N12: 0.6 | O12: =ROUND(L12*M12*N12,2) -> 0.6
A13: 11 | B13: 인천삼산3지구 택지개발사업 영향평가 | C13: - OOOOOO | E13: LH | F13: 38098 | G13: 38717 | H13: =IF(G13-F13>=90,G13-F13,0) -> 619 | I13: 38098 | J13: 38656 | K13: =IF(J13-I13>=30,J13-I13,0) -> 558 | L13: =K13/H13 -> 0.90145396 | M13: 0.6 | N13: 0.6 | O13: =ROUND(L13*M13*N13,2) -> 0.32
A14: 12 | B14: 광명소하지구 택지개발사업 영향평가용역 | C14: - OOOOOO | E14: LH | F14: 37376 | G14: 38730 | H14: =IF(G14-F14>=90,G14-F14,0) -> 1354 | I14: 38472 | J14: 38730 | K14: =IF(J14-I14>=30,J14-I14,0) -> 258 | L14: =K14/H14 -> 0.19054653 | M14: 1 | N14: 1 | O14: =ROUND(L14*M14*N14,2) -> 0.19
A15: 13 | B15: 천안00국민임대주택단지예정지구 영향평가용역 | C15: - OOOOOO | E15: LH | F15: 38750 | G15: 39082 | H15: =IF(G15-F15>=90,G15-F15,0) -> 332 | I15: 38750 | J15: 39082 | K15: =IF(J15-I15>=30,J15-I15,0) -> 332 | L15: =K15/H15 -> 1 | M15: 0.6 | N15: 1 | O15: =ROUND(L15*M15*N15,2) -> 0.6
A16: 15 | B16: 하남풍산지구 택지개발사업 영향평가 | C16: - OOOOOO | E16: LH | F16: 37435 | G16: 39414 | H16: =IF(G16-F16>=90,G16-F16,0) -> 1979 | I16: 37435 | J16: 39414 | K16: =IF(J16-I16>=30,J16-I16,0) -> 1979 | L16: =K16/H16 -> 1 | M16: 1 | N16: 1 | O16: =ROUND(L16*M16*N16,2) -> 1
A17: 16 | B17: 청주성화(2)지구 택지개발조성공사 영향평가용역 | C17: - OOOOOO | E17: LH | F17: 38834 | G17: 39482 | H17: =IF(G17-F17>=90,G17-F17,0) -> 648 | I17: 38834 | J17: 39482 | K17: =IF(J17-I17>=30,J17-I17,0) -> 648 | L17: =K17/H17 -> 1 | M17: 1 | N17: 1 | O17: =ROUND(L17*M17*N17,2) -> 1
A18: 총계 | O18: =SUM(O4:O17) -> 9.15
A20: =배점기준!C4 -> 수질관리 | C20: 분야 책임평가자 | D20: 홍길동
A21: 번호 | B21: 참여용역명 | C21: 사업개요 | D21: 참여분야 | E21: 발주청 (발주자) | F21: 계약기간 | I21: 참여기간 | L21: 참여율 | M21: 실적계수 | O21: 적용 건수 | P21: 비고
F22: 착수일 | G22: 준공일 | H22: 용역일 | I22: 참여개시일 | J22: 참여종료일 | K22: 참여일 | M22: 평가종류 | N22: 사업종류
A23: 1 | B23: 대전노은지구 택지개발사업 영향평가 | C23: - OOOOOO | E23: LH | F23: 34645 | G23: 36522 | H23: =IF(G23-F23>=90,G23-F23,0) -> 1877 | I23: 34645 | J23: 36522 | K23: =IF(J23-I23>=30,J23-I23,0) -> 1877 | L23: =K23/H23 -> 1 | M23: 1 | N23: 0.6 | O23: =ROUND(L23*M23*N23,2) -> 0.6
A24: 2 | B24: 남양주마석지구 택지개발사업 영향평가 | C24: - OOOOOO | E24: LH | F24: 34692 | G24: 37063 | H24: =IF(G24-F24>=90,G24-F24,0) -> 2371 | I24: 34692 | J24: 36525 | K24: =IF(J24-I24>=30,J24-I24,0) -> 1833 | L24: =K24/H24 -> 0.77309152 | M24: 0.6 | N24: 0.6 | O24: =ROUND(L24*M24*N24,2) -> 0.28
A25: 3 | B25: 부천상동지구 택지개발사업 영향평가 | C25: - OOOOOO | E25: LH | F25: 34967 | G25: 36871 | H25: =IF(G25-F25>=90,G25-F25,0) -> 1904 | I25: 34967 | J25: 36871 | K25: =IF(J25-I25>=30,J25-I25,0) -> 1904 | L25: =K25/H25 -> 1 | M25: 1 | N25: 1 | O25: =ROUND(L25*M25*N25,2) -> 1
A26: 4 | B26: 용인죽전지구 택지개발사업 영향평가 | C26: - OOOOOO | E26: LH | F26: 36194 | G26: 37008 | H26: =IF(G26-F26>=90,G26-F26,0) -> 814 | I26: 36194 | J26: 37008 | K26: =IF(J26-I26>=30,J26-I26,0) -> 814 | L26: =K26/H26 -> 1 | M26: 0.6 | N26: 1 | O26: =ROUND(L26*M26*N26,2) -> 0.6
A27: 5 | B27: 의정부녹양지구 택지개발사업 영향평가용역 | C27: - OOOOOO | E27: LH | F27: 37369 | G27: 37954 | H27: =IF(G27-F27>=90,G27-F27,0) -> 585 | I27: 37369 | J27: 37954 | K27: =IF(J27-I27>=30,J27-I27,0) -> 585 | L27: =K27/H27 -> 1 | M27: 1 | N27: 0.6 | O27: =ROUND(L27*M27*N27,2) -> 0.6
A28: 7 | B28: 강동권역 도시개발사업 영향평가 | C28: - OOOOOO | E28: LH | F28: 37673 | G28: 38929 | H28: =IF(G28-F28>=90,G28-F28,0) -> 1256 | I28: 37673 | J28: 38929 | K28: =IF(J28-I28>=30,J28-I28,0) -> 1256 | L28: =K28/H28 -> 1 | M28: 0.6 | N28: 0.6 | O28: =ROUND(L28*M28*N28,2) -> 0.36
A29: 8 | B29: 남양주별내지구 택지개발사업 영향평가 | C29: - OOOOOO | E29: LH | F29: 38240 | G29: 39562 | H29: =IF(G29-F29>=90,G29-F29,0) -> 1322 | I29: 38240 | J29: 39562 | K29: =IF(J29-I29>=30,J29-I29,0) -> 1322 | L29: =K29/H29 -> 1 | M29: 1 | N29: 1 | O29: =ROUND(L29*M29*N29,2) -> 1
A30: 9 | B30: 아산배방지구 영향평가용역 | C30: - OOOOOO | E30: LH | F30: 38078 | G30: 38660 | H30: =IF(G30-F30>=90,G30-F30,0) -> 582 | I30: 38078 | J30: 38660 | K30: =IF(J30-I30>=30,J30-I30,0) -> 582 | L30: =K30/H30 -> 1 | M30: 0.6 | N30: 1 | O30: =ROUND(L30*M30*N30,2) -> 0.6
A31: 10 | B31: 청주성화2지구 택지개발사업 영향평가 | C31: - OOOOOO | E31: LH | F31: 38127 | G31: 38717 | H31: =IF(G31-F31>=90,G31-F31,0) -> 590 | I31: 38127 | J31: 38717 | K31: =IF(J31-I31>=30,J31-I31,0) -> 590 | L31: =K31/H31 -> 1 | M31: 1 | N31: 0.6 | O31: =ROUND(L31*M31*N31,2) -> 0.6
A32: 11 | B32: 인천삼산3지구 택지개발사업 영향평가 | C32: - OOOOOO | E32: LH | F32: 38098 | G32: 38717 | H32: =IF(G32-F32>=90,G32-F32,0) -> 619 | I32: 38098 | J32: 38656 | K32: =IF(J32-I32>=30,J32-I32,0) -> 558 | L32: =K32/H32 -> 0.90145396 | M32: 0.6 | N32: 0.6 | O32: =ROUND(L32*M32*N32,2) -> 0.32
A33: 12 | B33: 광명소하지구 택지개발사업 영향평가용역 | C33: - OOOOOO | E33: LH | F33: 37376 | G33: 38730 | H33: =IF(G33-F33>=90,G33-F33,0) -> 1354 | I33: 38472 | J33: 38730 | K33: =IF(J33-I33>=30,J33-I33,0) -> 258 | L33: =K33/H33 -> 0.19054653 | M33: 1 | N33: 1 | O33: =ROUND(L33*M33*N33,2) -> 0.19
A34: 13 | B34: 천안00국민임대주택단지예정지구 영향평가용역 | C34: - OOOOOO | E34: LH | F34: 38750 | G34: 39082 | H34: =IF(G34-F34>=90,G34-F34,0) -> 332 | I34: 38750 | J34: 39082 | K34: =IF(J34-I34>=30,J34-I34,0) -> 332 | L34: =K34/H34 -> 1 | M34: 0.6 | N34: 1 | O34: =ROUND(L34*M34*N34,2) -> 0.6
... A36: 16 | B36: 청주성화(2)지구 택지개발조성공사 영향평가용역 | C36: - OOOOOO | E36: LH | F36: 38834 | G36: 39482 | H36: =IF(G36-F36>=90,G36-F36,0) -> 648 | I36: 38834 | J36: 39482 | K36: =IF(J36-I36>=30,J36-I36,0) -> 648 | L36: =K36/H36 -> 1 | M36: 1 | N36: 1 | O36: =ROUND(L36*M36*N36,2) -> 1
A37: 총계 | O37: =SUM(O23:O36) -> 8.75
A39: =배점기준!C5 -> 소음진동 | C39: 분야 책임평가자 | D39: 홍길동
A40: 번호 | B40: 참여용역명 | C40: 사업개요 | D40: 참여분야 | E40: 발주청 (발주자) | F40: 계약기간 | I40: 참여기간 | L40: 참여율 | M40: 실적계수 | O40: 적용 건수 | P40: 비고
F41: 착수일 | G41: 준공일 | H41: 용역일 | I41: 참여개시일 | J41: 참여종료일 | K41: 참여일 | M41: 평가종류 | N41: 사업종류
A42: 1 | B42: 대전노은지구 택지개발사업 영향평가 | C42: - OOOOOO | E42: LH | F42: 34645 | G42: 36522 | H42: =IF(G42-F42>=90,G42-F42,0) -> 1877 | I42: 34645 | J42: 36522 | K42: =IF(J42-I42>=30,J42-I42,0) -> 1877 | L42: =K42/H42 -> 1 | M42: 1 | N42: 0.6 | O42: =ROUND(L42*M42*N42,2) -> 0.6
A43: 2 | B43: 남양주마석지구 택지개발사업 영향평가 | C43: - OOOOOO | E43: LH | F43: 34692 | G43: 37063 | H43: =IF(G43-F43>=90,G43-F43,0) -> 2371 | I43: 34692 | J43: 36525 | K43: =IF(J43-I43>=30,J43-I43,0) -> 1833 | L43: =K43/H43 -> 0.77309152 | M43: 0.6 | N43: 0.6 | O43: =ROUND(L43*M43*N43,2) -> 0.28
...

Sheet 분야별실적
A1: =배점기준!$C$3 -> 대기관리 | C1: 분야 평가자 | D1: 아무개
A2: 번호 | B2: 참여용역명 | C2: 사업개요 | D2: 참여분야 | E2: 발주청 (발주자) | F2: 계약기간 | I2: 참여기간 | L2: 참여율 | M2: 실적계수 | O2: 적용 건수 | P2: 비고
F3: 착수일 | G3: 준공일 | H3: 용역일 | I3: 참여개시일 | J3: 참여종료일 | K3: 참여일 | M3: 평가종류 | N3: 사업종류
A4: 1 | B4: 대전노은지구 택지개발사업 영향평가 | C4: - OOOOOO | E4: LH | F4: 34645 | G4: 36522 | H4: =IF(G4-F4>=90,G4-F4,0) -> 1877 | I4: 34645 | J4: 36522 | K4: =IF(J4-I4>=30,J4-I4,0) -> 1877 | L4: =K4/H4 -> 1 | M4: 1 | N4: 1 | O4: =ROUND(L4*M4*N4,2) -> 1
A5: 2 | B5: 남양주마석지구 택지개발사업 영향평가 | C5: - OOOOOO | E5: LH | F5: 34692 | G5: 37063 | H5: =IF(G5-F5>=90,G5-F5,0) -> 2371 | I5: 34692 | J5: 36525 | K5: =IF(J5-I5>=30,J5-I5,0) -> 1833 | L5: =K5/H5 -> 0.77309152 | M5: 0.6 | N5: 0.6 | O5: =ROUND(L5*M5*N5,2) -> 0.28 | AA5: 분류
A6: 3 | B6: 부천상동지구 택지개발사업 영향평가 | C6: - OOOOOO | E6: LH | F6: 34967 | G6: 36871 | H6: =IF(G6-F6>=90,G6-F6,0) -> 1904 | I6: 34967 | J6: 36871 | K6: =IF(J6-I6>=30,J6-I6,0) -> 1904 | L6: =K6/H6 -> 1 | M6: 1 | N6: 1 | O6: =ROUND(L6*M6*N6,2) -> 1 | AA6: 1
A7: 4 | B7: 용인죽전지구 택지개발사업 영향평가 | C7: - OOOOOO | E7: LH | F7: 36194 | G7: 37008 | H7: =IF(G7-F7>=90,G7-F7,0) -> 814 | I7: 36194 | J7: 37008 | K7: =IF(J7-I7>=30,J7-I7,0) -> 814 | L7: =K7/H7 -> 1 | M7: 0.6 | N7: 1 | O7: =ROUND(L7*M7*N7,2) -> 0.6 | AA7: 0.6
A8: 5 | B8: 의정부녹양지구 택지개발사업 영향평가용역 | C8: - OOOOOO | E8: LH | F8: 37369 | G8: 37954 | H8: =IF(G8-F8>=90,G8-F8,0) -> 585 | I8: 37369 | J8: 37954 | K8: =IF(J8-I8>=30,J8-I8,0) -> 585 | L8: =K8/H8 -> 1 | M8: 1 | N8: 0.6 | O8: =ROUND(L8*M8*N8,2) -> 0.6
A9: 7 | B9: 강동권역 도시개발사업 영향평가 | C9: - OOOOOO | E9: LH | F9: 37673 | G9: 38929 | H9: =IF(G9-F9>=90,G9-F9,0) -> 1256 | I9: 37673 | J9: 38929 | K9: =IF(J9-I9>=30,J9-I9,0) -> 1256 | L9: =K9/H9 -> 1 | M9: 0.6 | N9: 0.6 | O9: =ROUND(L9*M9*N9,2) -> 0.36
A10: 8 | B10: 남양주별내지구 택지개발사업 영향평가 | C10: - OOOOOO | E10: LH | F10: 38240 | G10: 39562 | H10: =IF(G10-F10>=90,G10-F10,0) -> 1322 | I10: 38240 | J10: 39562 | K10: =IF(J10-I10>=30,J10-I10,0) -> 1322 | L10: =K10/H10 -> 1 | M10: 1 | N10: 1 | O10: =ROUND(L10*M10*N10,2) -> 1
A11: 9 | B11: 아산배방지구 영향평가용역 | C11: - OOOOOO | E11: LH | F11: 38078 | G11: 38660 | H11: =IF(G11-F11>=90,G11-F11,0) -> 582 | I11: 38078 | J11: 38660 | K11: =IF(J11-I11>=30,J11-I11,0) -> 582 | L11: =K11/H11 -> 1 | M11: 0.6 | N11: 1 | O11: =ROUND(L11*M11*N11,2) -> 0.6
A12: 10 | B12: 청주성화2지구 택지개발사업 영향평가 | C12: - OOOOOO | E12: LH | F12: 38127 | G12: 38717 | H12: =IF(G12-F12>=90,G12-F12,0) -> 590 | I12: 38127 | J12: 38717 | K12: =IF(J12-I12>=30,J12-I12,0) -> 590 | L12: =K12/H12 -> 1 | M12: 1 | N12: 0.6 | O12: =ROUND(L12*M12*N12,2) -> 0.6
A13: 11 | B13: 인천삼산3지구 택지개발사업 영향평가 | C13: - OOOOOO | E13: LH | F13: 38098 | G13: 38717 | H13: =IF(G13-F13>=90,G13-F13,0) -> 619 | I13: 38098 | J13: 38656 | K13: =IF(J13-I13>=30,J13-I13,0) -> 558 | L13: =K13/H13 -> 0.90145396 | M13: 0.6 | N13: 0.6 | O13: =ROUND(L13*M13*N13,2) -> 0.32
A14: 12 | B14: 광명소하지구 택지개발사업 영향평가용역 | C14: - OOOOOO | E14: LH | F14: 37376 | G14: 38730 | H14: =IF(G14-F14>=90,G14-F14,0) -> 1354 | I14: 38472 | J14: 38730 | K14: =IF(J14-I14>=30,J14-I14,0) -> 258 | L14: =K14/H14 -> 0.19054653 | M14: 1 | N14: 1 | O14: =ROUND(L14*M14*N14,2) -> 0.19
A15: 13 | B15: 천안00국민임대주택단지예정지구 영향평가용역 | C15: - OOOOOO | E15: LH | F15: 38750 | G15: 39082 | H15: =IF(G15-F15>=90,G15-F15,0) -> 332 | I15: 38750 | J15: 39082 | K15: =IF(J15-I15>=30,J15-I15,0) -> 332 | L15: =K15/H15 -> 1 | M15: 0.6 | N15: 1 | O15: =ROUND(L15*M15*N15,2) -> 0.6
A16: 15 | B16: 하남풍산지구 택지개발사업 영향평가 | C16: - OOOOOO | E16: LH | F16: 37435 | G16: 39414 | H16: =IF(G16-F16>=90,G16-F16,0) -> 1979 | I16: 37435 | J16: 39414 | K16: =IF(J16-I16>=30,J16-I16,0) -> 1979 | L16: =K16/H16 -> 1 | M16: 1 | N16: 1 | O16: =ROUND(L16*M16*N16,2) -> 1
A17: 16 | B17: 청주성화(2)지구 택지개발조성공사 영향평가용역 | C17: - OOOOOO | E17: LH | F17: 38834 | G17: 39482 | H17: =IF(G17-F17>=90,G17-F17,0) -> 648 | I17: 38834 | J17: 39482 | K17: =IF(J17-I17>=30,J17-I17,0) -> 648 | L17: =K17/H17 -> 1 | M17: 1 | N17: 1 | O17: =ROUND(L17*M17*N17,2) -> 1
A18: 총계 | O18: =SUM(O4:O17) -> 9.15
A20: =배점기준!C4 -> 수질관리 | C20: 분야 평가자 | D20: 아무개
A21: 번호 | B21: 참여용역명 | C21: 사업개요 | D21: 참여분야 | E21: 발주청 (발주자) | F21: 계약기간 | I21: 참여기간 | L21: 참여율 | M21: 실적계수 | O21: 적용 건수 | P21: 비고
F22: 착수일 | G22: 준공일 | H22: 용역일 | I22: 참여개시일 | J22: 참여종료일 | K22: 참여일 | M22: 평가종류 | N22: 사업종류
A23: 1 | B23: 대전노은지구 택지개발사업 영향평가 | C23: - OOOOOO | E23: LH | F23: 34645 | G23: 36522 | H23: =IF(G23-F23>=90,G23-F23,0) -> 1877 | I23: 34645 | J23: 36522 | K23: =IF(J23-I23>=30,J23-I23,0) -> 1877 | L23: =K23/H23 -> 1 | M23: 1 | N23: 0.6 | O23: =ROUND(L23*M23*N23,2) -> 0.6
A24: 2 | B24: 남양주마석지구 택지개발사업 영향평가 | C24: - OOOOOO | E24: LH | F24: 34692 | G24: 37063 | H24: =IF(G24-F24>=90,G24-F24,0) -> 2371 | I24: 34692 | J24: 36525 | K24: =IF(J24-I24>=30,J24-I24,0) -> 1833 | L24: =K24/H24 -> 0.77309152 | M24: 0.6 | N24: 0.6 | O24: =ROUND(L24*M24*N24,2) -> 0.28
A25: 3 | B25: 부천상동지구 택지개발사업 영향평가 | C25: - OOOOOO | E25: LH | F25: 34967 | G25: 36871 | H25: =IF(G25-F25>=90,G25-F25,0) -> 1904 | I25: 34967 | J25: 36871 | K25: =IF(J25-I25>=30,J25-I25,0) -> 1904 | L25: =K25/H25 -> 1 | M25: 1 | N25: 1 | O25: =ROUND(L25*M25*N25,2) -> 1
A26: 4 | B26: 용인죽전지구 택지개발사업 영향평가 | C26: - OOOOOO | E26: LH | F26: 36194 | G26: 37008 | H26: =IF(G26-F26>=90,G26-F26,0) -> 814 | I26: 36194 | J26: 37008 | K26: =IF(J26-I26>=30,J26-I26,0) -> 814 | L26: =K26/H26 -> 1 | M26: 0.6 | N26: 1 | O26: =ROUND(L26*M26*N26,2) -> 0.6
A27: 5 | B27: 의정부녹양지구 택지개발사업 영향평가용역 | C27: - OOOOOO | E27: LH | F27: 37369 | G27: 37954 | H27: =IF(G27-F27>=90,G27-F27,0) -> 585 | I27: 37369 | J27: 37954 | K27: =IF(J27-I27>=30,J27-I27,0) -> 585 | L27: =K27/H27 -> 1 | M27: 1 | N27: 0.6 | O27: =ROUND(L27*M27*N27,2) -> 0.6
A28: 7 | B28: 강동권역 도시개발사업 영향평가 | C28: - OOOOOO | E28: LH | F28: 37673 | G28: 38929 | H28: =IF(G28-F28>=90,G28-F28,0) -> 1256 | I28: 37673 | J28: 38929 | K28: =IF(J28-I28>=30,J28-I28,0) -> 1256 | L28: =K28/H28 -> 1 | M28: 0.6 | N28: 0.6 | O28: =ROUND(L28*M28*N28,2) -> 0.36
A29: 8 | B29: 남양주별내지구 택지개발사업 영향평가 | C29: - OOOOOO | E29: LH | F29: 38240 | G29: 39562 | H29: =IF(G29-F29>=90,G29-F29,0) -> 1322 | I29: 38240 | J29: 39562 | K29: =IF(J29-I29>=30,J29-I29,0) -> 1322 | L29: =K29/H29 -> 1 | M29: 1 | N29: 1 | O29: =ROUND(L29*M29*N29,2) -> 1
A30: 9 | B30: 아산배방지구 영향평가용역 | C30: - OOOOOO | E30: LH | F30: 38078 | G30: 38660 | H30: =IF(G30-F30>=90,G30-F30,0) -> 582 | I30: 38078 | J30: 38660 | K30: =IF(J30-I30>=30,J30-I30,0) -> 582 | L30: =K30/H30 -> 1 | M30: 0.6 | N30: 1 | O30: =ROUND(L30*M30*N30,2) -> 0.6
A31: 10 | B31: 청주성화2지구 택지개발사업 영향평가 | C31: - OOOOOO | E31: LH | F31: 38127 | G31: 38717 | H31: =IF(G31-F31>=90,G31-F31,0) -> 590 | I31: 38127 | J31: 38717 | K31: =IF(J31-I31>=30,J31-I31,0) -> 590 | L31: =K31/H31 -> 1 | M31: 1 | N31: 0.6 | O31: =ROUND(L31*M31*N31,2) -> 0.6
A32: 11 | B32: 인천삼산3지구 택지개발사업 영향평가 | C32: - OOOOOO | E32: LH | F32: 38098 | G32: 38717 | H32: =IF(G32-F32>=90,G32-F32,0) -> 619 | I32: 38098 | J32: 38656 | K32: =IF(J32-I32>=30,J32-I32,0) -> 558 | L32: =K32/H32 -> 0.90145396 | M32: 0.6 | N32: 0.6 | O32: =ROUND(L32*M32*N32,2) -> 0.32
A33: 12 | B33: 광명소하지구 택지개발사업 영향평가용역 | C33: - OOOOOO | E33: LH | F33: 37376 | G33: 38730 | H33: =IF(G33-F33>=90,G33-F33,0) -> 1354 | I33: 38472 | J33: 38730 | K33: =IF(J33-I33>=30,J33-I33,0) -> 258 | L33: =K33/H33 -> 0.19054653 | M33: 1 | N33: 1 | O33: =ROUND(L33*M33*N33,2) -> 0.19
A34: 13 | B34: 천안00국민임대주택단지예정지구 영향평가용역 | C34: - OOOOOO | E34: LH | F34: 38750 | G34: 39082 | H34: =IF(G34-F34>=90,G34-F34,0) -> 332 | I34: 38750 | J34: 39082 | K34: =IF(J34-I34>=30,J34-I34,0) -> 332 | L34: =K34/H34 -> 1 | M34: 0.6 | N34: 1 | O34: =ROUND(L34*M34*N34,2) -> 0.6
... A36: 16 | B36: 청주성화(2)지구 택지개발조성공사 영향평가용역 | C36: - OOOOOO | E36: LH | F36: 38834 | G36: 39482 | H36: =IF(G36-F36>=90,G36-F36,0) -> 648 | I36: 38834 | J36: 39482 | K36: =IF(J36-I36>=30,J36-I36,0) -> 648 | L36: =K36/H36 -> 1 | M36: 1 | N36: 1 | O36: =ROUND(L36*M36*N36,2) -> 1
A37: 총계 | O37: =SUM(O23:O36) -> 8.75
A39: =배점기준!C5 -> 소음진동 | C39: 분야 평가자 | D39: 아무개
A40: 번호 | B40: 참여용역명 | C40: 사업개요 | D40: 참여분야 | E40: 발주청 (발주자) | F40: 계약기간 | I40: 참여기간 | L40: 참여율 | M40: 실적계수 | O40: 적용 건수 | P40: 비고
F41: 착수일 | G41: 준공일 | H41: 용역일 | I41: 참여개시일 | J41: 참여종료일 | K41: 참여일 | M41: 평가종류 | N41: 사업종류
A42: 1 | B42: 대전노은지구 택지개발사업 영향평가 | C42: - OOOOOO | E42: LH | F42: 34645 | G42: 36522 | H42: =IF(G42-F42>=90,G42-F42,0) -> 1877 | I42: 34645 | J42: 36522 | K42: =IF(J42-I42>=30,J42-I42,0) -> 1877 | L42: =K42/H42 -> 1 | M42: 1 | N42: 0.6 | O42: =ROUND(L42*M42*N42,2) -> 0.6
A43: 2 | B43: 남양주마석지구 택지개발사업 영향평가 | C43: - OOOOOO | E43: LH | F43: 34692 | G43: 37063 | H43: =IF(G43-F43>=90,G43-F43,0) -> 2371 | I43: 34692 | J43: 36525 | K43: =IF(J43-I43>=30,J43-I43,0) -> 1833 | L43: =K43/H43 -> 0.77309152 | M43: 0.6 | N43: 0.6 | O43: =ROUND(L43*M43*N43,2) -> 0.28
...

Sheet 업무여유도
A1: 업무여유도 (17점)
B2: □ 총괄평가자(4점)
C3: =배점기준!B13 -> 총괄평가자 | E3: 홍길동
B4: 번호 | C4: 참여용역명 | E4: 참여용역 | G4: 계약기간 (일) | H4: 계약금액 (백만원) | I4: 잔여기간 (일) | J4: 1인당 중복금액 (백만원) | K4: 용역중지일 | L4: 중지사유 | M4: 입찰공고일
E5: 착수일 | F5: 준공일 | M5: =배점기준!$H$2 -> 42039
B6: 1 | C6: 0000 개발사업 환경영향평가용역 | E6: 42018 | F6: 42323 | G6: =F6-E6+1 -> 306 | H6: 440 | I6: =IF((F6-M5)>=365,365,(F6-M5)) -> 284 | J6: =ROUND((H6*(I6/G6)/10),0) -> 41
B7: 2 | C7: 00000 특화농공단지 기본 및 실시설계용역 | E7: 42040 | F7: 42347 | G7: =F7-E7+1 -> 308 | H7: 403 | I7: =IF((F7-M6)>=365,365,(F7-M6)) -> 365 | J7: =ROUND((H7*(I7/G7)/10),0) -> 48
B8: 3 | C8: 00000 개발사업 개발사업 조사설계용역 | E8: 42018 | F8: 42323 | G8: =F8-E8+1 -> 306 | H8: 440 | I8: =IF((F8-M7)>=365,365,(F8-M7)) -> 365 | J8: =ROUND((H8*(I8/G8)/10),0) -> 52
B9: 합 계 | J9: =(SUM(J6:J8))/100 -> 1.41 | K9: =IF((J9-2.5)>=0,(J9-2.5),0) -> 0
B11: □ 분야별 책임기술자(7점)
C12: =배점기준!$C$3 -> 대기관리 | D12: 분야 책임평가자 | E12: 김철수
B13: 번호 | C13: 참여용역명 | E13: 참여용역 | G13: 계약기간 (일) | H13: 계약금액 (백만원) | I13: 잔여기간 (일) | J13: 1인당 중복금액 (백만원) | K13: 용역중지일 | L13: 중지사유 | M13: 입찰공고일
E14: 착수일 | F14: 준공일 | M14: =배점기준!$H$2 -> 42039
B15: 1 | C15: 0000 개발사업 환경영향평가용역 | E15: 42018 | F15: 42323 | G15: =F15-E15+1 -> 306 | H15: 440 | I15: =IF((F15-M14)>=365,365,(F15-M14)) -> 284 | J15: =ROUND((H15*(I15/G15)/10),0) -> 41
B16: 2 | C16: 00000 특화농공단지 기본 및 실시설계용역 | E16: 42040 | F16: 42347 | G16: =F16-E16+1 -> 308 | H16: 403 | I16: =IF((F16-M15)>=365,365,(F16-M15)) -> 365 | J16: =ROUND((H16*(I16/G16)/10),0) -> 48
B17: 3 | C17: 00000 개발사업 개발사업 조사설계용역 | E17: 42018 | F17: 42323 | G17: =F17-E17+1 -> 306 | H17: 440 | I17: =IF((F17-M16)>=365,365,(F17-M16)) -> 365 | J17: =ROUND((H17*(I17/G17)/10),0) -> 52
B18: 합 계 | J18: =(SUM(J15:J17))/100 -> 1.41 | K18: =IF((J18-2.5)>=0,(J18-2.5),0) -> 0
C20: =배점기준!$C$4 -> 수질관리 | D20: 분야 책임평가자 | E20: 박나리
B21: 번호 | C21: 참여용역명 | E21: 참여용역 | G21: 계약기간 (일) | H21: 계약금액 (백만원) | I21: 잔여기간 (일) | J21: 1인당 중복금액 (백만원) | K21: 용역중지일 | L21: 중지사유 | M21: 입찰공고일
E22: 착수일 | F22: 준공일 | M22: =배점기준!$H$2 -> 42039
B23: 1 | C23: 청라국제도시 친환경복합단지 개발사업 실시설계용역 | E23: 42018 | F23: 42323 | G23: =F23-E23+1 -> 306 | H23: 440 | I23: =IF((F23-M22)>=365,365,(F23-M22)) -> 284 | J23: =ROUND((H23*(I23/G23)/10),0) -> 41
B24: 2 | C24: 무안군 신규 특화농공단지 기본 및 실시설계용역 | E24: 42040 | F24: 42347 | G24: =F24-E24+1 -> 308 | H24: 403 | I24: =IF((F24-M23)>=365,365,(F24-M23)) -> 365 | J24: =ROUND((H24*(I24/G24)/10),0) -> 48
B25: 3 | C25: 청라국제도시 친환경복합단지 개발사업 실시설계용역 | E25: 42018 | F25: 42323 | G25: =F25-E25+1 -> 306 | H25: 440 | I25: =IF((F25-M24)>=365,365,(F25-M24)) -> 365 | J25: =ROUND((H25*(I25/G25)/10),0) -> 52
B26: 합 계 | J26: =(SUM(J23:J25))/100 -> 1.41 | K26: =IF((J26-2.5)>=0,(J26-2.5),0) -> 0
C28: =배점기준!$C$5 -> 소음진동 | D28: 분야 책임평가자 | E28: 이순신
B29: 번호 | C29: 참여용역명 | E29: 참여용역 | G29: 계약기간 (일) | H29: 계약금액 (백만원) | I29: 잔여기간 (일) | J29: 1인당 중복금액 (백만원) | K29: 용역중지일 | L29: 중지사유 | M29: 입찰공고일
E30: 착수일 | F30: 준공일 | M30: =배점기준!$H$2 -> 42039
B31: 1 | C31: 청라국제도시 친환경복합단지 개발사업 실시설계용역 | E31: 42018 | F31: 42323 | G31: =F31-E31 -> 305 | H31: 440 | I31: =IF((F31-M30)>=365,365,(F31-M30)) -> 284 | J31: =ROUND((H31*(I31/G31)/10),0) -> 41
B32: 2 | C32: 무안군 신규 특화농공단지 기본 및 실시설계용역 | E32: 42040 | F32: 42347 | G32: =F32-E32 -> 307 | H32: 403 | I32: =IF((F32-M31)>=365,365,(F32-M31)) -> 365 | J32: =ROUND((H32*(I32/G32)/10),0) -> 48
B33: 3 | C33: 청라국제도시 친환경복합단지 개발사업 실시설계용역 | E33: 42018 | F33: 42323 | G33: =F33-E33 -> 305 | H33: 440 | I33: =IF((F33-M32)>=365,365,(F33-M32)) -> 365 | J33: =ROUND((H33*(I33/G33)/10),0) -> 53
B34: 합 계 | J34: =(SUM(J31:J33))/100 -> 1.42 | K34: =IF((J34-2.5)>=0,(J34-2.5),0) -> 0
C36: =배점기준!$C$6 -> 폐기물처리 | D36: 분야 책임평가자 | E36: 아무개
B37: 번호 | C37: 참여용역명 | E37: 참여용역 | G37: 계약기간 (일) | H37: 계약금액 (백만원) | I37: 잔여기간 (일) | J37: 1인당 중복금액 (백만원) | K37: 용역중지일 | L37: 중지사유 | M37: 입찰공고일
E38: 착수일 | F38: 준공일 | M38: =배점기준!$H$2 -> 42039
B39: 1 | C39: 청라국제도시 친환경복합단지 개발사업 실시설계용역 | E39: 42018 | F39: 42323 | G39: =F39-E39+1 -> 306 | H39: 440 | I39: =IF((F39-M38)>=365,365,(F39-M38)) -> 284 | J39: =ROUND((H39*(I39/G39)/10),0) -> 41
B40: 2 | C40: 무안군 신규 특화농공단지 기본 및 실시설계용역 | E40: 42040 | F40: 42347 | G40: =F40-E40+1 -> 308 | H40: 403 | I40: =IF((F40-M39)>=365,365,(F40-M39)) -> 365 | J40: =ROUND((H40*(I40/G40)/10),0) -> 48
B41: 3 | C41: 청라국제도시 친환경복합단지 개발사업 실시설계용역 | E41: 42018 | F41: 42323 | G41: =F41-E41+1 -> 306 | H41: 440 | I41: =IF((F41-M40)>=365,365,(F41-M40)) -> 365 | J41: =ROUND((H41*(I41/G41)/10),0) -> 52
B42: 합 계 | J42: =(SUM(J39:J41))/100 -> 1.41 | K42: =IF((J42-2.5)>=0,(J42-2.5),0) -> 0
C44: =배점기준!$C$7 -> 0 | D44: 분야 책임평가자 | E44: 김준수
B45: 번호 | C45: 참여용역명 | E45: 참여용역 | G45: 계약기간 (일) | H45: 계약금액 (백만원) | I45: 잔여기간 (일) | J45: 1인당 중복금액 (백만원) | K45: 용역중지일 | L45: 중지사유 | M45: 입찰공고일
...

Sheet 교육훈련
B1: 참여평가자 교육실적
B3: 참여분야 | C3: 성 명 | D3: 교육과정명 | E3: 교육기간 | F3: 교육기관 | G3: 인원
B4: 2주이상교육자
B5: 총괄평가자
B6: 대기분야 책임평가자
B7: 수질관리 책임평가자
B8: 대기분야 평가자
B9: 수질관리 평가자
B10: 계 | G10: =COUNTA(B5:B9) -> 5
B12: 1주 이상 2주 미만교육자
B13: 총괄평가자
B14: 대기분야 책임평가자
B15: 수질관리 책임평가자
B16: 대기분야 평가자
B17: 수질관리 평가자
B18: 계 | G18: =COUNTA(B13:B17) -> 5

Sheet 과업의이해도
B1: 과업의 이해도
B3: ■ 전단계 용역 중 당해 용역 참여현황
B4: 용 역 명 | C4: 용 역 기 간 | F4: 참여분야 | G4: 참여자 | H4: 참여기간 | K4: 인정 인원
C5: 착수일 | D5: 준공일 | E5: 일수 | H5: 착수일 | I5: 준공일 | J5: 일수
B6: 00000 택지개발사업 전력환경영향평가 용역 | C6: 42005 | D6: 42369 | E6: =D6-C6+1 -> 365 | G6: 홍길동 | H6: 42005 | I6: 42369 | J6: =I6-H6+1 -> 365 | K6: =IF(J6>=($E$6/2),1,0) -> 1
H7: 42154 | I7: 42369 | J7: =I7-H7+1 -> 216 | K7: =IF(J7>=($E$6/2),1,0) -> 1
H8: 42217 | I8: 42369 | J8: =I8-H8+1 -> 153 | K8: =IF(J8>=($E$6/2),1,0) -> 0
H9: 42309 | I9: 42338 | J9: =I9-H9+1 -> 30 | K9: =IF(J9>=($E$6/2),1,0) -> 0
H10: 42186 | I10: 42246 | J10: =I10-H10+1 -> 61 | K10: =IF(J10>=($E$6/2),1,0) -> 0
B11: 계 | K11: =SUM(K6:K10) -> 2

Sheet 환경평가업체
A1: 2. 환경영향평가등 수행실적(15점)
B3: 항목 | C3: 배점 | D3: 업체명 | E3: 실적 | F3: 점수 | G3: 지분율 | H3: 평가
