Workbook
Name 기준: 신용도!#REF!
Name 기준: 신용도!#REF!
Name 기준: 신용도!#REF!
Name 기준: 신용도!#REF!
Name 기준: 신용도!#REF!
Name 기준: 신용도!#REF!
Name 회사채: 신용도!$D$22:$D$40

Sheet 작성요령
A2: PQ 평가표 작성 요령
A4: 1. 입력시 색으로 표시된 부분에 직접입력하도록 하고, 색으로 표시된 부분은 목록에서 선택하고, 산식으로 계산된 부분은 입력하지 않습니다.
A5: 2. 각 실적 입력 시트에 | D5: 색으로 표시된 셀은 집계표의 참조셀이므로 절대로 삭제하면 안됩니다.
A6: 3. 해당용역 해당분야별 실적금액 입력시는 영향평가관련 분야의 준공실적 만을 기입합니다.
A7: 4. 만약 평가지침과 본 평가표 양식의 차이가 발생할 시에는 평가지침의 내용을 따릅니다.
A8: 5. '배점'시트는 평가점수산정시 필요한 기준들을 기입한 시트로 분야별 가중치 외는 참고만 합니다. 단, 교통영향분석, 개선대책과 광역교통개선대책을 통합용역으로 별도 발주하는 경우에는 배점을 수정합니다.
A9: 6. 평가부서에서는 업체에서 제출한 작성표를 근거로 관련 증빙자료 검증 후 점수를 조정할 수 있습니다.
A10: 7. 엑셀수식오류 및 업체의 양식임의변경으로 발생될 수 있는 오류에 대하여는 당사에서 책임지지 않으니, 업체산정점수와 엑셀산출점수를 확인 후 제출바랍니다.
A11: 8. 본 엑셀양식은 가로인쇄로 작성되어 있으며 인쇄후 평가서 제본시에는 접지않고 횡상철하여 제출하시기 바랍니다.
A12: 9. 추가로 증빙자료의 총괄 설명이 필요할시에는 임의양식으로 작성제출 하시기 바랍니다.
A13: 10. 엑셀서식오류 등 작성양식과 관련된 문의 사항은 본사 기술지원단 (055-922-5372)로 문의 바랍니다.

Sheet 참여업체
B2: O O 지구 O O 영향평가 용역
B4: 사업수행능력평가 참가업체
B6: 업체명 | C6: ㈜ㅁㅁ엔지니어링 | D6: ㅇㅇ엔지니어링㈜ | E6: ◇◇기술공사㈜ | F6: 비고
B7: 지분율 | C7: 0.5 | D7: 0.3 | E7: 0.2
A8: 주) | B8: 공동도급인 경우에는 업체명과 각 해당 지분율을 입력합니다.

Sheet 배점기준
A1: ■ 기준입력
A2: 항 목 | B2: 구분 | C2: 해당분야 | D2: 비율 | E2: 평가대상 인원수 | G2: 입찰공고일 | H2: 42039
A3: 참여평가자 전문분야 별 비율 | B3: 분야1 | C3: 대기관리 | D3: 0.25 | E3: =COUNTA(C3:C8)*2+1 -> 9 | G3: PQ서류 제출일 | H3: 42050
B4: 분야2 | C4: 수질관리 | D4: 0.25 | G4: 발주금액 | H4: 500000
B5: 분야3 | C5: 소음진동 | D5: 0.25 | G5: 사업구분 | H5: 단순
B6: 분야4 | C6: 폐기물처리 | D6: 0.25 | G6: 업체능력평가 여부 | H6: 미시행
B7: 분야5 | D7: 0
B8: 분야6 | D8: 0
B9: 소계 | D9: =SUM(D3:D8) -> 1
A11: ■ 배점기준
A12: 항 목 | C12: 세부항목 | D12: 배점 | E12: 구분 | F12: 1순위 | G12: 2순위 | H12: 3순위 | I12: 4순위 | J12: 5순위 | K12: 6순위 | L12: 7순위
A13: 환경평가 참여자 능력평가 | B13: 총괄평가자 | C13: 자격 및 등급 | D13: 3 | E13: 등급 | F13: 환경영향평가사 | G13: 해당기술사 | H13: 특급기술자
E14: 점수 | F14: 3 | G14: 2.85 | H14: 2.7
C15: 경 력 | D15: =IF($H$6="시행",4,5) -> 5 | E15: 경력 | F15: 17 | G15: 15 | H15: 13 | I15: 10 | J15: 9 | K15: 7 | L15: 7
E16: 점수 | F16: =D15*N17 -> 5 | G16: =D15*N18 -> 5 | H16: =D15*N19 -> 4.5 | I16: =D15*N21 -> 4 | J16: =D15*N22 -> 3.5 | K16: =D15*N23 -> 3 | L16: =D15*N24 -> 2.5 | N16: 적용점수 | P16: 분류
C17: 실 적 | D17: =IF($H$6="시행",4,5) -> 5 | E17: 실적 | F17: 15 | G17: 13 | H17: 11 | I17: 9 | J17: 9 | N17: =IF(H5="복잡",O17,1) -> 1 | O17: 1 | P17: 단순 | Q17: 시행
E18: 점수 | F18: =D17*N17 -> 5 | G18: =D17*N18 -> 5 | H18: =D17*N19 -> 4.5 | I18: =D17*N21 -> 4 | J18: =D17*N22 -> 3.5 | N18: =IF(H5="복잡",O18,1) -> 1 | O18: 0.9 | P18: 복잡 | Q18: 미시행
C19: 업무여유도 | D19: 4 | E19: 기준 | F19: 중복없음 | G19: 5억원 초과 | N19: =IF(H5="복잡",O19,0.9) -> 0.9 | O19: 0.8
E20: 점수 | F20: =D19 -> 4 | G20: 0 | N20: =IF(H5="복잡",O20,0.8) -> 0.8 | O20: 0
B21: 분야별 책임평가자 | C21: 자격 및 등급 | D21: 6 | E21: 등급 | F21: 환경영향평가사 | G21: 해당기술사 | H21: 특급기술자 | I21: 고급기술자 | J21: 중급기술자 | N21: =IF(H5="복잡",O21,0.8) -> 0.8 | O21: 0.7
E22: 점수 | F22: =D21*N17 -> 6 | G22: =D21*N17 -> 6 | H22: =D21*N18 -> 6 | I22: =D21*N19 -> 5.4 | J22: =D21*N20 -> 4.8 | N22: =IF(H5="복잡",O22,0.7) -> 0.7 | O22: 0.6
E23: =C3 -> 대기관리 | F23: =F22*$D$3 -> 1.5 | G23: =G22*$D$3 -> 1.5 | H23: =H22*$D$3 -> 1.5 | I23: =I22*$D$3 -> 1.35 | J23: =J22*$D$3 -> 1.2 | N23: =IF(H5="복잡",O23,0.6) -> 0.6 | O23: 0.5
E24: =C4 -> 수질관리 | F24: =F22*$D$4 -> 1.5 | G24: =G22*$D$4 -> 1.5 | H24: =H22*$D$4 -> 1.5 | I24: =I22*$D$4 -> 1.35 | J24: =J22*$D$4 -> 1.2 | N24: =IF(H5="복잡",O24,0.5) -> 0.5 | O24: 0.4
E25: =C5 -> 소음진동 | F25: =F22*$D$5 -> 1.5 | G25: =G22*$D$5 -> 1.5 | H25: =H22*$D$5 -> 1.5 | I25: =I22*$D$5 -> 1.35 | J25: =J22*$D$5 -> 1.2
E26: =C6 -> 폐기물처리 | F26: =F22*$D$6 -> 1.5 | G26: =G22*$D$6 -> 1.5 | H26: =H22*$D$6 -> 1.5 | I26: =I22*$D$6 -> 1.35 | J26: =J22*$D$6 -> 1.2
E27: =C7 -> 0 | F27: =F22*$D$7 -> 0 | G27: =G22*$D$7 -> 0 | H27: =H22*$D$7 -> 0 | I27: =I22*$D$7 -> 0 | J27: =J22*$D$7 -> 0
E28: =C8 -> 0 | F28: =F22*$D$8 -> 0 | G28: =G22*$D$8 -> 0 | H28: =H22*$D$8 -> 0 | I28: =I22*$D$8 -> 0 | J28: =J22*$D$8 -> 0
C29: 경 력 | D29: 7 | E29: 경력 | F29: 17 | G29: 15 | H29: 13 | I29: 10 | J29: 9 | K29: 7 | L29: 7
E30: 점수 | F30: =D29*N17 -> 7 | G30: =D29*N17 -> 7 | H30: =D29*N18 -> 7 | I30: =D29*N19 -> 6.3 | J30: =D29*N21 -> 5.6 | K30: =D29*N22 -> 4.9 | L30: =D29*N23 -> 4.2
E31: =E23 -> 대기관리 | F31: =F30*$D$3 -> 1.75 | G31: =G30*$D$3 -> 1.75 | H31: =H30*$D$3 -> 1.75 | I31: =I30*$D$3 -> 1.575 | J31: =J30*$D$3 -> 1.4 | K31: =K30*$D$3 -> 1.225 | L31: =L30*$D$3 -> 1.05
E32: =E24 -> 수질관리 | F32: =F30*$D$4 -> 1.75 | G32: =G30*$D$4 -> 1.75 | H32: =H30*$D$4 -> 1.75 | I32: =I30*$D$4 -> 1.575 | J32: =J30*$D$4 -> 1.4 | K32: =K30*$D$4 -> 1.225 | L32: =L30*$D$4 -> 1.05
E33: =E25 -> 소음진동 | F33: =F30*$D$5 -> 1.75 | G33: =G30*$D$5 -> 1.75 | H33: =H30*$D$5 -> 1.75 | I33: =I30*$D$5 -> 1.575 | J33: =J30*$D$5 -> 1.4 | K33: =K30*$D$5 -> 1.225 | L33: =L30*$D$5 -> 1.05
E34: =E26 -> 폐기물처리 | F34: =F30*$D$6 -> 1.75 | G34: =G30*$D$6 -> 1.75 | H34: =H30*$D$6 -> 1.75 | I34: =I30*$D$6 -> 1.575 | J34: =J30*$D$6 -> 1.4 | K34: =K30*$D$6 -> 1.225 | L34: =L30*$D$6 -> 1.05
E35: =E27 -> 0 | F35: =F30*$D$7 -> 0 | G35: =G30*$D$7 -> 0 | H35: =H30*$D$7 -> 0 | I35: =I30*$D$7 -> 0 | J35: =J30*$D$7 -> 0 | K35: =K30*$D$7 -> 0 | L35: =L30*$D$7 -> 0
E36: =E28 -> 0 | F36: =F30*$D$8 -> 0 | G36: =G30*$D$8 -> 0 | H36: =H30*$D$8 -> 0 | I36: =I30*$D$8 -> 0 | J36: =J30*$D$8 -> 0 | K36: =K30*$D$8 -> 0 | L36: =L30*$D$8 -> 0
C37: 3.실적 | D37: 7 | E37: 실적 | F37: 15 | G37: 13 | H37: 11 | I37: 9 | J37: 9
E38: 점수 | F38: =D37*N17 -> 7 | G38: =D37*N18 -> 7 | H38: =D37*N19 -> 6.3 | I38: =D37*N21 -> 5.6 | J38: =D37*N22 -> 4.9
E39: =E23 -> 대기관리 | F39: =F38*$D$3 -> 1.75 | G39: =G38*$D$3 -> 1.75 | H39: =H38*$D$3 -> 1.575 | I39: =I38*$D$3 -> 1.4 | J39: =J38*$D$3 -> 1.225
E40: =E24 -> 수질관리 | F40: =F38*$D$4 -> 1.75 | G40: =G38*$D$4 -> 1.75 | H40: =H38*$D$4 -> 1.575 | I40: =I38*$D$4 -> 1.4 | J40: =J38*$D$4 -> 1.225
E41: =E25 -> 소음진동 | F41: =F38*$D$5 -> 1.75 | G41: =G38*$D$5 -> 1.75 | H41: =H38*$D$5 -> 1.575 | I41: =I38*$D$5 -> 1.4 | J41: =J38*$D$5 -> 1.225
E42: =E26 -> 폐기물처리 | F42: =F38*$D$6 -> 1.75 | G42: =G38*$D$6 -> 1.75 | H42: =H38*$D$6 -> 1.575 | I42: =I38*$D$6 -> 1.4 | J42: =J38*$D$6 -> 1.225
E43: =E27 -> 0 | F43: =F38*$D$7 -> 0 | G43: =G38*$D$7 -> 0 | H43: =H38*$D$7 -> 0 | I43: =I38*$D$7 -> 0 | J43: =J38*$D$7 -> 0
E44: =E28 -> 0 | F44: =F38*$D$8 -> 0 | G44: =G38*$D$8 -> 0 | H44: =H38*$D$8 -> 0 | I44: =I38*$D$8 -> 0 | J44: =J38*$D$8 -> 0
C45: 업무여유도 | D45: 7 | E45: 실적 | F45: 중복없음 | G45: 2.5억원 초과
E46: 점수 | F46: =D45 -> 7 | G46: 0
E47: =E31 -> 대기관리 | F47: =F46*$D$3 -> 1.75 | G47: =G46*$D$3 -> 0
E48: =E32 -> 수질관리 | F48: =F46*$D$4 -> 1.75 | G48: =G46*$D$4 -> 0
E49: =E33 -> 소음진동 | F49: =F46*$D$5 -> 1.75 | G49: =G46*$D$5 -> 0
E50: =E34 -> 폐기물처리 | F50: =F46*$D$6 -> 1.75 | G50: =G46*$D$6 -> 0
E51: =E35 -> 0 | F51: =F46*$D$7 -> 0 | G51: =G46*$D$7 -> 0
E52: =E36 -> 0 | F52: =F46*$D$8 -> 0 | G52: =G46*$D$8 -> 0
B53: 분야별 평가자 | C53: 자격 및 등급 | D53: 5 | E53: 등급 | F53: 환경영향평가사 | G53: 해당기술사 | H53: 특급기술자 | I53: 고급기술자 | J53: 중급기술자 | K53: 초급기술자
E54: 점수 | F54: =D53*N17 -> 5 | G54: =D53*N17 -> 5 | H54: =D53*N17 -> 5 | I54: =D53*N17 -> 5 | J54: =D53*N18 -> 5 | K54: =D53*N19 -> 4.5
E55: =E23 -> 대기관리 | F55: =F54*$D$3 -> 1.25 | G55: =G54*$D$3 -> 1.25 | H55: =H54*$D$3 -> 1.25 | I55: =I54*$D$3 -> 1.25 | J55: =J54*$D$3 -> 1.25 | K55: =K54*$D$3 -> 1.125
E56: =E24 -> 수질관리 | F56: =F54*$D$4 -> 1.25 | G56: =G54*$D$4 -> 1.25 | H56: =H54*$D$4 -> 1.25 | I56: =I54*$D$4 -> 1.25 | J56: =J54*$D$4 -> 1.25 | K56: =K54*$D$4 -> 1.125
E57: =E25 -> 소음진동 | F57: =F54*$D$5 -> 1.25 | G57: =G54*$D$5 -> 1.25 | H57: =H54*$D$5 -> 1.25 | I57: =I54*$D$5 -> 1.25 | J57: =J54*$D$5 -> 1.25 | K57: =K54*$D$5 -> 1.125
E58: =E26 -> 폐기물처리 | F58: =F54*$D$6 -> 1.25 | G58: =G54*$D$6 -> 1.25 | H58: =H54*$D$6 -> 1.25 | I58: =I54*$D$6 -> 1.25 | J58: =J54*$D$6 -> 1.25 | K58: =K54*$D$6 -> 1.125
E59: =E27 -> 0 | F59: =F54*$D$7 -> 0 | G59: =G54*$D$7 -> 0 | H59: =H54*$D$7 -> 0 | I59: =I54*$D$7 -> 0 | J59: =J54*$D$7 -> 0 | K59: =K54*$D$7 -> 0
E60: =E28 -> 0 | F60: =F54*$D$8 -> 0 | G60: =G54*$D$8 -> 0 | H60: =H54*$D$8 -> 0 | I60: =I54*$D$8 -> 0 | J60: =J54*$D$8 -> 0 | K60: =K54*$D$8 -> 0
C61: 경 력 | D61: 6 | E61: 경력 | F61: 17 | G61: 15 | H61: 13 | I61: 10 | J61: 9 | K61: 7 | L61: 7
E62: 점수 | F62: =D61*N17 -> 6 | G62: =D61*N17 -> 6 | H62: =D61*N17 -> 6 | I62: =D61*N17 -> 6 | J62: =D61*N18 -> 6 | K62: =D61*N19 -> 5.4 | L62: =D61*N21 -> 4.8
E63: =E55 -> 대기관리 | F63: =F62*$D$3 -> 1.5 | G63: =G62*$D$3 -> 1.5 | H63: =H62*$D$3 -> 1.5 | I63: =I62*$D$3 -> 1.5 | J63: =J62*$D$3 -> 1.5 | K63: =K62*$D$3 -> 1.35 | L63: =L62*$D$3 -> 1.2
E64: =E56 -> 수질관리 | F64: =F62*$D$4 -> 1.5 | G64: =G62*$D$4 -> 1.5 | H64: =H62*$D$4 -> 1.5 | I64: =I62*$D$4 -> 1.5 | J64: =J62*$D$4 -> 1.5 | K64: =K62*$D$4 -> 1.35 | L64: =L62*$D$4 -> 1.2
E65: =E57 -> 소음진동 | F65: =F62*$D$5 -> 1.5 | G65: =G62*$D$5 -> 1.5 | H65: =H62*$D$5 -> 1.5 | I65: =I62*$D$5 -> 1.5 | J65: =J62*$D$5 -> 1.5 | K65: =K62*$D$5 -> 1.35 | L65: =L62*$D$5 -> 1.2
E66: =E58 -> 폐기물처리 | F66: =F62*$D$6 -> 1.5 | G66: =G62*$D$6 -> 1.5 | H66: =H62*$D$6 -> 1.5 | I66: =I62*$D$6 -> 1.5 | J66: =J62*$D$6 -> 1.5 | K66: =K62*$D$6 -> 1.35 | L66: =L62*$D$6 -> 1.2
E67: =E59 -> 0 | F67: =F62*$D$7 -> 0 | G67: =G62*$D$7 -> 0 | H67: =H62*$D$7 -> 0 | I67: =I62*$D$7 -> 0 | J67: =J62*$D$7 -> 0 | K67: =K62*$D$7 -> 0 | L67: =L62*$D$7 -> 0
E68: =E60 -> 0 | F68: =F62*$D$8 -> 0 | G68: =G62*$D$8 -> 0 | H68: =H62*$D$8 -> 0 | I68: =I62*$D$8 -> 0 | J68: =J62*$D$8 -> 0 | K68: =K62*$D$8 -> 0 | L68: =L62*$D$8 -> 0
C69: 실 적 | D69: 6 | E69: 실적 | F69: 15 | G69: 13 | H69: 11 | I69: 9 | J69: 9
E70: 점수 | F70: =D69*N17 -> 6 | G70: =D69*N17 -> 6 | H70: =D69*N17 -> 6 | I70: =D69*N18 -> 6 | J70: =D69*N19 -> 5.4
E71: =E55 -> 대기관리 | F71: =F70*$D$3 -> 1.5 | G71: =G70*$D$3 -> 1.5 | H71: =H70*$D$3 -> 1.5 | I71: =I70*$D$3 -> 1.5 | J71: =J70*$D$3 -> 1.35
E72: =E56 -> 수질관리 | F72: =F70*$D$4 -> 1.5 | G72: =G70*$D$4 -> 1.5 | H72: =H70*$D$4 -> 1.5 | I72: =I70*$D$4 -> 1.5 | J72: =J70*$D$4 -> 1.35
E73: =E57 -> 소음진동 | F73: =F70*$D$5 -> 1.5 | G73: =G70*$D$5 -> 1.5 | H73: =H70*$D$5 -> 1.5 | I73: =I70*$D$5 -> 1.5 | J73: =J70*$D$5 -> 1.35
E74: =E58 -> 폐기물처리 | F74: =F70*$D$6 -> 1.5 | G74: =G70*$D$6 -> 1.5 | H74: =H70*$D$6 -> 1.5 | I74: =I70*$D$6 -> 1.5 | J74: =J70*$D$6 -> 1.35
E75: =E59 -> 0 | F75: =F70*$D$7 -> 0 | G75: =G70*$D$7 -> 0 | H75: =H70*$D$7 -> 0 | I75: =I70*$D$7 -> 0 | J75: =J70*$D$7 -> 0
E76: =E60 -> 0 | F76: =F70*$D$8 -> 0 | G76: =G70*$D$8 -> 0 | H76: =H70*$D$8 -> 0 | I76: =I70*$D$8 -> 0 | J76: =J70*$D$8 -> 0
C77: 업무여유도 | D77: 6 | E77: 실적 | F77: 중복없음 | G77: 2.5억원 초과
E78: 점수 | F78: =D77 -> 6 | G78: 0
E79: =E63 -> 대기관리 | F79: =F78*$D$3 -> 1.5 | G79: =G78*$D$3 -> 0
E80: =E64 -> 수질관리 | F80: =F78*$D$4 -> 1.5 | G80: =G78*$D$4 -> 0
E81: =E65 -> 소음진동 | F81: =F78*$D$5 -> 1.5 | G81: =G78*$D$5 -> 0
E82: =E66 -> 폐기물처리 | F82: =F78*$D$6 -> 1.5 | G82: =G78*$D$6 -> 0
E83: =E67 -> 0 | F83: =F78*$D$7 -> 0 | G83: =G78*$D$7 -> 0
E84: =E68 -> 0 | F84: =F78*$D$8 -> 0 | G84: =G78*$D$8 -> 0
B85: 참여평가자 | C85: 교육훈련 | D85: 1 | E85: 기간 | F85: 2주이상 | G85: 1주이상
E86: 점수 | F86: 1 | G86: 0.5
C87: 과업의 이해도 | D87: 1 | E87: 인원 | F87: 배점
E88: 점수 | F88: 1
C89: 환경평가발전 | D89: 1 | E89: 건수 | F89: 배점
E90: 점수 | F90: 1
A91: 환경평가업체 능력평가 | B91: 환경영향평가등 수행실적 | C91: 1. 건수 | D91: 7 | E91: 건수 | F91: =IF($H$5="단순",10,15) -> 10 | G91: =IF($H$5="단순",8,12) -> 8 | H91: =IF($H$5="단순",6,9) -> 6 | I91: =IF($H$5="단순",4,6) -> 4 | J91: =IF($H$5="단순",4,6) -> 4
E92: 점수 | F92: =$D$91*1 -> 7 | G92: =$D$91*0.9 -> 6.3 | H92: =$D$91*0.8 -> 5.6 | I92: =$D$91*0.7 -> 4.9 | J92: =$D$91*0.6 -> 4.2
C93: 2. 금액 | D93: 7 | E93: 기준 | F93: =IF($H$5="단순",3,6) -> 3 | G93: =IF($H$5="단순",2,5) -> 2 | H93: =IF($H$5="단순",1,4) -> 1 | I93: =IF($H$5="단순",0.5,3) -> 0.5 | J93: =IF($H$5="단순",0.5,3) -> 0.5
E94: 점수 | F94: =$D$93*1 -> 7 | G94: =$D$93*0.9 -> 6.3 | H94: =$D$93*0.8 -> 5.6 | I94: =$D$93*0.7 -> 4.9 | J94: =$D$93*0.6 -> 4.2
B95: 신용도 | C95: 업무정지 | D95: 5 | E95: 개월 | F95: 1
E96: 감점 | F96: -0.2
C97: 거짓작성 및 복제 | E97: 건수 | F97: 1
E98: 감점 | F98: -3
C99: 부실작성 | E99: 건수 | F99: 1
E100: 감점 | F100: -0.2
C101: 기술자격정지 또는 영업정지 등 | E101: 개월 | F101: 1
...

Sheet 종합평가표
A1: 종 합 평 가 표
A3: =참여업체!B2 -> O O 지구 O O 영향평가 용역
A4: 평가항목 | C4: 세 부 사 항 | F4: 평가 | G4: 제출 점수
A5: 분 야 별 | B5: 배점 | C5: 항 목 | E5: 배 점
A6: 환경평가 참여자 능력평가 | B6: =SUM(E6:E20) -> 70 | C6: 자격 및 등급 | D6: 총괄평가자 | E6: =배점기준!D13 -> 3 | F6: =평가자!$H$4 -> 2.85
D7: 분야별 책임평가자 | E7: =배점기준!D21 -> 6 | F7: =평가자!$L$13 -> 5.85
D8: 분야별 평가자 | E8: =배점기준!D53 -> 5 | F8: =평가자!$L$25 -> 5
C9: 경력 | D9: 총괄평가자 | E9: =배점기준!D15 -> 5 | F9: =평가자!$H5 -> 2.5
D10: 분야별 책임평가자 | E10: =배점기준!D29 -> 7 | F10: =평가자!L15 -> 4.2
D11: 분야별 평가자 | E11: =배점기준!D61 -> 6 | F11: =평가자!L27 -> 6
C12: 실적 | D12: 총괄평가자 | E12: =배점기준!D17 -> 5 | F12: =평가자!H6 -> 3.5
D13: 분야별 책임평가자 | E13: =배점기준!D37 -> 7 | F13: =평가자!L17 -> 5.08
D14: 분야별 평가자 | E14: =배점기준!D69 -> 6 | F14: =평가자!L29 -> 5.55
C15: 업무여유도 | D15: 총괄평가자 | E15: =배점기준!D19 -> 4 | F15: =평가자!H7 -> 4
D16: 분야별 책임평가자 | E16: =배점기준!D45 -> 7 | F16: =평가자!L19 -> 7
D17: 분야별 평가자 | E17: =배점기준!D77 -> 6 | F17: =평가자!L31 -> 6
C18: 교육훈련 | E18: =배점기준!D85 -> 1 | F18: =평가자!F35 -> 0.27777778
C19: 과업의 이해도 | E19: =배점기준!D87 -> 1 | F19: =평가자!F39 -> 0.22
C20: 환경평가발전(평가자) | E20: 1 | F20: 1
A21: 환경평가업체 능력평가 | B21: =SUM(E21:E31) -> 30 | C21: 환경영향평가등 수행실적 | D21: 건수 | E21: =배점기준!D91 -> 7 | F21: =환경평가업체!H5 -> 5.6
D22: 금액 | E22: =배점기준!D93 -> 7 | F22: =환경평가업체!H8 -> 7
C23: 신용도 | D23: 업무정지, 거짓작성 등 | E23: =배점기준!D95 -> 5 | F23: =신용도!I5 -> 0.88
D24: 재정상태 건실도 | E24: =배점기준!D103 -> 3 | F24: =신용도!L14 -> 3
C25: 기술개발 및 투자실적 | D25: 개발실적 | E25: 2 | F25: =기술투자!Q6 -> 2
D26: 투자실적 | E26: 2 | F26: =기술투자!J13 -> 2
D27: 활용실적 | E27: 2 | F27: =기술투자!L26 -> 2
C28: 환경평가발전 | D28: 우수업체 | E28: 1 | F28: 1
D29: 공동도급 | E29: 1 | F29: 1
C30: 업체능력평가 | D30: 총괄평가자의 능력 | E30: =배점기준!D129 -> 0 | F30: 0
D31: 참여의향서 | E31: =배점기준!D131 -> 0 | F31: 0
C32: 가감점 | D32: 하도급 준수여부, 입찰불참 | F32: =가감점!F11 -> 0
A33: 계 | E33: =SUM(E6:E32) -> 100 | F33: =SUM(F6:F32) -> 83.507778 | G33: =IF(F33>=70,"선정","미선정") -> 선정

Sheet 평가자
A1: 1. 환경평가 참여자 능력평가
B2: ○ 총괄평가자[15점(17점)]
C3: 업체명 | D3: 항목 | E3: 배점 | F3: 등급 | G3: 이적계수 | H3: 평가
C4: =참여업체!C6&"+"&참여업체!D6&"+"&참여업체!E6 -> ㈜ㅁㅁ엔지니어링+ㅇㅇ엔지니어링㈜+◇◇기술공사㈜ | D4: 등급 | E4: =배점기준!D13 -> 3 | F4: 해당기술사 | G4: 1 | H4: =IF(F4=배점기준!F13,배점기준!$F$14,IF(F4=배점기준!G13,배점기준!$G$14,IF(F4=배점기준!H13,배점기준!$H$14,0)))*G4 -> 2.85 | O4: 분류
D5: 경력(년) | E5: =배점기준!D15 -> 5 | F5: =총괄경력!K19 -> 0 | H5: =IF(F5>=배점기준!$F$15,배점기준!$F$16,IF(F5>=배점기준!$G$15,배점기준!$G$16,IF(F5>=배점기준!$H$15,배점기준!$H$16,IF(F5>=배점기준!$I$15,배점기준!$I$16,IF(F5>=배점기준!$J$15,배점기준!$J$16,IF(F5>=배점기준!$K$15,배점기준!$K$16,IF(F5<배점기준!$L$15,배점기준!$L$16))))))*G4) -> 2.5 | O5: 환경영향평가사
D6: 실적(건) | E6: =배점기준!D17 -> 5 | F6: =총괄실적!N19 -> 8.75 | H6: =IF(F6>=배점기준!$F$17,배점기준!$F$18,IF(F6>=배점기준!$G$17,배점기준!$G$18,IF(F6>=배점기준!$H$17,배점기준!$H$18,IF(F6>=배점기준!$I$17,배점기준!$I$18,IF(F6<배점기준!$J$17,배점기준!$J$18))))*G4) -> 3.5 | O6: 해당기술사
D7: 업무여유도(억원) | E7: =배점기준!D19 -> 4 | F7: =업무여유도!K9 -> 0 | H7: =IF((배점기준!F20-(배점기준!F20*F7/2.5))<0,0,(배점기준!F20-(배점기준!F20*F7/2.5))) -> 4 | O7: 특급기술자
O8: 고급기술자
B9: ○ 분야별 책임평가자[27점] | O9: 중급기술자
C10: 업체명 | D10: 항목 | E10: 배점 | F10: =배점기준!$E$23 -> 대기관리 | G10: =배점기준!$E$24 -> 수질관리 | H10: =배점기준!$E$25 -> 소음진동 | I10: =배점기준!$E$26 -> 폐기물처리 | J10: =배점기준!$C$7 -> 0 | K10: =배점기준!$C$8 -> 0 | L10: 평가 | O10: 초급기술자
C11: =C4 -> ㈜ㅁㅁ엔지니어링+ㅇㅇ엔지니어링㈜+◇◇기술공사㈜ | D11: 이적계수 | E11: - | F11: 1 | G11: 1 | H11: 1 | I11: 1 | J11: 1 | K11: 1
D12: 등급 | E12: =배점기준!D21 -> 6 | F12: 환경영향평가사 | G12: 해당기술사 | H12: 특급기술자 | I12: 고급기술자 | J12: 고급기술자 | K12: 중급기술자
D13: 점수 | F13: =IF(F12=배점기준!$F$21,배점기준!$F$23,IF(F12=배점기준!$G$21,배점기준!$G$23,IF(F12=배점기준!$H$21,배점기준!$H$23,IF(F12=배점기준!$I$21,배점기준!$I$23,0))))*F11 -> 1.5 | G13: =IF(G12=배점기준!$F$21,배점기준!$F$24,IF(G12=배점기준!$G$21,배점기준!$G$24,IF(G12=배점기준!$H$21,배점기준!$H$24,IF(G12=배점기준!$I$21,배점기준!$I$24,0))))*G11 -> 1.5 | H13: =IF(H12=배점기준!$F$21,배점기준!$F$25,IF(H12=배점기준!$G$21,배점기준!$G$25,IF(H12=배점기준!$H$21,배점기준!$H$25,IF(H13=배점기준!$I$21,배점기준!$I$25,0))))*H11 -> 1.5 | I13: =IF(I12=배점기준!$F$21,배점기준!$F$26,IF(I12=배점기준!$G$21,배점기준!$G$26,IF(I12=배점기준!$H$21,배점기준!$H$26,IF(I12=배점기준!$I$21,배점기준!$I$26,0))))*I11 -> 1.35 | J13: =IF(J12=배점기준!$F$21,배점기준!$F$23,IF(J12=배점기준!$G$21,배점기준!$G$23,IF(J12=배점기준!$H$21,배점기준!$H$23,IF(J22=배점기준!$I$21,배점기준!$I$23,0))))*J11 -> 0 | K13: =IF(K12=배점기준!$F$21,배점기준!$F$23,IF(K12=배점기준!$G$21,배점기준!$G$23,IF(K12=배점기준!$H$21,배점기준!$H$23,IF(K22=배점기준!$I$21,배점기준!$I$23,0))))*K11 -> 0 | L13: =ROUND(SUM(F13:K13),2) -> 5.85
D14: 경력 | E14: =배점기준!D29 -> 7 | F14: =분야별책임경력!J21 -> 0 | G14: =분야별책임경력!J41 -> 0 | H14: =분야별책임경력!J61 -> 0 | I14: =분야별책임경력!J81 -> 0 | J14: =분야별책임경력!J101 -> 0 | K14: =분야별책임경력!J121 -> 0
D15: 점수 | F15: =IF(F14>=배점기준!$F$29,배점기준!$F$31,IF(F14>=배점기준!$G$29,배점기준!$G$31,IF(F14>=배점기준!$H$29,배점기준!$H$31,IF(F14>=배점기준!$I$29,배점기준!$I$31,IF(F14>=배점기준!$J$29,배점기준!$J$31,IF(F14>=배점기준!$K$29,배점기준!$K$31,IF(F14<배점기준!$L$29,배점기준!$L$31)))))))*F11 -> 1.05 | G15: =IF(G14>=배점기준!$F$29,배점기준!$F$32,IF(G14>=배점기준!$G$29,배점기준!$G$32,IF(G14>=배점기준!$H$29,배점기준!$H$32,IF(G14>=배점기준!$I$29,배점기준!$I$32,IF(G14>=배점기준!$J$29,배점기준!$J$32,IF(G14>=배점기준!$K$29,배점기준!$K$32,IF(G14<배점기준!$L$29,배점기준!$L$32)))))))*G11 -> 1.05 | H15: =IF(H14>=배점기준!$F$29,배점기준!$F$33,IF(H14>=배점기준!$G$29,배점기준!$G$33,IF(H14>=배점기준!$H$29,배점기준!$H$33,IF(H14>=배점기준!$I$29,배점기준!$I$33,IF(H14>=배점기준!$J$29,배점기준!$J$33,IF(H14>=배점기준!$K$29,배점기준!$K$33,IF(H14<배점기준!$L$29,배점기준!$L$33)))))))*H11 -> 1.05 | I15: =IF(I14>=배점기준!$F$29,배점기준!$F$34,IF(I14>=배점기준!$G$29,배점기준!$G$34,IF(I14>=배점기준!$H$29,배점기준!$H$34,IF(I14>=배점기준!$I$29,배점기준!$I$34,IF(I14>=배점기준!$J$29,배점기준!$J$34,IF(I14>=배점기준!$K$29,배점기준!$K$34,IF(I14<배점기준!$L$29,배점기준!$L$34)))))))*I11 -> 1.05 | J15: =IF(J14>=배점기준!$F$29,배점기준!$F$35,IF(J14>=배점기준!$G$29,배점기준!$G$35,IF(J14>=배점기준!$H$29,배점기준!$H$35,IF(J14>=배점기준!$I$29,배점기준!$I$35,IF(J14>=배점기준!$J$29,배점기준!$J$35,IF(J14>=배점기준!$K$29,배점기준!$K$35,IF(J14<배점기준!$L$29,배점기준!$L$35)))))))*J11 -> 0 | K15: =IF(K14>=배점기준!$F$29,배점기준!$F$36,IF(K14>=배점기준!$G$29,배점기준!$G$36,IF(K14>=배점기준!$H$29,배점기준!$H$36,IF(K14>=배점기준!$I$29,배점기준!$I$36,IF(K14>=배점기준!$J$29,배점기준!$J$36,IF(K14>=배점기준!$K$29,배점기준!$K$36,IF(K14<배점기준!$L$29,배점기준!$L$36)))))))*K11 -> 0 | L15: =ROUND(SUM(F15:K15),2) -> 4.2
D16: 실적(건) | E16: =배점기준!D37 -> 7 | F16: =분야별책임실적!$O$18 -> 9.15 | G16: =분야별책임실적!$O$37 -> 8.75 | H16: =분야별책임실적!$O$56 -> 8.75 | I16: =분야별책임실적!$O$75 -> 8.75 | J16: =분야별책임실적!$O$94 -> 8.75 | K16: =분야별책임실적!$O$113 -> 8.75
D17: 점수 | F17: =IF(F16>=배점기준!$F$37,배점기준!$F$39,IF(F16>=배점기준!$G$37,배점기준!$G$39,IF(F16>=배점기준!$H$37,배점기준!$H$39,IF(F16>=배점기준!$I$37,배점기준!$I$39,IF(F16<배점기준!$J$37,배점기준!$J$39)))))*F11 -> 1.4 | G17: =IF(G16>=배점기준!$F$37,배점기준!$F$40,IF(G16>=배점기준!$G$37,배점기준!$G$40,IF(G16>=배점기준!$H$37,배점기준!$H$40,IF(G16>=배점기준!$I$37,배점기준!$I$40,IF(G16<배점기준!$J$37,배점기준!$J$40)))))*G11 -> 1.225 | H17: =IF(H16>=배점기준!$F$37,배점기준!$F$41,IF(H16>=배점기준!$G$37,배점기준!$G$41,IF(H16>=배점기준!$H$37,배점기준!$H$41,IF(H16>=배점기준!$I$37,배점기준!$I$41,IF(H16<배점기준!$J$37,배점기준!$J$41)))))*H11 -> 1.225 | I17: =IF(I16>=배점기준!$F$37,배점기준!$F$42,IF(I16>=배점기준!$G$37,배점기준!$G$42,IF(I16>=배점기준!$H$37,배점기준!$H$42,IF(I16>=배점기준!$I$37,배점기준!$I$42,IF(I16<배점기준!$J$37,배점기준!$J$42)))))*I11 -> 1.225 | J17: =IF(J16>=배점기준!$F$37,배점기준!$F$43,IF(J16>=배점기준!$G$37,배점기준!$G$43,IF(J16>=배점기준!$H$37,배점기준!$H$43,IF(J16>=배점기준!$I$37,배점기준!$I$43,IF(J16<배점기준!$J$37,배점기준!$J$43)))))*J11 -> 0 | K17: =IF(K16>=배점기준!$F$37,배점기준!$F$44,IF(K16>=배점기준!$G$37,배점기준!$G$44,IF(K16>=배점기준!$H$37,배점기준!$H$44,IF(K16>=배점기준!$I$37,배점기준!$I$44,IF(K16<배점기준!$J$37,배점기준!$J$44)))))*K11 -> 0 | L17: =ROUND(SUM(F17:K17),2) -> 5.08
D18: 업무여유도(억원) | E18: =배점기준!D45 -> 7 | F18: =업무여유도!K18 -> 0 | G18: =업무여유도!K26 -> 0 | H18: =업무여유도!K34 -> 0 | I18: =업무여유도!K42 -> 0 | J18: =업무여유도!K50 -> 0 | K18: =업무여유도!K58 -> 0
D19: 점수 | F19: =IF((배점기준!$F$47-(배점기준!$F$47*F18/2.5))<0,0,(배점기준!$F$47-(배점기준!$F$47*F18/2.5))) -> 1.75 | G19: =IF((배점기준!$F$48-(배점기준!$F$48*G18/2.5))<0,0,(배점기준!$F$48-(배점기준!$F$48*G18/2.5))) -> 1.75 | H19: =IF((배점기준!$F$49-(배점기준!$F$49*H18/2.5))<0,0,(배점기준!$F$49-(배점기준!$F$49*H18/2.5))) -> 1.75 | I19: =IF((배점기준!$F$50-(배점기준!$F$50*I18/2.5))<0,0,(배점기준!$F$50-(배점기준!$F$50*I18/2.5))) -> 1.75 | J19: =IF((배점기준!$F$51-(배점기준!$F$51*J18/2.5))<0,0,(배점기준!$F$51-(배점기준!$F$51*J18/2.5))) -> 0 | K19: =IF((배점기준!$F$52-(배점기준!$F$52*K18/2.5))<0,0,(배점기준!$F$52-(배점기준!$F$52*K18/2.5))) -> 0 | L19: =ROUND(SUM(F19:K19),2) -> 7
B21: ○ 분야별 평가자[23점]
C22: 업체명 | D22: 항목 | E22: 배점 | F22: =배점기준!$E$23 -> 대기관리 | G22: =배점기준!$E$24 -> 수질관리 | H22: =배점기준!$E$25 -> 소음진동 | I22: =배점기준!$E$26 -> 폐기물처리 | J22: =배점기준!$C$7 -> 0 | K22: =배점기준!$C$8 -> 0 | L22: 평가
C23: =C4 -> ㈜ㅁㅁ엔지니어링+ㅇㅇ엔지니어링㈜+◇◇기술공사㈜ | D23: 이적계수 | E23: - | F23: 1 | G23: 1 | H23: 1 | I23: 1 | J23: 1 | K23: 1
D24: 등급 | E24: =배점기준!D53 -> 5 | F24: 환경영향평가사 | G24: 환경영향평가사 | H24: 환경영향평가사 | I24: 환경영향평가사 | J24: 환경영향평가사 | K24: 중급기술자
D25: 점수 | F25: =IF(F24=배점기준!$F$53,배점기준!$F$55,IF(F24=배점기준!$G$53,배점기준!$G$55,IF(F24=배점기준!$H$53,배점기준!$H$55,IF(F24=배점기준!$I$53,배점기준!$IIF$55,IF(F24=배점기준!$J$53,배점기준!$J$55,IF(F24=배점기준!$K$53,배점기준!$K$55,0))))))*F23 -> 1.25 | G25: =IF(G24=배점기준!$F$53,배점기준!$F$56,IF(G24=배점기준!$G$53,배점기준!$G$56,IF(G24=배점기준!$H$53,배점기준!$H$56,IF(G24=배점기준!$I$53,배점기준!$IIF$56,IF(G24=배점기준!$J$53,배점기준!$J$56,IF(G24=배점기준!$K$53,배점기준!$K$56,0))))))*G23 -> 1.25 | H25: =IF(H24=배점기준!$F$53,배점기준!$F$57,IF(H24=배점기준!$G$53,배점기준!$G$57,IF(H24=배점기준!$H$53,배점기준!$H$57,IF(H24=배점기준!$I$53,배점기준!$IIF$57,IF(H24=배점기준!$J$53,배점기준!$J$57,IF(H24=배점기준!$K$53,배점기준!$K$57,0))))))*H23 -> 1.25 | I25: =IF(I24=배점기준!$F$53,배점기준!$F$58,IF(I24=배점기준!$G$53,배점기준!$G$58,IF(I24=배점기준!$H$53,배점기준!$H$58,IF(I24=배점기준!$I$53,배점기준!$IIF$58,IF(I24=배점기준!$J$53,배점기준!$J$58,IF(I24=배점기준!$K$53,배점기준!$K$58,0))))))*I23 -> 1.25 | J25: =IF(J24=배점기준!$F$53,배점기준!$F$59,IF(J24=배점기준!$G$53,배점기준!$G$59,IF(J24=배점기준!$H$53,배점기준!$H$59,IF(J24=배점기준!$I$53,배점기준!$IIF$59,IF(J24=배점기준!$J$53,배점기준!$J$59,IF(J24=배점기준!$K$53,배점기준!$K$59,0))))))*J23 -> 0 | K25: =IF(K24=배점기준!$F$53,배점기준!$F$60,IF(K24=배점기준!$G$53,배점기준!$G$60,IF(K24=배점기준!$H$53,배점기준!$H$60,IF(K24=배점기준!$I$53,배점기준!$IIF$60,IF(K24=배점기준!$J$53,배점기준!$J$60,IF(K24=배점기준!$K$53,배점기준!$K$60,0))))))*K23 -> 0 | L25: =SUM(F25:K25) -> 5
D26: 경력 | E26: =배점기준!D61 -> 6 | F26: =분야별경력!J20 -> 0 | G26: =분야별책임경력!J41 -> 0 | H26: =분야별경력!J58 -> 0 | I26: =분야별경력!J77 -> 0 | J26: =분야별경력!J96 -> 0 | K26: =분야별경력!J115 -> 0
D27: 점수 | F27: =IF(F26>=배점기준!$F$61,배점기준!$F$63,IF(F26>=배점기준!$G$61,배점기준!$G$63,IF(F26>=배점기준!$H$61,배점기준!$H$63,IF(F26>=배점기준!$I$61,배점기준!$I$63,배점기준!$J$63))))*F23 -> 1.5 | G27: =IF(G26>=배점기준!$F$61,배점기준!$F$64,IF(G26>=배점기준!$G$61,배점기준!$G$64,IF(G26>=배점기준!$H$61,배점기준!$H$64,IF(G26>=배점기준!$I$61,배점기준!$I$64,배점기준!$J$64))))*G23 -> 1.5 | H27: =IF(H26>=배점기준!$F$61,배점기준!$F$65,IF(H26>=배점기준!$G$61,배점기준!$G$65,IF(H26>=배점기준!$H$61,배점기준!$H$65,IF(H26>=배점기준!$I$61,배점기준!$I$65,배점기준!$J$65))))*H23 -> 1.5 | I27: =IF(I26>=배점기준!$F$61,배점기준!$F$66,IF(I26>=배점기준!$G$61,배점기준!$G$66,IF(I26>=배점기준!$H$61,배점기준!$H$66,IF(I26>=배점기준!$I$61,배점기준!$I$66,배점기준!$J$66))))*I23 -> 1.5 | J27: =IF(J26>=배점기준!$F$61,배점기준!$F$67,IF(J26>=배점기준!$G$61,배점기준!$G$67,IF(J26>=배점기준!$H$61,배점기준!$H$67,IF(J26>=배점기준!$I$61,배점기준!$I$67,배점기준!$J$67))))*J23 -> 0 | K27: =IF(K26>=배점기준!$F$61,배점기준!$F$68,IF(K26>=배점기준!$G$61,배점기준!$G$68,IF(K26>=배점기준!$H$61,배점기준!$H$68,IF(K26>=배점기준!$I$61,배점기준!$I$68,배점기준!$J$68))))*K23 -> 0 | L27: =ROUND(SUM(F27:K27),2) -> 6
D28: 실적(건) | E28: =배점기준!D69 -> 6 | F28: =분야별실적!$O$18 -> 9.15 | G28: =분야별실적!$O$37 -> 8.75 | H28: =분야별실적!$O$56 -> 8.75 | I28: =분야별실적!$O$75 -> 8.75 | J28: =분야별실적!$O$94 -> 8.75 | K28: =분야별실적!$O$113 -> 8.75
D29: 점수 | F29: =IF(F28>=배점기준!$F$69,배점기준!$F$71,IF(F28>=배점기준!$G$69,배점기준!$G$71,IF(F28>=배점기준!$H$69,배점기준!$H$71,IF(F28>=배점기준!$I$69,배점기준!$I$71,IF(F28<배점기준!$J$69,배점기준!$J$71)))))*F23 -> 1.5 | G29: =IF(G28>=배점기준!$F$69,배점기준!$F$72,IF(G28>=배점기준!$G$69,배점기준!$G$72,IF(G28>=배점기준!$H$69,배점기준!$H$72,IF(G28>=배점기준!$I$69,배점기준!$I$72,IF(G28<배점기준!$J$69,배점기준!$J$72)))))*G23 -> 1.35 | H29: =IF(H28>=배점기준!$F$69,배점기준!$F$73,IF(H28>=배점기준!$G$69,배점기준!$G$73,IF(H28>=배점기준!$H$69,배점기준!$H$73,IF(H28>=배점기준!$I$69,배점기준!$I$73,IF(H28<배점기준!$J$69,배점기준!$J$73)))))*H23 -> 1.35 | I29: =IF(I28>=배점기준!$F$69,배점기준!$F$74,IF(I28>=배점기준!$G$69,배점기준!$G$74,IF(I28>=배점기준!$H$69,배점기준!$H$74,IF(I28>=배점기준!$I$69,배점기준!$I$74,IF(I28<배점기준!$J$69,배점기준!$J$74)))))*I23 -> 1.35 | J29: =IF(J28>=배점기준!$F$69,배점기준!$F$75,IF(J28>=배점기준!$G$69,배점기준!$G$75,IF(J28>=배점기준!$H$69,배점기준!$H$75,IF(J28>=배점기준!$I$69,배점기준!$I$75,IF(J28<배점기준!$J$69,배점기준!$J$75)))))*J23 -> 0 | K29: =IF(K28>=배점기준!$F$69,배점기준!$F$76,IF(K28>=배점기준!$G$69,배점기준!$G$76,IF(K28>=배점기준!$H$69,배점기준!$H$76,IF(K28>=배점기준!$I$69,배점기준!$I$76,IF(K28<배점기준!$J$69,배점기준!$J$76)))))*K23 -> 0 | L29: =ROUND(SUM(F29:K29),2) -> 5.55
D30: 업무여유도(억원) | E30: =배점기준!D77 -> 6 | F30: =업무여유도!K67 -> 0 | G30: =업무여유도!K75 -> 0 | H30: =업무여유도!K83 -> 0 | I30: =업무여유도!K91 -> 0 | J30: =업무여유도!K99 -> 0 | K30: =업무여유도!K107 -> 0
D31: 점수 | F31: =IF((배점기준!$F$79-(배점기준!$F$79*F30/2.5))<0,0,(배점기준!$F$79-(배점기준!$F$79*F30/2.5))) -> 1.5 | G31: =IF((배점기준!$F$80-(배점기준!$F$80*G30/2.5))<0,0,(배점기준!$F$80-(배점기준!$F$80*G30/2.5))) -> 1.5 | H31: =IF((배점기준!$F$81-(배점기준!$F$81*H30/2.5))<0,0,(배점기준!$F$81-(배점기준!$F$81*H30/2.5))) -> 1.5 | I31: =IF((배점기준!$F$82-(배점기준!$F$82*I30/2.5))<0,0,(배점기준!$F$82-(배점기준!$F$82*I30/2.5))) -> 1.5 | J31: =IF((배점기준!$F$83-(배점기준!$F$83*J30/2.5))<0,0,(배점기준!$F$83-(배점기준!$F$83*J30/2.5))) -> 0 | K31: =IF((배점기준!$F$84-(배점기준!$F$84*K30/2.5))<0,0,(배점기준!$F$84-(배점기준!$F$84*K30/2.5))) -> 0 | L31: =ROUND(SUM(F31:K31),2) -> 6
B33: ○ 교육훈련(1점)
C34: 2주이상 | D34: 1주이상 | F34: 평가
C35: =교육훈련!G10 -> 5 | D35: =-교육훈련!G18 -> -5 | F35: =(C35/배점기준!$E$3*배점기준!F86+D35/배점기준!$E$3*배점기준!G86) -> 0.27777778
B37: ○ 교육훈련(1점) | C37: 과업의 이해도
C38: 총평가인원수 | D38: 전단계 용역 참여자수 | F38: 평가
C39: =배점기준!E3 -> 9 | D39: =과업의이해도!K11 -> 2 | F39: =ROUND(배점기준!F88*(평가자!D39/평가자!C39),2) -> 0.22
C41: ※ 증빙서류 - 자격증 사본(원본대조필) - 자격인정 기술자의 경우에는 경력증명서 추가 - 경력증명서 발급시 직무분야 및 전문분야 기술 등급이 반드시 기재되어야 하며, 직무분야 및 전문분야 등급이 표시되지 않은 경우 등급평가시 불이익을 받을수 있음

Sheet 총괄경력
A1: 총괄평가자 경력 | D1: 홍길동
A3: 번호 | B3: 페이지 | C3: 참여용역명 | D3: 사업개요 | E3: 발주청 (발주자) | F3: 계약기간 | I3: 적용 일수 (인정일) | J3: 경력계수 | K3: 적용 일수 (일) | L3: 비고
F4: 착수일 | G4: 준공일 | H4: 용역일 | J4: 평가종류
A5: 1 | C5: 대전노은지구 택지개발사업 영향평가 | D5: - OOOOOO | E5: LH | F5: 34645 | G5: 36522 | H5: =G5-F5+1 -> 1878 | J5: 0.6 | K5: =ROUND(I5*J5,0) -> 0
A6: 2 | C6: 남양주마석지구 택지개발사업 영향평가 | D6: - OOOOOO | E6: LH | F6: 34692 | G6: 37063 | H6: =G6-F6+1 -> 2372 | J6: 0.6 | K6: =ROUND(I6*J6,0) -> 0 | T6: 분류
A7: 3 | C7: 부천상동지구 택지개발사업 영향평가 | D7: - OOOOOO | E7: LH | F7: 34967 | G7: 36871 | H7: =G7-F7+1 -> 1905 | J7: 0.6 | K7: =ROUND(I7*J7,0) -> 0 | T7: 1
A8: 4 | C8: 용인죽전지구 택지개발사업 영향평가 | D8: - OOOOOO | E8: LH | F8: 36194 | G8: 37008 | H8: =G8-F8+1 -> 815 | J8: 0.6 | K8: =ROUND(I8*J8,0) -> 0 | T8: 0.6
A9: 5 | C9: 의정부녹양지구 택지개발사업 영향평가용역 | D9: - OOOOOO | E9: LH | F9: 37369 | G9: 37954 | H9: =G9-F9+1 -> 586 | J9: 1 | K9: =ROUND(I9*J9,0) -> 0
A10: 7 | C10: 강동권역 도시개발사업 영향평가 | D10: - OOOOOO | E10: LH | F10: 37673 | G10: 38929 | H10: =G10-F10+1 -> 1257 | J10: 0.6 | K10: =ROUND(I10*J10,0) -> 0
A11: 8 | C11: 남양주별내지구 택지개발사업 영향평가 | D11: - OOOOOO | E11: LH | F11: 38240 | G11: 39562 | H11: =G11-F11+1 -> 1323 | J11: 1 | K11: =ROUND(I11*J11,0) -> 0
A12: 9 | C12: 아산배방지구 영향평가용역 | D12: - OOOOOO | E12: LH | F12: 38078 | G12: 38660 | H12: =G12-F12+1 -> 583 | J12: 0.6 | K12: =ROUND(I12*J12,0) -> 0
A13: 10 | C13: 청주성화2지구 택지개발사업 영향평가 | D13: - OOOOOO | E13: LH | F13: 38127 | G13: 38717 | H13: =G13-F13+1 -> 591 | J13: 1 | K13: =ROUND(I13*J13,0) -> 0
A14: 11 | C14: 인천삼산3지구 택지개발사업 영향평가 | D14: - OOOOOO | E14: LH | F14: 38098 | G14: 38717 | H14: =G14-F14+1 -> 620 | J14: 0.6 | K14: =ROUND(I14*J14,0) -> 0
A15: 12 | C15: 광명소하지구 택지개발사업 영향평가용역 | D15: - OOOOOO | E15: LH | F15: 37376 | G15: 38730 | H15: =G15-F15+1 -> 1355 | J15: 1 | K15: =ROUND(I15*J15,0) -> 0
A16: 13 | C16: 천안00국민임대주택단지예정지구 영향평가용역 | D16: - OOOOOO | E16: LH | F16: 38750 | G16: 39082 | H16: =G16-F16+1 -> 333 | J16: 0.6 | K16: =ROUND(I16*J16,0) -> 0
A17: 15 | C17: 하남풍산지구 택지개발사업 영향평가 | D17: - OOOOOO | E17: LH | F17: 37435 | G17: 39414 | H17: =G17-F17+1 -> 1980 | J17: 1 | K17: =ROUND(I17*J17,0) -> 0
A18: 16 | C18: 청주성화(2)지구 택지개발조성공사 영향평가용역 | D18: - OOOOOO | E18: LH | F18: 38834 | G18: 39482 | H18: =G18-F18+1 -> 649 | J18: 1 | K18: =ROUND(I18*J18,0) -> 0
A19: 총계 | K19: =ROUND((SUM(K5:K18))/365,2) -> 0
A20: 주) | B20: ※신고자의 경력에 해당하는 양식을 사용하여 작성합니다. 합계건수가 평가자 시트에 입력 되도록 확인합니다.
A21: 1 | B21: 참여기술자가 발주청 및 엔지니어 등 수행한 용역을 기초로 해당 양식을 사용하여 작성 합니다.
A22: 2 | B22: 발주청에서 직접 자체설계한 실적은 감독관리건수에 포함하여 작성합니다.
A23: 3 | B23: 용역중지기간은 용역기간에 포함시키지 않습니다.
A24: 4 | B24: 용역실적증명서(원본 또는 사본)를 첨부하고, 경력대조를 위하여 양식에 작성된 연번을 반드시 기재하시기 바라며, 연번 순서대로 제본하여야 합니다.
A25: 5 | B25: 용역실적증명서의 참여평가자 명단이 누락 되었거나, 참여평가자 명단에 해당 평가자가 누락된 경우에는 해당실적을 인정하지 않습니다.
A26: 6 | B26: 사업수행능력평서에 경력계수가 1.0은 형광색, 0.6은 주황핵으로 표시하여 제출하시기 바랍니다
A27: 7 | B27: 기입란은 행 삽입,삭제가 가능하며, 행삽입,삭제시 실적이 합계에서 누락되지 않도록 반드시 확인(기술자실적 시트) 주의해야 합니다.

Sheet 분야별책임경력
B1: 분야별 책임평가자
A3: =배점기준!C3 -> 대기관리 | C3: 분야 책임평가자 | D3: 홍길동
A5: 번호 | B5: 참여용역명 | C5: 사업개요 | D5: 발주청 (발주자) | E5: 계약기간 | H5: 적용 일수 (인정일) | I5: 경력계수 | J5: 적용 일수 (일) | K5: 비고
E6: 착수일 | F6: 준공일 | G6: 용역일 | I6: 평가종류
A7: 1 | B7: 대전노은지구 택지개발사업 영향평가 | C7: - OOOOOO | D7: LH | E7: 34645 | F7: 36522 | G7: =F7-E7+1 -> 1878 | I7: 1 | J7: =ROUND(H7*I7,0) -> 0
A8: 2 | B8: 남양주마석지구 택지개발사업 영향평가 | C8: - OOOOOO | D8: LH | E8: 34692 | F8: 37063 | G8: =F8-E8+1 -> 2372 | H8: 0 | I8: 0.6 | J8: =ROUND(H8*I8,0) -> 0 | S8: 분류
A9: 3 | B9: 부천상동지구 택지개발사업 영향평가 | C9: - OOOOOO | D9: LH | E9: 34967 | F9: 36871 | G9: =F9-E9+1 -> 1905 | I9: 1 | J9: =ROUND(H9*I9,0) -> 0 | S9: 1
A10: 4 | B10: 용인죽전지구 택지개발사업 영향평가 | C10: - OOOOOO | D10: LH | E10: 36194 | F10: 37008 | G10: =F10-E10+1 -> 815 | I10: 0.6 | J10: =ROUND(H10*I10,0) -> 0 | S10: 0.6
A11: 5 | B11: 의정부녹양지구 택지개발사업 영향평가용역 | C11: - OOOOOO | D11: LH | E11: 37369 | F11: 37954 | G11: =F11-E11+1 -> 586 | I11: 1 | J11: =ROUND(H11*I11,0) -> 0
A12: 7 | B12: 강동권역 도시개발사업 영향평가 | C12: - OOOOOO | D12: LH | E12: 37673 | F12: 38929 | G12: =F12-E12+1 -> 1257 | I12: 0.6 | J12: =ROUND(H12*I12,0) -> 0
A13: 8 | B13: 남양주별내지구 택지개발사업 영향평가 | C13: - OOOOOO | D13: LH | E13: 38240 | F13: 39562 | G13: =F13-E13+1 -> 1323 | I13: 1 | J13: =ROUND(H13*I13,0) -> 0
A14: 9 | B14: 아산배방지구 영향평가용역 | C14: - OOOOOO | D14: LH | E14: 38078 | F14: 38660 | G14: =F14-E14+1 -> 583 | I14: 0.6 | J14: =ROUND(H14*I14,0) -> 0
A15: 10 | B15: 청주성화2지구 택지개발사업 영향평가 | C15: - OOOOOO | D15: LH | E15: 38127 | F15: 38717 | G15: =F15-E15+1 -> 591 | I15: 1 | J15: =ROUND(H15*I15,0) -> 0
A16: 11 | B16: 인천삼산3지구 택지개발사업 영향평가 | C16: - OOOOOO | D16: LH | E16: 38098 | F16: 38717 | G16: =F16-E16+1 -> 620 | I16: 0.6 | J16: =ROUND(H16*I16,0) -> 0
A17: 12 | B17: 광명소하지구 택지개발사업 영향평가용역 | C17: - OOOOOO | D17: LH | E17: 37376 | F17: 38730 | G17: =F17-E17+1 -> 1355 | I17: 1 | J17: =ROUND(H17*I17,0) -> 0
A18: 13 | B18: 천안00국민임대주택단지예정지구 영향평가용역 | C18: - OOOOOO | D18: LH | E18: 38750 | F18: 39082 | G18: =F18-E18+1 -> 333 | I18: 0.6 | J18: =ROUND(H18*I18,0) -> 0
A19: 15 | B19: 하남풍산지구 택지개발사업 영향평가 | C19: - OOOOOO | D19: LH | E19: 37435 | F19: 39414 | G19: =F19-E19+1 -> 1980 | I19: 1 | J19: =ROUND(H19*I19,0) -> 0
A20: 16 | B20: 청주성화(2)지구 택지개발조성공사 영향평가용역 | C20: - OOOOOO | D20: LH | E20: 38834 | F20: 39482 | G20: =F20-E20+1 -> 649 | I20: 1 | J20: =ROUND(H20*I20,0) -> 0
A21: 총계 | J21: =ROUND((SUM(J7:J20))/365,2) -> 0
A23: =배점기준!C4 -> 수질관리 | C23: 분야 책임평가자 | D23: 홍길동
A25: 번호 | B25: 참여용역명 | C25: 사업개요 | D25: 발주청 (발주자) | E25: 계약기간 | H25: 적용 일수 (인정일) | I25: 경력계수 | J25: 적용 일수 (일) | K25: 비고
E26: 착수일 | F26: 준공일 | G26: 용역일 | I26: 평가종류
A27: 1 | B27: 대전노은지구 택지개발사업 영향평가 | C27: - OOOOOO | D27: LH | E27: 34645 | F27: 36522 | G27: =F27-E27+1 -> 1878 | I27: 1 | J27: =ROUND(H27*I27,0) -> 0
A28: 2 | B28: 남양주마석지구 택지개발사업 영향평가 | C28: - OOOOOO | D28: LH | E28: 34692 | F28: 37063 | G28: =F28-E28+1 -> 2372 | I28: 0.6 | J28: =ROUND(H28*I28,0) -> 0 | S28: 분류
A29: 3 | B29: 부천상동지구 택지개발사업 영향평가 | C29: - OOOOOO | D29: LH | E29: 34967 | F29: 36871 | G29: =F29-E29+1 -> 1905 | I29: 1 | J29: =ROUND(H29*I29,0) -> 0 | S29: 1
A30: 4 | B30: 용인죽전지구 택지개발사업 영향평가 | C30: - OOOOOO | D30: LH | E30: 36194 | F30: 37008 | G30: =F30-E30+1 -> 815 | I30: 0.6 | J30: =ROUND(H30*I30,0) -> 0 | S30: 0.6
A31: 5 | B31: 의정부녹양지구 택지개발사업 영향평가용역 | C31: - OOOOOO | D31: LH | E31: 37369 | F31: 37954 | G31: =F31-E31+1 -> 586 | I31: 1 | J31: =ROUND(H31*I31,0) -> 0
A32: 7 | B32: 강동권역 도시개발사업 영향평가 | C32: - OOOOOO | D32: LH | E32: 37673 | F32: 38929 | G32: =F32-E32+1 -> 1257 | I32: 0.6 | J32: =ROUND(H32*I32,0) -> 0
A33: 8 | B33: 남양주별내지구 택지개발사업 영향평가 | C33: - OOOOOO | D33: LH | E33: 38240 | F33: 39562 | G33: =F33-E33+1 -> 1323 | I33: 1 | J33: =ROUND(H33*I33,0) -> 0
A34: 9 | B34: 아산배방지구 영향평가용역 | C34: - OOOOOO | D34: LH | E34: 38078 | F34: 38660 | G34: =F34-E34+1 -> 583 | I34: 0.6 | J34: =ROUND(H34*I34,0) -> 0
A35: 10 | B35: 청주성화2지구 택지개발사업 영향평가 | C35: - OOOOOO | D35: LH | E35: 38127 | F35: 38717 | G35: =F35-E35+1 -> 591 | I35: 1 | J35: =ROUND(H35*I35,0) -> 0
A36: 11 | B36: 인천삼산3지구 택지개발사업 영향평가 | C36: - OOOOOO | D36: LH | E36: 38098 | F36: 38717 | G36: =F36-E36+1 -> 620 | I36: 0.6 | J36: =ROUND(H36*I36,0) -> 0
A37: 12 | B37: 광명소하지구 택지개발사업 영향평가용역 | C37: - OOOOOO | D37: LH | E37: 37376 | F37: 38730 | G37: =F37-E37+1 -> 1355 | I37: 1 | J37: =ROUND(H37*I37,0) -> 0
A38: 13 | B38: 천안00국민임대주택단지예정지구 영향평가용역 | C38: - OOOOOO | D38: LH | E38: 38750 | F38: 39082 | G38: =F38-E38+1 -> 333 | I38: 0.6 | J38: =ROUND(H38*I38,0) -> 0
A39: 15 | B39: 하남풍산지구 택지개발사업 영향평가 | C39: - OOOOOO | D39: LH | E39: 37435 | F39: 39414 | G39: =F39-E39+1 -> 1980 | I39: 1 | J39: =ROUND(H39*I39,0) -> 0
A40: 16 | B40: 청주성화(2)지구 택지개발조성공사 영향평가용역 | C40: - OOOOOO | D40: LH | E40: 38834 | F40: 39482 | G40: =F40-E40+1 -> 649 | I40: 1 | J40: =ROUND(H40*I40,0) -> 0
A41: 총계 | J41: =ROUND((SUM(J27:J40))/365,2) -> 0
A43: =배점기준!C5 -> 소음진동 | C43: 분야 책임평가자 | D43: 홍길동
A45: 번호 | B45: 참여용역명 | C45: 사업개요 | D45: 발주청 (발주자) | E45: 계약기간 | H45: 적용 일수 (인정일) | I45: 경력계수 | J45: 적용 일수 (일) | K45: 비고
E46: 착수일 | F46: 준공일 | G46: 용역일 | I46: 평가종류
A47: 1 | B47: 대전노은지구 택지개발사업 영향평가 | C47: - OOOOOO | D47: LH | E47: 34645 | F47: 36522 | G47: =F47-E47+1 -> 1878 | I47: 1 | J47: =ROUND(H47*I47,0) -> 0
A48: 2 | B48: 남양주마석지구 택지개발사업 영향평가 | C48: - OOOOOO | D48: LH | E48: 34692 | F48: 37063 | G48: =F48-E48+1 -> 2372 | I48: 0.6 | J48: =ROUND(H48*I48,0) -> 0 | S48: 분류
A49: 3 | B49: 부천상동지구 택지개발사업 영향평가 | C49: - OOOOOO | D49: LH | E49: 34967 | F49: 36871 | G49: =F49-E49+1 -> 1905 | I49: 1 | J49: =ROUND(H49*I49,0) -> 0 | S49: 1
A50: 4 | B50: 용인죽전지구 택지개발사업 영향평가 | C50: - OOOOOO | D50: LH | E50: 36194 | F50: 37008 | G50: =F50-E50+1 -> 815 | I50: 0.6 | J50: =ROUND(H50*I50,0) -> 0 | S50: 0.6
A51: 5 | B51: 의정부녹양지구 택지개발사업 영향평가용역 | C51: - OOOOOO | D51: LH | E51: 37369 | F51: 37954 | G51: =F51-E51+1 -> 586 | I51: 1 | J51: =ROUND(H51*I51,0) -> 0
A52: 7 | B52: 강동권역 도시개발사업 영향평가 | C52: - OOOOOO | D52: LH | E52: 37673 | F52: 38929 | G52: =F52-E52+1 -> 1257 | I52: 0.6 | J52: =ROUND(H52*I52,0) -> 0
A53: 8 | B53: 남양주별내지구 택지개발사업 영향평가 | C53: - OOOOOO | D53: LH | E53: 38240 | F53: 39562 | G53: =F53-E53+1 -> 1323 | I53: 1 | J53: =ROUND(H53*I53,0) -> 0
A54: 9 | B54: 아산배방지구 영향평가용역 | C54: - OOOOOO | D54: LH | E54: 38078 | F54: 38660 | G54: =F54-E54+1 -> 583 | I54: 0.6 | J54: =ROUND(H54*I54,0) -> 0
A55: 10 | B55: 청주성화2지구 택지개발사업 영향평가 | C55: - OOOOOO | D55: LH | E55: 38127 | F55: 38717 | G55: =F55-E55+1 -> 591 | I55: 1 | J55: =ROUND(H55*I55,0) -> 0
A56: 11 | B56: 인천삼산3지구 택지개발사업 영향평가 | C56: - OOOOOO | D56: LH | E56: 38098 | F56: 38717 | G56: =F56-E56+1 -> 620 | I56: 0.6 | J56: =ROUND(H56*I56,0) -> 0
A57: 12 | B57: 광명소하지구 택지개발사업 영향평가용역 | C57: - OOOOOO | D57: LH | E57: 37376 | F57: 38730 | G57: =F57-E57+1 -> 1355 | I57: 1 | J57: =ROUND(H57*I57,0) -> 0
A58: 13 | B58: 천안00국민임대주택단지예정지구 영향평가용역 | C58: - OOOOOO | D58: LH | E58: 38750 | F58: 39082 | G58: =F58-E58+1 -> 333 | I58: 0.6 | J58: =ROUND(H58*I58,0) -> 0
A59: 15 | B59: 하남풍산지구 택지개발사업 영향평가 | C59: - OOOOOO | D59: LH | E59: 37435 | F59: 39414 | G59: =F59-E59+1 -> 1980 | I59: 1 | J59: =ROUND(H59*I59,0) -> 0
A60: 16 | B60: 청주성화(2)지구 택지개발조성공사 영향평가용역 | C60: - OOOOOO | D60: LH | E60: 38834 | F60: 39482 | G60: =F60-E60+1 -> 649 | I60: 1 | J60: =ROUND(H60*I60,0) -> 0
A61: 총계 | J61: =ROUND((SUM(J47:J60))/365,2) -> 0
A63: =배점기준!C6 -> 폐기물처리 | C63: 분야 책임평가자 | D63: 홍길동
A65: 번호 | B65: 참여용역명 | C65: 사업개요 | D65: 발주청 (발주자) | E65: 계약기간 | H65: 적용 일수 (인정일) | I65: 경력계수 | J65: 적용 일수 (일) | K65: 비고
E66: 착수일 | F66: 준공일 | G66: 용역일 | I66: 평가종류
A67: 1 | B67: 대전노은지구 택지개발사업 영향평가 | C67: - OOOOOO | D67: LH | E67: 34645 | F67: 36522 | G67: =F67-E67+1 -> 1878 | I67: 1 | J67: =ROUND(H67*I67,0) -> 0
A68: 2 | B68: 남양주마석지구 택지개발사업 영향평가 | C68: - OOOOOO | D68: LH | E68: 34692 | F68: 37063 | G68: =F68-E68+1 -> 2372 | I68: 0.6 | J68: =ROUND(H68*I68,0) -> 0 | S68: 분류
A69: 3 | B69: 부천상동지구 택지개발사업 영향평가 | C69: - OOOOOO | D69: LH | E69: 34967 | F69: 36871 | G69: =F69-E69+1 -> 1905 | I69: 1 | J69: =ROUND(H69*I69,0) -> 0 | S69: 1
A70: 4 | B70: 용인죽전지구 택지개발사업 영향평가 | C70: - OOOOOO | D70: LH | E70: 36194 | F70: 37008 | G70: =F70-E70+1 -> 815 | I70: 0.6 | J70: =ROUND(H70*I70,0) -> 0 | S70: 0.6
A71: 5 | B71: 의정부녹양지구 택지개발사업 영향평가용역 | C71: - OOOOOO | D71: LH | E71: 37369 | F71: 37954 | G71: =F71-E71+1 -> 586 | I71: 1 | J71: =ROUND(H71*I71,0) -> 0
A72: 7 | B72: 강동권역 도시개발사업 영향평가 | C72: - OOOOOO | D72: LH | E72: 37673 | F72: 38929 | G72: =F72-E72+1 -> 1257 | I72: 0.6 | J72: =ROUND(H72*I72,0) -> 0
A73: 8 | B73: 남양주별내지구 택지개발사업 영향평가 | C73: - OOOOOO | D73: LH | E73: 38240 | F73: 39562 | G73: =F73-E73+1 -> 1323 | I73: 1 | J73: =ROUND(H73*I73,0) -> 0
A74: 9 | B74: 아산배방지구 영향평가용역 | C74: - OOOOOO | D74: LH | E74: 38078 | F74: 38660 | G74: =F74-E74+1 -> 583 | I74: 0.6 | J74: =ROUND(H74*I74,0) -> 0
A75: 10 | B75: 청주성화2지구 택지개발사업 영향평가 | C75: - OOOOOO | D75: LH | E75: 38127 | F75: 38717 | G75: =F75-E75+1 -> 591 | I75: 1 | J75: =ROUND(H75*I75,0) -> 0
A76: 11 | B76: 인천삼산3지구 택지개발사업 영향평가 | C76: - OOOOOO | D76: LH | E76: 38098 | F76: 38717 | G76: =F76-E76+1 -> 620 | I76: 0.6 | J76: =ROUND(H76*I76,0) -> 0
A77: 12 | B77: 광명소하지구 택지개발사업 영향평가용역 | C77: - OOOOOO | D77: LH | E77: 37376 | F77: 38730 | G77: =F77-E77+1 -> 1355 | I77: 1 | J77: =ROUND(H77*I77,0) -> 0
A78: 13 | B78: 천안00국민임대주택단지예정지구 영향평가용역 | C78: - OOOOOO | D78: LH | E78: 38750 | F78: 39082 | G78: =F78-E78+1 -> 333 | I78: 0.6 | J78: =ROUND(H78*I78,0) -> 0
A79: 15 | B79: 하남풍산지구 택지개발사업 영향평가 | C79: - OOOOOO | D79: LH | E79: 37435 | F79: 39414 | G79: =F79-E79+1 -> 1980 | I79: 1 | J79: =ROUND(H79*I79,0) -> 0
A80: 16 | B80: 청주성화(2)지구 택지개발조성공사 영향평가용역 | C80: - OOOOOO | D80: LH | E80: 38834 | F80: 39482 | G80: =F80-E80+1 -> 649 | I80: 1 | J80: =ROUND(H80*I80,0) -> 0
A81: 총계 | J81: =ROUND((SUM(J67:J80))/365,2) -> 0
A83: =배점기준!C7 -> 0 | C83: 분야 책임평가자 | D83: 홍길동
A85: 번호 | B85: 참여용역명 | C85: 사업개요 | D85: 발주청 (발주자) | E85: 계약기간 | H85: 적용 일수 (인정일) | I85: 경력계수 | J85: 적용 일수 (일) | K85: 비고
E86: 착수일 | F86: 준공일 | G86: 용역일 | I86: 평가종류
A87: 1 | B87: 대전노은지구 택지개발사업 영향평가 | C87: - OOOOOO | D87: LH | E87: 34645 | F87: 36522 | G87: =F87-E87+1 -> 1878 | I87: 1 | J87: =ROUND(H87*I87,0) -> 0
A88: 2 | B88: 남양주마석지구 택지개발사업 영향평가 | C88: - OOOOOO | D88: LH | E88: 34692 | F88: 37063 | G88: =F88-E88+1 -> 2372 | I88: 0.6 | J88: =ROUND(H88*I88,0) -> 0 | S88: 분류
A89: 3 | B89: 부천상동지구 택지개발사업 영향평가 | C89: - OOOOOO | D89: LH | E89: 34967 | F89: 36871 | G89: =F89-E89+1 -> 1905 | I89: 1 | J89: =ROUND(H89*I89,0) -> 0 | S89: 1
A90: 4 | B90: 용인죽전지구 택지개발사업 영향평가 | C90: - OOOOOO | D90: LH | E90: 36194 | F90: 37008 | G90: =F90-E90+1 -> 815 | I90: 0.6 | J90: =ROUND(H90*I90,0) -> 0 | S90: 0.6
A91: 5 | B91: 의정부녹양지구 택지개발사업 영향평가용역 | C91: - OOOOOO | D91: LH | E91: 37369 | F91: 37954 | G91: =F91-E91+1 -> 586 | I91: 1 | J91: =ROUND(H91*I91,0) -> 0
A92: 7 | B92: 강동권역 도시개발사업 영향평가 | C92: - OOOOOO | D92: LH | E92: 37673 | F92: 38929 | G92: =F92-E92+1 -> 1257 | I92: 0.6 | J92: =ROUND(H92*I92,0) -> 0
A93: 8 | B93: 남양주별내지구 택지개발사업 영향평가 | C93: - OOOOOO | D93: LH | E93: 38240 | F93: 39562 | G93: =F93-E93+1 -> 1323 | I93: 1 | J93: =ROUND(H93*I93,0) -> 0
A94: 9 | B94: 아산배방지구 영향평가용역 | C94: - OOOOOO | D94: LH | E94: 38078 | F94: 38660 | G94: =F94-E94+1 -> 583 | I94: 0.6 | J94: =ROUND(H94*I94,0) -> 0
A95: 10 | B95: 청주성화2지구 택지개발사업 영향평가 | C95: - OOOOOO | D95: LH | E95: 38127 | F95: 38717 | G95: =F95-E95+1 -> 591 | I95: 1 | J95: =ROUND(H95*I95,0) -> 0
A96: 11 | B96: 인천삼산3지구 택지개발사업 영향평가 | C96: - OOOOOO | D96: LH | E96: 38098 | F96: 38717 | G96: =F96-E96+1 -> 620 | I96: 0.6 | J96: =ROUND(H96*I96,0) -> 0
A97: 12 | B97: 광명소하지구 택지개발사업 영향평가용역 | C97: - OOOOOO | D97: LH | E97: 37376 | F97: 38730 | G97: =F97-E97+1 -> 1355 | I97: 1 | J97: =ROUND(H97*I97,0) -> 0
A98: 13 | B98: 천안00국민임대주택단지예정지구 영향평가용역 | C98: - OOOOOO | D98: LH | E98: 38750 | F98: 39082 | G98: =F98-E98+1 -> 333 | I98: 0.6 | J98: =ROUND(H98*I98,0) -> 0
A99: 15 | B99: 하남풍산지구 택지개발사업 영향평가 | C99: - OOOOOO | D99: LH | E99: 37435 | F99: 39414 | G99: =F99-E99+1 -> 1980 | I99: 1 | J99: =ROUND(H99*I99,0) -> 0
A100: 16 | B100: 청주성화(2)지구 택지개발조성공사 영향평가용역 | C100: - OOOOOO | D100: LH | E100: 38834 | F100: 39482 | G100: =F100-E100+1 -> 649 | I100: 1 | J100: =ROUND(H100*I100,0) -> 0
A101: 총계 | J101: =ROUND((SUM(J87:J100))/365,2) -> 0
A103: =배점기준!C8 -> 0 | C103: 분야 책임평가자 | D103: 홍길동
A105: 번호 | B105: 참여용역명 | C105: 사업개요 | D105: 발주청 (발주자) | E105: 계약기간 | H105: 적용 일수 (인정일) | I105: 경력계수 | J105: 적용 일수 (일) | K105: 비고
E106: 착수일 | F106: 준공일 | G106: 용역일 | I106: 평가종류
A107: 1 | B107: 대전노은지구 택지개발사업 영향평가 | C107: - OOOOOO | D107: LH | E107: 34645 | F107: 36522 | G107: =F107-E107+1 -> 1878 | I107: 1 | J107: =ROUND(H107*I107,0) -> 0
A108: 2 | B108: 남양주마석지구 택지개발사업 영향평가 | C108: - OOOOOO | D108: LH | E108: 34692 | F108: 37063 | G108: =F108-E108+1 -> 2372 | I108: 0.6 | J108: =ROUND(H108*I108,0) -> 0 | S108: 분류
A109: 3 | B109: 부천상동지구 택지개발사업 영향평가 | C109: - OOOOOO | D109: LH | E109: 34967 | F109: 36871 | G109: =F109-E109+1 -> 1905 | I109: 1 | J109: =ROUND(H109*I109,0) -> 0 | S109: 1
A110: 4 | B110: 용인죽전지구 택지개발사업 영향평가 | C110: - OOOOOO | D110: LH | E110: 36194 | F110: 37008 | G110: =F110-E110+1 -> 815 | I110: 0.6 | J110: =ROUND(H110*I110,0) -> 0 | S110: 0.6
A111: 5 | B111: 의정부녹양지구 택지개발사업 영향평가용역 | C111: - OOOOOO | D111: LH | E111: 37369 | F111: 37954 | G111: =F111-E111+1 -> 586 | I111: 1 | J111: =ROUND(H111*I111,0) -> 0
A112: 7 | B112: 강동권역 도시개발사업 영향평가 | C112: - OOOOOO | D112: LH | E112: 37673 | F112: 38929 | G112: =F112-E112+1 -> 1257 | I112: 0.6 | J112: =ROUND(H112*I112,0) -> 0
...

Sheet 분야별경력
B1: 분야별 평가자
A3: =배점기준!C3 -> 대기관리 | C3: 분야 평가자 | D3: 홍길동
A4: 번호 | B4: 참여용역명 | C4: 사업개요 | D4: 발주청 (발주자) | E4: 계약기간 | H4: 적용 일수 (인정일) | I4: 경력계수 | J4: 적용 일수 (일) | K4: 비고
E5: 착수일 | F5: 준공일 | G5: 용역일 | I5: 평가종류
A6: 1 | B6: 대전노은지구 택지개발사업 영향평가 | C6: - OOOOOO | D6: LH | E6: 34645 | F6: 36522 | G6: =F6-E6+1 -> 1878 | I6: 1 | J6: =ROUND(H6*I6,0) -> 0
A7: 2 | B7: 남양주마석지구 택지개발사업 영향평가 | C7: - OOOOOO | D7: LH | E7: 34692 | F7: 37063 | G7: =F7-E7+1 -> 2372 | I7: 0.6 | J7: =ROUND(H7*I7,0) -> 0 | S7: 분류
A8: 3 | B8: 부천상동지구 택지개발사업 영향평가 | C8: - OOOOOO | D8: LH | E8: 34967 | F8: 36871 | G8: =F8-E8+1 -> 1905 | I8: 1 | J8: =ROUND(H8*I8,0) -> 0 | S8: 1
A9: 4 | B9: 용인죽전지구 택지개발사업 영향평가 | C9: - OOOOOO | D9: LH | E9: 36194 | F9: 37008 | G9: =F9-E9+1 -> 815 | I9: 0.6 | J9: =ROUND(H9*I9,0) -> 0 | S9: 0.6
A10: 5 | B10: 의정부녹양지구 택지개발사업 영향평가용역 | C10: - OOOOOO | D10: LH | E10: 37369 | F10: 37954 | G10: =F10-E10+1 -> 586 | I10: 1 | J10: =ROUND(H10*I10,0) -> 0
A11: 7 | B11: 강동권역 도시개발사업 영향평가 | C11: - OOOOOO | D11: LH | E11: 37673 | F11: 38929 | G11: =F11-E11+1 -> 1257 | I11: 0.6 | J11: =ROUND(H11*I11,0) -> 0
A12: 8 | B12: 남양주별내지구 택지개발사업 영향평가 | C12: - OOOOOO | D12: LH | E12: 38240 | F12: 39562 | G12: =F12-E12+1 -> 1323 | I12: 1 | J12: =ROUND(H12*I12,0) -> 0
A13: 9 | B13: 아산배방지구 영향평가용역 | C13: - OOOOOO | D13: LH | E13: 38078 | F13: 38660 | G13: =F13-E13+1 -> 583 | I13: 0.6 | J13: =ROUND(H13*I13,0) -> 0
A14: 10 | B14: 청주성화2지구 택지개발사업 영향평가 | C14: - OOOOOO | D14: LH | E14: 38127 | F14: 38717 | G14: =F14-E14+1 -> 591 | I14: 1 | J14: =ROUND(H14*I14,0) -> 0
A15: 11 | B15: 인천삼산3지구 택지개발사업 영향평가 | C15: - OOOOOO | D15: LH | E15: 38098 | F15: 38717 | G15: =F15-E15+1 -> 620 | I15: 0.6 | J15: =ROUND(H15*I15,0) -> 0
A16: 12 | B16: 광명소하지구 택지개발사업 영향평가용역 | C16: - OOOOOO | D16: LH | E16: 37376 | F16: 38730 | G16: =F16-E16+1 -> 1355 | I16: 1 | J16: =ROUND(H16*I16,0) -> 0
A17: 13 | B17: 천안00국민임대주택단지예정지구 영향평가용역 | C17: - OOOOOO | D17: LH | E17: 38750 | F17: 39082 | G17: =F17-E17+1 -> 333 | I17: 0.6 | J17: =ROUND(H17*I17,0) -> 0
A18: 15 | B18: 하남풍산지구 택지개발사업 영향평가 | C18: - OOOOOO | D18: LH | E18: 37435 | F18: 39414 | G18: =F18-E18+1 -> 1980 | I18: 1 | J18: =ROUND(H18*I18,0) -> 0
A19: 16 | B19: 청주성화(2)지구 택지개발조성공사 영향평가용역 | C19: - OOOOOO | D19: LH | E19: 38834 | F19: 39482 | G19: =F19-E19+1 -> 649 | I19: 1 | J19: =ROUND(H19*I19,0) -> 0
A20: 총계 | J20: =ROUND((SUM(J6:J19))/365,2) -> 0
A22: =배점기준!C4 -> 수질관리 | C22: 분야 평가자 | D22: 홍길동
A23: 번호 | B23: 참여용역명 | C23: 사업개요 | D23: 발주청 (발주자) | E23: 계약기간 | H23: 적용 일수 (인정일) | I23: 경력계수 | J23: 적용 일수 (일) | K23: 비고
E24: 착수일 | F24: 준공일 | G24: 용역일 | I24: 평가종류
A25: 1 | B25: 대전노은지구 택지개발사업 영향평가 | C25: - OOOOOO | D25: LH | E25: 34645 | F25: 36522 | G25: =F25-E25+1 -> 1878 | I25: 0.6 | J25: =ROUND(H25*I25,0) -> 0
A26: 2 | B26: 남양주마석지구 택지개발사업 영향평가 | C26: - OOOOOO | D26: LH | E26: 34692 | F26: 37063 | G26: =F26-E26+1 -> 2372 | I26: 0.6 | J26: =ROUND(H26*I26,0) -> 0 | S26: 분류
A27: 3 | B27: 부천상동지구 택지개발사업 영향평가 | C27: - OOOOOO | D27: LH | E27: 34967 | F27: 36871 | G27: =F27-E27+1 -> 1905 | I27: 1 | J27: =ROUND(H27*I27,0) -> 0 | S27: 1
A28: 4 | B28: 용인죽전지구 택지개발사업 영향평가 | C28: - OOOOOO | D28: LH | E28: 36194 | F28: 37008 | G28: =F28-E28+1 -> 815 | I28: 0.6 | J28: =ROUND(H28*I28,0) -> 0 | S28: 0.6
A29: 5 | B29: 의정부녹양지구 택지개발사업 영향평가용역 | C29: - OOOOOO | D29: LH | E29: 37369 | F29: 37954 | G29: =F29-E29+1 -> 586 | I29: 1 | J29: =ROUND(H29*I29,0) -> 0
A30: 7 | B30: 강동권역 도시개발사업 영향평가 | C30: - OOOOOO | D30: LH | E30: 37673 | F30: 38929 | G30: =F30-E30+1 -> 1257 | I30: 0.6 | J30: =ROUND(H30*I30,0) -> 0
A31: 8 | B31: 남양주별내지구 택지개발사업 영향평가 | C31: - OOOOOO | D31: LH | E31: 38240 | F31: 39562 | G31: =F31-E31+1 -> 1323 | I31: 1 | J31: =ROUND(H31*I31,0) -> 0
A32: 9 | B32: 아산배방지구 영향평가용역 | C32: - OOOOOO | D32: LH | E32: 38078 | F32: 38660 | G32: =F32-E32+1 -> 583 | I32: 0.6 | J32: =ROUND(H32*I32,0) -> 0
A33: 10 | B33: 청주성화2지구 택지개발사업 영향평가 | C33: - OOOOOO | D33: LH | E33: 38127 | F33: 38717 | G33: =F33-E33+1 -> 591 | I33: 1 | J33: =ROUND(H33*I33,0) -> 0
A34: 11 | B34: 인천삼산3지구 택지개발사업 영향평가 | C34: - OOOOOO | D34: LH | E34: 38098 | F34: 38717 | G34: =F34-E34+1 -> 620 | I34: 0.6 | J34: =ROUND(H34*I34,0) -> 0
A35: 12 | B35: 광명소하지구 택지개발사업 영향평가용역 | C35: - OOOOOO | D35: LH | E35: 37376 | F35: 38730 | G35: =F35-E35+1 -> 1355 | I35: 1 | J35: =ROUND(H35*I35,0) -> 0
A36: 13 | B36: 천안00국민임대주택단지예정지구 영향평가용역 | C36: - OOOOOO | D36: LH | E36: 38750 | F36: 39082 | G36: =F36-E36+1 -> 333 | I36: 0.6 | J36: =ROUND(H36*I36,0) -> 0
A37: 15 | B37: 하남풍산지구 택지개발사업 영향평가 | C37: - OOOOOO | D37: LH | E37: 37435 | F37: 39414 | G37: =F37-E37+1 -> 1980 | I37: 1 | J37: =ROUND(H37*I37,0) -> 0
A38: 16 | B38: 청주성화(2)지구 택지개발조성공사 영향평가용역 | C38: - OOOOOO | D38: LH | E38: 38834 | F38: 39482 | G38: =F38-E38+1 -> 649 | I38: 1 | J38: =ROUND(H38*I38,0) -> 0
A39: 총계 | J39: =ROUND((SUM(J25:J38))/365,2) -> 0
A41: =배점기준!C5 -> 소음진동 | C41: 분야 평가자 | D41: 홍길동
A42: 번호 | B42: 참여용역명 | C42: 사업개요 | D42: 발주청 (발주자) | E42: 계약기간 | H42: 적용 일수 (인정일) | I42: 경력계수 | J42: 적용 일수 (일) | K42: 비고
E43: 착수일 | F43: 준공일 | G43: 용역일 | I43: 평가종류
A44: 1 | B44: 대전노은지구 택지개발사업 영향평가 | C44: - OOOOOO | D44: LH | E44: 34645 | F44: 36522 | G44: =F44-E44+1 -> 1878 | I44: 1 | J44: =ROUND(H44*I44,0) -> 0
A45: 2 | B45: 남양주마석지구 택지개발사업 영향평가 | C45: - OOOOOO | D45: LH | E45: 34692 | F45: 37063 | G45: =F45-E45+1 -> 2372 | I45: 0.6 | J45: =ROUND(H45*I45,0) -> 0 | S45: 분류
A46: 3 | B46: 부천상동지구 택지개발사업 영향평가 | C46: - OOOOOO | D46: LH | E46: 34967 | F46: 36871 | G46: =F46-E46+1 -> 1905 | I46: 1 | J46: =ROUND(H46*I46,0) -> 0 | S46: 1
A47: 4 | B47: 용인죽전지구 택지개발사업 영향평가 | C47: - OOOOOO | D47: LH | E47: 36194 | F47: 37008 | G47: =F47-E47+1 -> 815 | I47: 0.6 | J47: =ROUND(H47*I47,0) -> 0 | S47: 0.6
A48: 5 | B48: 의정부녹양지구 택지개발사업 영향평가용역 | C48: - OOOOOO | D48: LH | E48: 37369 | F48: 37954 | G48: =F48-E48+1 -> 586 | I48: 1 | J48: =ROUND(H48*I48,0) -> 0
A49: 7 | B49: 강동권역 도시개발사업 영향평가 | C49: - OOOOOO | D49: LH | E49: 37673 | F49: 38929 | G49: =F49-E49+1 -> 1257 | I49: 0.6 | J49: =ROUND(H49*I49,0) -> 0
A50: 8 | B50: 남양주별내지구 택지개발사업 영향평가 | C50: - OOOOOO | D50: LH | E50: 38240 | F50: 39562 | G50: =F50-E50+1 -> 1323 | I50: 1 | J50: =ROUND(H50*I50,0) -> 0
A51: 9 | B51: 아산배방지구 영향평가용역 | C51: - OOOOOO | D51: LH | E51: 38078 | F51: 38660 | G51: =F51-E51+1 -> 583 | I51: 0.6 | J51: =ROUND(H51*I51,0) -> 0
A52: 10 | B52: 청주성화2지구 택지개발사업 영향평가 | C52: - OOOOOO | D52: LH | E52: 38127 | F52: 38717 | G52: =F52-E52+1 -> 591 | I52: 1 | J52: =ROUND(H52*I52,0) -> 0
A53: 11 | B53: 인천삼산3지구 택지개발사업 영향평가 | C53: - OOOOOO | D53: LH | E53: 38098 | F53: 38717 | G53: =F53-E53+1 -> 620 | I53: 0.6 | J53: =ROUND(H53*I53,0) -> 0
A54: 12 | B54: 광명소하지구 택지개발사업 영향평가용역 | C54: - OOOOOO | D54: LH | E54: 37376 | F54: 38730 | G54: =F54-E54+1 -> 1355 | I54: 1 | J54: =ROUND(H54*I54,0) -> 0
A55: 13 | B55: 천안00국민임대주택단지예정지구 영향평가용역 | C55: - OOOOOO | D55: LH | E55: 38750 | F55: 39082 | G55: =F55-E55+1 -> 333 | I55: 0.6 | J55: =ROUND(H55*I55,0) -> 0
A56: 15 | B56: 하남풍산지구 택지개발사업 영향평가 | C56: - OOOOOO | D56: LH | E56: 37435 | F56: 39414 | G56: =F56-E56+1 -> 1980 | I56: 1 | J56: =ROUND(H56*I56,0) -> 0
A57: 16 | B57: 청주성화(2)지구 택지개발조성공사 영향평가용역 | C57: - OOOOOO | D57: LH | E57: 38834 | F57: 39482 | G57: =F57-E57+1 -> 649 | I57: 1 | J57: =ROUND(H57*I57,0) -> 0
A58: 총계 | J58: =ROUND((SUM(J44:J57))/365,2) -> 0
A60: =배점기준!C6 -> 폐기물처리 | C60: 분야 평가자 | D60: 홍길동
A61: 번호 | B61: 참여용역명 | C61: 사업개요 | D61: 발주청 (발주자) | E61: 계약기간 | H61: 적용 일수 (인정일) | I61: 경력계수 | J61: 적용 일수 (일) | K61: 비고
E62: 착수일 | F62: 준공일 | G62: 용역일 | I62: 평가종류
A63: 1 | B63: 대전노은지구 택지개발사업 영향평가 | C63: - OOOOOO | D63: LH | E63: 34645 | F63: 36522 | G63: =F63-E63+1 -> 1878 | I63: 1 | J63: =ROUND(H63*I63,0) -> 0
A64: 2 | B64: 남양주마석지구 택지개발사업 영향평가 | C64: - OOOOOO | D64: LH | E64: 34692 | F64: 37063 | G64: =F64-E64+1 -> 2372 | I64: 0.6 | J64: =ROUND(H64*I64,0) -> 0 | S64: 분류
A65: 3 | B65: 부천상동지구 택지개발사업 영향평가 | C65: - OOOOOO | D65: LH | E65: 34967 | F65: 36871 | G65: =F65-E65+1 -> 1905 | I65: 1 | J65: =ROUND(H65*I65,0) -> 0 | S65: 1
A66: 4 | B66: 용인죽전지구 택지개발사업 영향평가 | C66: - OOOOOO | D66: LH | E66: 36194 | F66: 37008 | G66: =F66-E66+1 -> 815 | I66: 0.6 | J66: =ROUND(H66*I66,0) -> 0 | S66: 0.6
A67: 5 | B67: 의정부녹양지구 택지개발사업 영향평가용역 | C67: - OOOOOO | D67: LH | E67: 37369 | F67: 37954 | G67: =F67-E67+1 -> 586 | I67: 1 | J67: =ROUND(H67*I67,0) -> 0
A68: 7 | B68: 강동권역 도시개발사업 영향평가 | C68: - OOOOOO | D68: LH | E68: 37673 | F68: 38929 | G68: =F68-E68+1 -> 1257 | I68: 0.6 | J68: =ROUND(H68*I68,0) -> 0
A69: 8 | B69: 남양주별내지구 택지개발사업 영향평가 | C69: - OOOOOO | D69: LH | E69: 38240 | F69: 39562 | G69: =F69-E69+1 -> 1323 | I69: 1 | J69: =ROUND(H69*I69,0) -> 0
A70: 9 | B70: 아산배방지구 영향평가용역 | C70: - OOOOOO | D70: LH | E70: 38078 | F70: 38660 | G70: =F70-E70+1 -> 583 | I70: 0.6 | J70: =ROUND(H70*I70,0) -> 0
A71: 10 | B71: 청주성화2지구 택지개발사업 영향평가 | C71: - OOOOOO | D71: LH | E71: 38127 | F71: 38717 | G71: =F71-E71+1 -> 591 | I71: 1 | J71: =ROUND(H71*I71,0) -> 0
A72: 11 | B72: 인천삼산3지구 택지개발사업 영향평가 | C72: - OOOOOO | D72: LH | E72: 38098 | F72: 38717 | G72: =F72-E72+1 -> 620 | I72: 0.6 | J72: =ROUND(H72*I72,0) -> 0
A73: 12 | B73: 광명소하지구 택지개발사업 영향평가용역 | C73: - OOOOOO | D73: LH | E73: 37376 | F73: 38730 | G73: =F73-E73+1 -> 1355 | I73: 1 | J73: =ROUND(H73*I73,0) -> 0
A74: 13 | B74: 천안00국민임대주택단지예정지구 영향평가용역 | C74: - OOOOOO | D74: LH | E74: 38750 | F74: 39082 | G74: =F74-E74+1 -> 333 | I74: 0.6 | J74: =ROUND(H74*I74,0) -> 0
A75: 15 | B75: 하남풍산지구 택지개발사업 영향평가 | C75: - OOOOOO | D75: LH | E75: 37435 | F75: 39414 | G75: =F75-E75+1 -> 1980 | I75: 1 | J75: =ROUND(H75*I75,0) -> 0
A76: 16 | B76: 청주성화(2)지구 택지개발조성공사 영향평가용역 | C76: - OOOOOO | D76: LH | E76: 38834 | F76: 39482 | G76: =F76-E76+1 -> 649 | I76: 1 | J76: =ROUND(H76*I76,0) -> 0
A77: 총계 | J77: =ROUND((SUM(J63:J76))/365,2) -> 0
A79: =배점기준!C7 -> 0 | C79: 분야 평가자 | D79: 홍길동
A80: 번호 | B80: 참여용역명 | C80: 사업개요 | D80: 발주청 (발주자) | E80: 계약기간 | H80: 적용 일수 (인정일) | I80: 경력계수 | J80: 적용 일수 (일) | K80: 비고
E81: 착수일 | F81: 준공일 | G81: 용역일 | I81: 평가종류
A82: 1 | B82: 대전노은지구 택지개발사업 영향평가 | C82: - OOOOOO | D82: LH | E82: 34645 | F82: 36522 | G82: =F82-E82+1 -> 1878 | I82: 1 | J82: =ROUND(H82*I82,0) -> 0
A83: 2 | B83: 남양주마석지구 택지개발사업 영향평가 | C83: - OOOOOO | D83: LH | E83: 34692 | F83: 37063 | G83: =F83-E83+1 -> 2372 | I83: 0.6 | J83: =ROUND(H83*I83,0) -> 0 | S83: 분류
A84: 3 | B84: 부천상동지구 택지개발사업 영향평가 | C84: - OOOOOO | D84: LH | E84: 34967 | F84: 36871 | G84: =F84-E84+1 -> 1905 | I84: 1 | J84: =ROUND(H84*I84,0) -> 0 | S84: 1
A85: 4 | B85: 용인죽전지구 택지개발사업 영향평가 | C85: - OOOOOO | D85: LH | E85: 36194 | F85: 37008 | G85: =F85-E85+1 -> 815 | I85: 0.6 | J85: =ROUND(H85*I85,0) -> 0 | S85: 0.6
A86: 5 | B86: 의정부녹양지구 택지개발사업 영향평가용역 | C86: - OOOOOO | D86: LH | E86: 37369 | F86: 37954 | G86: =F86-E86+1 -> 586 | I86: 1 | J86: =ROUND(H86*I86,0) -> 0
A87: 7 | B87: 강동권역 도시개발사업 영향평가 | C87: - OOOOOO | D87: LH | E87: 37673 | F87: 38929 | G87: =F87-E87+1 -> 1257 | I87: 0.6 | J87: =ROUND(H87*I87,0) -> 0
A88: 8 | B88: 남양주별내지구 택지개발사업 영향평가 | C88: - OOOOOO | D88: LH | E88: 38240 | F88: 39562 | G88: =F88-E88+1 -> 1323 | I88: 1 | J88: =ROUND(H88*I88,0) -> 0
A89: 9 | B89: 아산배방지구 영향평가용역 | C89: - OOOOOO | D89: LH | E89: 38078 | F89: 38660 | G89: =F89-E89+1 -> 583 | I89: 0.6 | J89: =ROUND(H89*I89,0) -> 0
A90: 10 | B90: 청주성화2지구 택지개발사업 영향평가 | C90: - OOOOOO | D90: LH | E90: 38127 | F90: 38717 | G90: =F90-E90+1 -> 591 | I90: 1 | J90: =ROUND(H90*I90,0) -> 0
A91: 11 | B91: 인천삼산3지구 택지개발사업 영향평가 | C91: - OOOOOO | D91: LH | E91: 38098 | F91: 38717 | G91: =F91-E91+1 -> 620 | I91: 0.6 | J91: =ROUND(H91*I91,0) -> 0
A92: 12 | B92: 광명소하지구 택지개발사업 영향평가용역 | C92: - OOOOOO | D92: LH | E92: 37376 | F92: 38730 | G92: =F92-E92+1 -> 1355 | I92: 1 | J92: =ROUND(H92*I92,0) -> 0
A93: 13 | B93: 천안00국민임대주택단지예정지구 영향평가용역 | C93: - OOOOOO | D93: LH | E93: 38750 | F93: 39082 | G93: =F93-E93+1 -> 333 | I93: 0.6 | J93: =ROUND(H93*I93,0) -> 0
A94: 15 | B94: 하남풍산지구 택지개발사업 영향평가 | C94: - OOOOOO | D94: LH | E94: 37435 | F94: 39414 | G94: =F94-E94+1 -> 1980 | I94: 1 | J94: =ROUND(H94*I94,0) -> 0
A95: 16 | B95: 청주성화(2)지구 택지개발조성공사 영향평가용역 | C95: - OOOOOO | D95: LH | E95: 38834 | F95: 39482 | G95: =F95-E95+1 -> 649 | I95: 1 | J95: =ROUND(H95*I95,0) -> 0
A96: 총계 | J96: =ROUND((SUM(J82:J95))/365,2) -> 0
A98: =배점기준!C8 -> 0 | C98: 분야 평가자 | D98: 홍길동
A99: 번호 | B99: 참여용역명 | C99: 사업개요 | D99: 발주청 (발주자) | E99: 계약기간 | H99: 적용 일수 (인정일) | I99: 경력계수 | J99: 적용 일수 (일) | K99: 비고
E100: 착수일 | F100: 준공일 | G100: 용역일 | I100: 평가종류
A101: 1 | B101: 대전노은지구 택지개발사업 영향평가 | C101: - OOOOOO | D101: LH | E101: 34645 | F101: 36522 | G101: =F101-E101+1 -> 1878 | I101: 1 | J101: =ROUND(H101*I101,0) -> 0
A102: 2 | B102: 남양주마석지구 택지개발사업 영향평가 | C102: - OOOOOO | D102: LH | E102: 34692 | F102: 37063 | G102: =F102-E102+1 -> 2372 | I102: 0.6 | J102: =ROUND(H102*I102,0) -> 0 | S102: 분류
A103: 3 | B103: 부천상동지구 택지개발사업 영향평가 | C103: - OOOOOO | D103: LH | E103: 34967 | F103: 36871 | G103: =F103-E103+1 -> 1905 | I103: 1 | J103: =ROUND(H103*I103,0) -> 0 | S103: 1
A104: 4 | B104: 용인죽전지구 택지개발사업 영향평가 | C104: - OOOOOO | D104: LH | E104: 36194 | F104: 37008 | G104: =F104-E104+1 -> 815 | I104: 0.6 | J104: =ROUND(H104*I104,0) -> 0 | S104: 0.6
A105: 5 | B105: 의정부녹양지구 택지개발사업 영향평가용역 | C105: - OOOOOO | D105: LH | E105: 37369 | F105: 37954 | G105: =F105-E105+1 -> 586 | I105: 1 | J105: =ROUND(H105*I105,0) -> 0
A106: 7 | B106: 강동권역 도시개발사업 영향평가 | C106: - OOOOOO | D106: LH | E106: 37673 | F106: 38929 | G106: =F106-E106+1 -> 1257 | I106: 0.6 | J106: =ROUND(H106*I106,0) -> 0
...

Sheet 총괄실적
A1: 총괄평자자 실적 | C1: 홍길동
A3: 번호 | B3: 참여용역명 | C3: 사업개요 | D3: 발주청 (발주자) | E3: 계약기간 | H3: 참여기간 | K3: 참여율 | L3: 실적계수 | N3: 적용 건수 | O3: 비고
E4: 착수일 | F4: 준공일 | G4: 용역일 | H4: 참여개시일 | I4: 참여종료일 | J4: 참여일 | L4: 평가종류 | M4: 사업종류
A5: 1 | B5: 대전노은지구 택지개발사업 영향평가 | C5: - OOOOOO | D5: LH | E5: 34645 | F5: 36522 | G5: =IF(F5-E5>=90,F5-E5,0) -> 1877 | H5: 34645 | I5: 36522 | J5: =IF(I5-H5>=30,I5-H5,0) -> 1877 | K5: =J5/G5 -> 1 | L5: 1 | M5: 0.6 | N5: =ROUND(K5*L5*M5,2) -> 0.6
A6: 2 | B6: 남양주마석지구 택지개발사업 영향평가 | C6: - OOOOOO | D6: LH | E6: 34692 | F6: 37063 | G6: =IF(F6-E6>=90,F6-E6,0) -> 2371 | H6: 34692 | I6: 36525 | J6: =IF(I6-H6>=30,I6-H6,0) -> 1833 | K6: =J6/G6 -> 0.77309152 | L6: 0.6 | M6: 0.6 | N6: =ROUND(K6*L6*M6,2) -> 0.28 | W6: 분류
A7: 3 | B7: 부천상동지구 택지개발사업 영향평가 | C7: - OOOOOO | D7: LH | E7: 34967 | F7: 36871 | G7: =IF(F7-E7>=90,F7-E7,0) -> 1904 | H7: 34967 | I7: 36871 | J7: =IF(I7-H7>=30,I7-H7,0) -> 1904 | K7: =J7/G7 -> 1 | L7: 1 | M7: 1 | N7: =ROUND(K7*L7*M7,2) -> 1 | W7: 1
A8: 4 | B8: 용인죽전지구 택지개발사업 영향평가 | C8: - OOOOOO | D8: LH | E8: 36194 | F8: 37008 | G8: =IF(F8-E8>=90,F8-E8,0) -> 814 | H8: 36194 | I8: 37008 | J8: =IF(I8-H8>=30,I8-H8,0) -> 814 | K8: =J8/G8 -> 1 | L8: 0.6 | M8: 1 | N8: =ROUND(K8*L8*M8,2) -> 0.6 | W8: 0.6
A9: 5 | B9: 의정부녹양지구 택지개발사업 영향평가용역 | C9: - OOOOOO | D9: LH | E9: 37369 | F9: 37954 | G9: =IF(F9-E9>=90,F9-E9,0) -> 585 | H9: 37369 | I9: 37954 | J9: =IF(I9-H9>=30,I9-H9,0) -> 585 | K9: =J9/G9 -> 1 | L9: 1 | M9: 0.6 | N9: =ROUND(K9*L9*M9,2) -> 0.6
A10: 7 | B10: 강동권역 도시개발사업 영향평가 | C10: - OOOOOO | D10: LH | E10: 37673 | F10: 38929 | G10: =IF(F10-E10>=90,F10-E10,0) -> 1256 | H10: 37673 | I10: 38929 | J10: =IF(I10-H10>=30,I10-H10,0) -> 1256 | K10: =J10/G10 -> 1 | L10: 0.6 | M10: 0.6 | N10: =ROUND(K10*L10*M10,2) -> 0.36
A11: 8 | B11: 남양주별내지구 택지개발사업 영향평가 | C11: - OOOOOO | D11: LH | E11: 38240 | F11: 39562 | G11: =IF(F11-E11>=90,F11-E11,0) -> 1322 | H11: 38240 | I11: 39562 | J11: =IF(I11-H11>=30,I11-H11,0) -> 1322 | K11: =J11/G11 -> 1 | L11: 1 | M11: 1 | N11: =ROUND(K11*L11*M11,2) -> 1
A12: 9 | B12: 아산배방지구 영향평가용역 | C12: - OOOOOO | D12: LH | E12: 38078 | F12: 38660 | G12: =IF(F12-E12>=90,F12-E12,0) -> 582 | H12: 38078 | I12: 38660 | J12: =IF(I12-H12>=30,I12-H12,0) -> 582 | K12: =J12/G12 -> 1 | L12: 0.6 | M12: 1 | N12: =ROUND(K12*L12*M12,2) -> 0.6
A13: 10 | B13: 청주성화2지구 택지개발사업 영향평가 | C13: - OOOOOO | D13: LH | E13: 38127 | F13: 38717 | G13: =IF(F13-E13>=90,F13-E13,0) -> 590 | H13: 38127 | I13: 38717 | J13: =IF(I13-H13>=30,I13-H13,0) -> 590 | K13: =J13/G13 -> 1 | L13: 1 | M13: 0.6 | N13: =ROUND(K13*L13*M13,2) -> 0.6
A14: 11 | B14: 인천삼산3지구 택지개발사업 영향평가 | C14: - OOOOOO | D14: LH | E14: 38098 | F14: 38717 | G14: =IF(F14-E14>=90,F14-E14,0) -> 619 | H14: 38098 | I14: 38656 | J14: =IF(I14-H14>=30,I14-H14,0) -> 558 | K14: =J14/G14 -> 0.90145396 | L14: 0.6 | M14: 0.6 | N14: =ROUND(K14*L14*M14,2) -> 0.32
A15: 12 | B15: 광명소하지구 택지개발사업 영향평가용역 | C15: - OOOOOO | D15: LH | E15: 37376 | F15: 38730 | G15: =IF(F15-E15>=90,F15-E15,0) -> 1354 | H15: 38472 | I15: 38730 | J15: =IF(I15-H15>=30,I15-H15,0) -> 258 | K15: =J15/G15 -> 0.19054653 | L15: 1 | M15: 1 | N15: =ROUND(K15*L15*M15,2) -> 0.19
A16: 13 | B16: 천안00국민임대주택단지예정지구 영향평가용역 | C16: - OOOOOO | D16: LH | E16: 38750 | F16: 39082 | G16: =IF(F16-E16>=90,F16-E16,0) -> 332 | H16: 38750 | I16: 39082 | J16: =IF(I16-H16>=30,I16-H16,0) -> 332 | K16: =J16/G16 -> 1 | L16: 0.6 | M16: 1 | N16: =ROUND(K16*L16*M16,2) -> 0.6
A17: 15 | B17: 하남풍산지구 택지개발사업 영향평가 | C17: - OOOOOO | D17: LH | E17: 37435 | F17: 39414 | G17: =IF(F17-E17>=90,F17-E17,0) -> 1979 | H17: 37435 | I17: 39414 | J17: =IF(I17-H17>=30,I17-H17,0) -> 1979 | K17: =J17/G17 -> 1 | L17: 1 | M17: 1 | N17: =ROUND(K17*L17*M17,2) -> 1
A18: 16 | B18: 청주성화(2)지구 택지개발조성공사 영향평가용역 | C18: - OOOOOO | D18: LH | E18: 38834 | F18: 39482 | G18: =IF(F18-E18>=90,F18-E18,0) -> 648 | H18: 38834 | I18: 39482 | J18: =IF(I18-H18>=30,I18-H18,0) -> 648 | K18: =J18/G18 -> 1 | L18: 1 | M18: 1 | N18: =ROUND(K18*L18*M18,2) -> 1
A19: 총계 | N19: =SUM(N5:N18) -> 8.75
A20: 주) | B20: ※신고자의 실적에 해당하는 양식을 사용하여 작성합니다. 합계건수가 기술자 시트에 입력 되도록 확인합니다.
A21: 1 | B21: 참여평갖자가 발주청 및 엔지니어 등 수행한 용역을 기초로 해당 양식을 사용하여 작성 합니다.
A22: 2 | B22: 발주청(발주사 포함)에서 직접 자체설계한 실적은 감독관리건수에 포함하여 작성합니다.
A23: 3 | B23: 용역중지기간은 용역기간 및 참여기간에 포함시키지 않습니다.
A24: 4 | B24: 용역실적증명서(원본 또는 사본)를 첨부하고, 실적대조를 위하여 양식에 작성된 연번을 반드시 기재하시기 바라며, 연번 순서대로 제본하여야 합니다.
A25: 5 | B25: 용역실적증명서의 참여평가자 명단이 누락 되었거나, 참여평가자 명단에 해당 참여평가자가 누락된 경우에는 해당실적을 인정하지 않습니다.
A26: 6 | B26: 실적인정금액은 발주청에서 시행한 유사용역의 각 해당분야에 한합니다. 이 때 유사용역 범위 여부는 평가기준에 의거하여 발주용역의 내역에 준하여 인정한다.
A27: 7 | B27: 준공금액란에는 용역전체 금액을 기입하며, 해당분야 준공실적란에는 유사용역(영향평가)해당분야 실적의 해당금액을 기입합니다. 설계및영향평가 통합용역의 경우 영향평가실적분만 인정하며, 설계분야실적분은 인정하지 않습니다.
A28: 8 | B28: 기입란은 행 삽입,삭제가 가능하며, 행삽입,삭제시 실적이 합계에서 누락되지 않도록 반드시 확인(기술자실적 시트) 주의해야 합니다.

Sheet 분야별책임실적
A1: =배점기준!$C$3 -> 대기관리 | C1: 분야 책임평가자 | D1: 홍길동
A2: 번호 | B2: 참여용역명 | C2: 사업개요 | D2: 참여분야 | E2: 발주청 (발주자) | F2: 계약기간 | I2: 참여기간 | L2: 참여율 | M2: 실적계수 | O2: 적용 건수 | P2: 비고
F3: 착수일 | G3: 준공일 | H3: 용역일 | I3: 참여개시일 | J3: 참여종료일 | K3: 참여일 | M3: 평가종류 | N3: 사업종류
A4: 1 | B4: 대전노은지구 택지개발사업 영향평가 | C4: - OOOOOO | E4: LH | F4: 34645 | G4: 36522 | H4: =IF(G4-F4>=90,G4-F4,0) -> 1877 | I4: 34645 | J4: 36522 | K4: =IF(J4-I4>=30,J4-I4,0) -> 1877 | L4: =K4/H4 -> 1 | M4: 1 | N4: 1 | O4: =ROUND(L4*M4*N4,2) -> 1
A5: 2 | B5: 남양주마석지구 택지개발사업 영향평가 | C5: - OOOOOO | E5: LH | F5: 34692 | G5: 37063 | H5: =IF(G5-F5>=90,G5-F5,0) -> 2371 | I5: 34692 | J5: 36525 | K5: =IF(J5-I5>=30,J5-I5,0) -> 1833 | L5: =K5/H5 -> 0.77309152 | M5: 0.6 | N5: 0.6 | O5: =ROUND(L5*M5*N5,2) -> 0.28 | AA5: 분류
A6: 3 | B6: 부천상동지구 택지개발사업 영향평가 | C6: - OOOOOO | E6: LH | F6: 34967 | G6: 36871 | H6: =IF(G6-F6>=90,G6-F6,0) -> 1904 | I6: 34967 | J6: 36871 | K6: =IF(J6-I6>=30,J6-I6,0) -> 1904 | L6: =K6/H6 -> 1 | M6: 1 | N6: 1 | O6: =ROUND(L6*M6*N6,2) -> 1 | AA6: 1
A7: 4 | B7: 용인죽전지구 택지개발사업 영향평가 | C7: - OOOOOO | E7: LH | F7: 36194 | G7: 37008 | H7: =IF(G7-F7>=90,G7-F7,0) -> 814 | I7: 36194 | J7: 37008 | K7: =IF(J7-I7>=30,J7-I7,0) -> 814 | L7: =K7/H7 -> 1 | M7: 0.6 | N7: 1 | O7: =ROUND(L7*M7*N7,2) -> 0.6 | AA7: 0.6
A8: 5 | B8: 의정부녹양지구 택지개발사업 영향평가용역 | C8: - OOOOOO | E8: LH | F8: 37369 | G8: 37954 | H8: =IF(G8-F8>=90,G8-F8,0) -> 585 | I8: 37369 | J8: 37954 | K8: =IF(J8-I8>=30,J8-I8,0) -> 585 | L8: =K8/H8 -> 1 | M8: 1 | N8: 0.6 | O8: =ROUND(L8*M8*N8,2) -> 0.6
A9: 7 | B9: 강동권역 도시개발사업 영향평가 | C9: - OOOOOO | E9: LH | F9: 37673 | G9: 38929 | H9: =IF(G9-F9>=90,G9-F9,0) -> 1256 | I9: 37673 | J9: 38929 | K9: =IF(J9-I9>=30,J9-I9,0) -> 1256 | L9: =K9/H9 -> 1 | M9: 0.6 | N9: 0.6 | O9: =ROUND(L9*M9*N9,2) -> 0.36
A10: 8 | B10: 남양주별내지구 택지개발사업 영향평가 | C10: - OOOOOO | E10: LH | F10: 38240 | G10: 39562 | H10: =IF(G10-F10>=90,G10-F10,0) -> 1322 | I10: 38240 | J10: 39562 | K10: =IF(J10-I10>=30,J10-I10,0) -> 1322 | L10: =K10/H10 -> 1 | M10: 1 | N10: 1 | O10: =ROUND(L10*M10*N10,2) -> 1
A11: 9 | B11: 아산배방지구 영향평가용역 | C11: - OOOOOO | E11: LH | F11: 38078 | G11: 38660 | H11: =IF(G11-F11>=90,G11-F11,0) -> 582 | I11: 38078 | J11: 38660 | K11: =IF(J11-I11>=30,J11-I11,0) -> 582 | L11: =K11/H11 -> 1 | M11: 0.6 | N11: 1 | O11: =ROUND(L11*M11*N11,2) -> 0.6
A12: 10 | B12: 청주성화2지구 택지개발사업 영향평가 | C12: - OOOOOO | E12: LH | F12: 38127 | G12: 38717 | H12: =IF(G12-F12>=90,G12-F12,0) -> 590 | I12: 38127 | J12: 38717 | K12: =IF(J12-I12>=30,J12-I12,0) -> 590 | L12: =K12/H12 -> 1 | M12: 1 | N12: 0.6 | O12: =ROUND(L12*M12*N12,2) -> 0.6
A13: 11 | B13: 인천삼산3지구 택지개발사업 영향평가 | C13: - OOOOOO | E13: LH | F13: 38098 | G13: 38717 | H13: =IF(G13-F13>=90,G13-F13,0) -> 619 | I13: 38098 | J13: 38656 | K13: =IF(J13-I13>=30,J13-I13,0) -> 558 | L13: =K13/H13 -> 0.90145396 | M13: 0.6 | N13: 0.6 | O13: =ROUND(L13*M13*N13,2) -> 0.32
A14: 12 | B14: 광명소하지구 택지개발사업 영향평가용역 | C14: - OOOOOO | E14: LH | F14: 37376 | G14: 38730 | H14: =IF(G14-F14>=90,G14-F14,0) -> 1354 | I14: 38472 | J14: 38730 | K14: =IF(J14-I14>=30,J14-I14,0) -> 258 | L14: =K14/H14 -> 0.19054653 | M14: 1 | N14: 1 | O14: =ROUND(L14*M14*N14,2) -> 0.19
A15: 13 | B15: 천안00국민임대주택단지예정지구 영향평가용역 | C15: - OOOOOO | E15: LH | F15: 38750 | G15: 39082 | H15: =IF(G15-F15>=90,G15-F15,0) -> 332 | I15: 38750 | J15: 39082 | K15: =IF(J15-I15>=30,J15-I15,0) -> 332 | L15: =K15/H15 -> 1 | M15: 0.6 | N15: 1 | O15: =ROUND(L15*M15*N15,2) -> 0.6
A16: 15 | B16: 하남풍산지구 택지개발사업 영향평가 | C16: - OOOOOO | E16: LH | F16: 37435 | G16: 39414 | H16: =IF(G16-F16>=90,G16-F16,0) -> 1979 | I16: 37435 | J16: 39414 | K16: =IF(J16-I16>=30,J16-I16,0) -> 1979 | L16: =K16/H16 -> 1 | M16: 1 | N16: 1 | O16: =ROUND(L16*M16*N16,2) -> 1
A17: 16 | B17: 청주성화(2)지구 택지개발조성공사 영향평가용역 | C17: - OOOOOO | E17: LH | F17: 38834 | G17: 39482 | H17: =IF(G17-F17>=90,G17-F17,0) -> 648 | I17: 38834 | J17: 39482 | K17: =IF(J17-I17>=30,J17-I17,0) -> 648 | L17: =K17/H17 -> 1 | M17: 1 | N17: 1 | O17: =ROUND(L17*M17*N17,2) -> 1
A18: 총계 | O18: =SUM(O4:O17) -> 9.15
A20: =배점기준!C4 -> 수질관리 | C20: 분야 책임평가자 | D20: 홍길동
A21: 번호 | B21: 참여용역명 | C21: 사업개요 | D21: 참여분야 | E21: 발주청 (발주자) | F21: 계약기간 | I21: 참여기간 | L21: 참여율 | M21: 실적계수 | O21: 적용 건수 | P21: 비고
F22: 착수일 | G22: 준공일 | H22: 용역일 | I22: 참여개시일 | J22: 참여종료일 | K22: 참여일 | M22: 평가종류 | N22: 사업종류
A23: 1 | B23: 대전노은지구 택지개발사업 영향평가 | C23: - OOOOOO | E23: LH | F23: 34645 | G23: 36522 | H23: =IF(G23-F23>=90,G23-F23,0) -> 1877 | I23: 34645 | J23: 36522 | K23: =IF(J23-I23>=30,J23-I23,0) -> 1877 | L23: =K23/H23 -> 1 | M23: 1 | N23: 0.6 | O23: =ROUND(L23*M23*N23,2) -> 0.6
A24: 2 | B24: 남양주마석지구 택지개발사업 영향평가 | C24: - OOOOOO | E24: LH | F24: 34692 | G24: 37063 | H24: =IF(G24-F24>=90,G24-F24,0) -> 2371 | I24: 34692 | J24: 36525 | K24: =IF(J24-I24>=30,J24-I24,0) -> 1833 | L24: =K24/H24 -> 0.77309152 | M24: 0.6 | N24: 0.6 | O24: =ROUND(L24*M24*N24,2) -> 0.28
A25: 3 | B25: 부천상동지구 택지개발사업 영향평가 | C25: - OOOOOO | E25: LH | F25: 34967 | G25: 36871 | H25: =IF(G25-F25>=90,G25-F25,0) -> 1904 | I25: 34967 | J25: 36871 | K25: =IF(J25-I25>=30,J25-I25,0) -> 1904 | L25: =K25/H25 -> 1 | M25: 1 | N25: 1 | O25: =ROUND(L25*M25*N25,2) -> 1
A26: 4 | B26: 용인죽전지구 택지개발사업 영향평가 | C26: - OOOOOO | E26: LH | F26: 36194 | G26: 37008 | H26: =IF(G26-F26>=90,G26-F26,0) -> 814 | I26: 36194 | J26: 37008 | K26: =IF(J26-I26>=30,J26-I26,0) -> 814 | L26: =K26/H26 -> 1 | M26: 0.6 | N26: 1 | O26: =ROUND(L26*M26*N26,2) -> 0.6
A27: 5 | B27: 의정부녹양지구 택지개발사업 영향평가용역 | C27: - OOOOOO | E27: LH | F27: 37369 | G27: 37954 | H27: =IF(G27-F27>=90,G27-F27,0) -> 585 | I27: 37369 | J27: 37954 | K27: =IF(J27-I27>=30,J27-I27,0) -> 585 | L27: =K27/H27 -> 1 | M27: 1 | N27: 0.6 | O27: =ROUND(L27*M27*N27,2) -> 0.6
A28: 7 | B28: 강동권역 도시개발사업 영향평가 | C28: - OOOOOO | E28: LH | F28: 37673 | G28: 38929 | H28: =IF(G28-F28>=90,G28-F28,0) -> 1256 | I28: 37673 | J28: 38929 | K28: =IF(J28-I28>=30,J28-I28,0) -> 1256 | L28: =K28/H28 -> 1 | M28: 0.6 | N28: 0.6 | O28: =ROUND(L28*M28*N28,2) -> 0.36
A29: 8 | B29: 남양주별내지구 택지개발사업 영향평가 | C29: - OOOOOO | E29: LH | F29: 38240 | G29: 39562 | H29: =IF(G29-F29>=90,G29-F29,0) -> 1322 | I29: 38240 | J29: 39562 | K29: =IF(J29-I29>=30,J29-I29,0) -> 1322 | L29: =K29/H29 -> 1 | M29: 1 | N29: 1 | O29: =ROUND(L29*M29*N29,2) -> 1
A30: 9 | B30: 아산배방지구 영향평가용역 | C30: - OOOOOO | E30: LH | F30: 38078 | G30: 38660 | H30: =IF(G30-F30>=90,G30-F30,0) -> 582 | I30: 38078 | J30: 38660 | K30: =IF(J30-I30>=30,J30-I30,0) -> 582 | L30: =K30/H30 -> 1 | M30: 0.6 | N30: 1 | O30: =ROUND(L30*M30*N30,2) -> 0.6
A31: 10 | B31: 청주성화2지구 택지개발사업 영향평가 | C31: - OOOOOO | E31: LH | F31: 38127 | G31: 38717 | H31: =IF(G31-F31>=90,G31-F31,0) -> 590 | I31: 38127 | J31: 38717 | K31: =IF(J31-I31>=30,J31-I31,0) -> 590 | L31: =K31/H31 -> 1 | M31: 1 | N31: 0.6 | O31: =ROUND(L31*M31*N31,2) -> 0.6
A32: 11 | B32: 인천삼산3지구 택지개발사업 영향평가 | C32: - OOOOOO | E32: LH | F32: 38098 | G32: 38717 | H32: =IF(G32-F32>=90,G32-F32,0) -> 619 | I32: 38098 | J32: 38656 | K32: =IF(J32-I32>=30,J32-I32,0) -> 558 | L32: =K32/H32 -> 0.90145396 | M32: 0.6 | N32: 0.6 | O32: =ROUND(L32*M32*N32,2) -> 0.32
A33: 12 | B33: 광명소하지구 택지개발사업 영향평가용역 | C33: - OOOOOO | E33: LH | F33: 37376 | G33: 38730 | H33: =IF(G33-F33>=90,G33-F33,0) -> 1354 | I33: 38472 | J33: 38730 | K33: =IF(J33-I33>=30,J33-I33,0) -> 258 | L33: =K33/H33 -> 0.19054653 | M33: 1 | N33: 1 | O33: =ROUND(L33*M33*N33,2) -> 0.19
A34: 13 | B34: 천안00국민임대주택단지예정지구 영향평가용역 | C34: - OOOOOO | E34: LH | F34: 38750 | G34: 39082 | H34: =IF(G34-F34>=90,G34-F34,0) -> 332 | I34: 38750 | J34: 39082 | K34: =IF(J34-I34>=30,J34-I34,0) -> 332 | L34: =K34/H34 -> 1 | M34: 0.6 | N34: 1 | O34: =ROUND(L34*M34*N34,2) -> 0.6
... A36: 16 | B36: 청주성화(2)지구 택지개발조성공사 영향평가용역 | C36: - OOOOOO | E36: LH | F36: 38834 | G36: 39482 | H36: =IF(G36-F36>=90,G36-F36,0) -> 648 | I36: 38834 | J36: 39482 | K36: =IF(J36-I36>=30,J36-I36,0) -> 648 | L36: =K36/H36 -> 1 | M36: 1 | N36: 1 | O36: =ROUND(L36*M36*N36,2) -> 1
A37: 총계 | O37: =SUM(O23:O36) -> 8.75
A39: =배점기준!C5 -> 소음진동 | C39: 분야 책임평가자 | D39: 홍길동
A40: 번호 | B40: 참여용역명 | C40: 사업개요 | D40: 참여분야 | E40: 발주청 (발주자) | F40: 계약기간 | I40: 참여기간 | L40: 참여율 | M40: 실적계수 | O40: 적용 건수 | P40: 비고
F41: 착수일 | G41: 준공일 | H41: 용역일 | I41: 참여개시일 | J41: 참여종료일 | K41: 참여일 | M41: 평가종류 | N41: 사업종류
A42: 1 | B42: 대전노은지구 택지개발사업 영향평가 | C42: - OOOOOO | E42: LH | F42: 34645 | G42: 36522 | H42: =IF(G42-F42>=90,G42-F42,0) -> 1877 | I42: 34645 | J42: 36522 | K42: =IF(J42-I42>=30,J42-I42,0) -> 1877 | L42: =K42/H42 -> 1 | M42: 1 | N42: 0.6 | O42: =ROUND(L42*M42*N42,2) -> 0.6
A43: 2 | B43: 남양주마석지구 택지개발사업 영향평가 | C43: - OOOOOO | E43: LH | F43: 34692 | G43: 37063 | H43: =IF(G43-F43>=90,G43-F43,0) -> 2371 | I43: 34692 | J43: 36525 | K43: =IF(J43-I43>=30,J43-I43,0) -> 1833 | L43: =K43/H43 -> 0.77309152 | M43: 0.6 | N43: 0.6 | O43: =ROUND(L43*M43*N43,2) -> 0.28
A44: 3 | B44: 부천상동지구 택지개발사업 영향평가 | C44: - OOOOOO | E44: LH | F44: 34967 | G44: 36871 | H44: =IF(G44-F44>=90,G44-F44,0) -> 1904 | I44: 34967 | J44: 36871 | K44: =IF(J44-I44>=30,J44-I44,0) -> 1904 | L44: =K44/H44 -> 1 | M44: 1 | N44: 1 | O44: =ROUND(L44*M44*N44,2) -> 1
A45: 4 | B45: 용인죽전지구 택지개발사업 영향평가 | C45: - OOOOOO | E45: LH | F45: 36194 | G45: 37008 | H45: =IF(G45-F45>=90,G45-F45,0) -> 814 | I45: 36194 | J45: 37008 | K45: =IF(J45-I45>=30,J45-I45,0) -> 814 | L45: =K45/H45 -> 1 | M45: 0.6 | N45: 1 | O45: =ROUND(L45*M45*N45,2) -> 0.6
A46: 5 | B46: 의정부녹양지구 택지개발사업 영향평가용역 | C46: - OOOOOO | E46: LH | F46: 37369 | G46: 37954 | H46: =IF(G46-F46>=90,G46-F46,0) -> 585 | I46: 37369 | J46: 37954 | K46: =IF(J46-I46>=30,J46-I46,0) -> 585 | L46: =K46/H46 -> 1 | M46: 1 | N46: 0.6 | O46: =ROUND(L46*M46*N46,2) -> 0.6
A47: 7 | B47: 강동권역 도시개발사업 영향평가 | C47: - OOOOOO | E47: LH | F47: 37673 | G47: 38929 | H47: =IF(G47-F47>=90,G47-F47,0) -> 1256 | I47: 37673 | J47: 38929 | K47: =IF(J47-I47>=30,J47-I47,0) -> 1256 | L47: =K47/H47 -> 1 | M47: 0.6 | N47: 0.6 | O47: =ROUND(L47*M47*N47,2) -> 0.36
A48: 8 | B48: 남양주별내지구 택지개발사업 영향평가 | C48: - OOOOOO | E48: LH | F48: 38240 | G48: 39562 | H48: =IF(G48-F48>=90,G48-F48,0) -> 1322 | I48: 38240 | J48: 39562 | K48: =IF(J48-I48>=30,J48-I48,0) -> 1322 | L48: =K48/H48 -> 1 | M48: 1 | N48: 1 | O48: =ROUND(L48*M48*N48,2) -> 1
A49: 9 | B49: 아산배방지구 영향평가용역 | C49: - OOOOOO | E49: LH | F49: 38078 | G49: 38660 | H49: =IF(G49-F49>=90,G49-F49,0) -> 582 | I49: 38078 | J49: 38660 | K49: =IF(J49-I49>=30,J49-I49,0) -> 582 | L49: =K49/H49 -> 1 | M49: 0.6 | N49: 1 | O49: =ROUND(L49*M49*N49,2) -> 0.6
A50: 10 | B50: 청주성화2지구 택지개발사업 영향평가 | C50: - OOOOOO | E50: LH | F50: 38127 | G50: 38717 | H50: =IF(G50-F50>=90,G50-F50,0) -> 590 | I50: 38127 | J50: 38717 | K50: =IF(J50-I50>=30,J50-I50,0) -> 590 | L50: =K50/H50 -> 1 | M50: 1 | N50: 0.6 | O50: =ROUND(L50*M50*N50,2) -> 0.6
A51: 11 | B51: 인천삼산3지구 택지개발사업 영향평가 | C51: - OOOOOO | E51: LH | F51: 38098 | G51: 38717 | H51: =IF(G51-F51>=90,G51-F51,0) -> 619 | I51: 38098 | J51: 38656 | K51: =IF(J51-I51>=30,J51-I51,0) -> 558 | L51: =K51/H51 -> 0.90145396 | M51: 0.6 | N51: 0.6 | O51: =ROUND(L51*M51*N51,2) -> 0.32
A52: 12 | B52: 광명소하지구 택지개발사업 영향평가용역 | C52: - OOOOOO | E52: LH | F52: 37376 | G52: 38730 | H52: =IF(G52-F52>=90,G52-F52,0) -> 1354 | I52: 38472 | J52: 38730 | K52: =IF(J52-I52>=30,J52-I52,0) -> 258 | L52: =K52/H52 -> 0.19054653 | M52: 1 | N52: 1 | O52: =ROUND(L52*M52*N52,2) -> 0.19
A53: 13 | B53: 천안00국민임대주택단지예정지구 영향평가용역 | C53: - OOOOOO | E53: LH | F53: 38750 | G53: 39082 | H53: =IF(G53-F53>=90,G53-F53,0) -> 332 | I53: 38750 | J53: 39082 | K53: =IF(J53-I53>=30,J53-I53,0) -> 332 | L53: =K53/H53 -> 1 | M53: 0.6 | N53: 1 | O53: =ROUND(L53*M53*N53,2) -> 0.6
... A55: 16 | B55: 청주성화(2)지구 택지개발조성공사 영향평가용역 | C55: - OOOOOO | E55: LH | F55: 38834 | G55: 39482 | H55: =IF(G55-F55>=90,G55-F55,0) -> 648 | I55: 38834 | J55: 39482 | K55: =IF(J55-I55>=30,J55-I55,0) -> 648 | L55: =K55/H55 -> 1 | M55: 1 | N55: 1 | O55: =ROUND(L55*M55*N55,2) -> 1
A56: 총계 | O56: =SUM(O42:O55) -> 8.75
A58: =배점기준!C6 -> 폐기물처리 | C58: 분야 책임평가자 | D58: 홍길동
A59: 번호 | B59: 참여용역명 | C59: 사업개요 | D59: 참여분야 | E59: 발주청 (발주자) | F59: 계약기간 | I59: 참여기간 | L59: 참여율 | M59: 실적계수 | O59: 적용 건수 | P59: 비고
F60: 착수일 | G60: 준공일 | H60: 용역일 | I60: 참여개시일 | J60: 참여종료일 | K60: 참여일 | M60: 평가종류 | N60: 사업종류
A61: 1 | B61: 대전노은지구 택지개발사업 영향평가 | C61: - OOOOOO | E61: LH | F61: 34645 | G61: 36522 | H61: =IF(G61-F61>=90,G61-F61,0) -> 1877 | I61: 34645 | J61: 36522 | K61: =IF(J61-I61>=30,J61-I61,0) -> 1877 | L61: =K61/H61 -> 1 | M61: 1 | N61: 0.6 | O61: =ROUND(L61*M61*N61,2) -> 0.6
A62: 2 | B62: 남양주마석지구 택지개발사업 영향평가 | C62: - OOOOOO | E62: LH | F62: 34692 | G62: 37063 | H62: =IF(G62-F62>=90,G62-F62,0) -> 2371 | I62: 34692 | J62: 36525 | K62: =IF(J62-I62>=30,J62-I62,0) -> 1833 | L62: =K62/H62 -> 0.77309152 | M62: 0.6 | N62: 0.6 | O62: =ROUND(L62*M62*N62,2) -> 0.28
A63: 3 | B63: 부천상동지구 택지개발사업 영향평가 | C63: - OOOOOO | E63: LH | F63: 34967 | G63: 36871 | H63: =IF(G63-F63>=90,G63-F63,0) -> 1904 | I63: 34967 | J63: 36871 | K63: =IF(J63-I63>=30,J63-I63,0) -> 1904 | L63: =K63/H63 -> 1 | M63: 1 | N63: 1 | O63: =ROUND(L63*M63*N63,2) -> 1
A64: 4 | B64: 용인죽전지구 택지개발사업 영향평가 | C64: - OOOOOO | E64: LH | F64: 36194 | G64: 37008 | H64: =IF(G64-F64>=90,G64-F64,0) -> 814 | I64: 36194 | J64: 37008 | K64: =IF(J64-I64>=30,J64-I64,0) -> 814 | L64: =K64/H64 -> 1 | M64: 0.6 | N64: 1 | O64: =ROUND(L64*M64*N64,2) -> 0.6
A65: 5 | B65: 의정부녹양지구 택지개발사업 영향평가용역 | C65: - OOOOOO | E65: LH | F65: 37369 | G65: 37954 | H65: =IF(G65-F65>=90,G65-F65,0) -> 585 | I65: 37369 | J65: 37954 | K65: =IF(J65-I65>=30,J65-I65,0) -> 585 | L65: =K65/H65 -> 1 | M65: 1 | N65: 0.6 | O65: =ROUND(L65*M65*N65,2) -> 0.6
A66: 7 | B66: 강동권역 도시개발사업 영향평가 | C66: - OOOOOO | E66: LH | F66: 37673 | G66: 38929 | H66: =IF(G66-F66>=90,G66-F66,0) -> 1256 | I66: 37673 | J66: 38929 | K66: =IF(J66-I66>=30,J66-I66,0) -> 1256 | L66: =K66/H66 -> 1 | M66: 0.6 | N66: 0.6 | O66: =ROUND(L66*M66*N66,2) -> 0.36
A67: 8 | B67: 남양주별내지구 택지개발사업 영향평가 | C67: - OOOOOO | E67: LH | F67: 38240 | G67: 39562 | H67: =IF(G67-F67>=90,G67-F67,0) -> 1322 | I67: 38240 | J67: 39562 | K67: =IF(J67-I67>=30,J67-I67,0) -> 1322 | L67: =K67/H67 -> 1 | M67: 1 | N67: 1 | O67: =ROUND(L67*M67*N67,2) -> 1
A68: 9 | B68: 아산배방지구 영향평가용역 | C68: - OOOOOO | E68: LH | F68: 38078 | G68: 38660 | H68: =IF(G68-F68>=90,G68-F68,0) -> 582 | I68: 38078 | J68: 38660 | K68: =IF(J68-I68>=30,J68-I68,0) -> 582 | L68: =K68/H68 -> 1 | M68: 0.6 | N68: 1 | O68: =ROUND(L68*M68*N68,2) -> 0.6
A69: 10 | B69: 청주성화2지구 택지개발사업 영향평가 | C69: - OOOOOO | E69: LH | F69: 38127 | G69: 38717 | H69: =IF(G69-F69>=90,G69-F69,0) -> 590 | I69: 38127 | J69: 38717 | K69: =IF(J69-I69>=30,J69-I69,0) -> 590 | L69: =K69/H69 -> 1 | M69: 1 | N69: 0.6 | O69: =ROUND(L69*M69*N69,2) -> 0.6
A70: 11 | B70: 인천삼산3지구 택지개발사업 영향평가 | C70: - OOOOOO | E70: LH | F70: 38098 | G70: 38717 | H70: =IF(G70-F70>=90,G70-F70,0) -> 619 | I70: 38098 | J70: 38656 | K70: =IF(J70-I70>=30,J70-I70,0) -> 558 | L70: =K70/H70 -> 0.90145396 | M70: 0.6 | N70: 0.6 | O70: =ROUND(L70*M70*N70,2) -> 0.32
A71: 12 | B71: 광명소하지구 택지개발사업 영향평가용역 | C71: - OOOOOO | E71: LH | F71: 37376 | G71: 38730 | H71: =IF(G71-F71>=90,G71-F71,0) -> 1354 | I71: 38472 | J71: 38730 | K71: =IF(J71-I71>=30,J71-I71,0) -> 258 | L71: =K71/H71 -> 0.19054653 | M71: 1 | N71: 1 | O71: =ROUND(L71*M71*N71,2) -> 0.19
A72: 13 | B72: 천안00국민임대주택단지예정지구 영향평가용역 | C72: - OOOOOO | E72: LH | F72: 38750 | G72: 39082 | H72: =IF(G72-F72>=90,G72-F72,0) -> 332 | I72: 38750 | J72: 39082 | K72: =IF(J72-I72>=30,J72-I72,0) -> 332 | L72: =K72/H72 -> 1 | M72: 0.6 | N72: 1 | O72: =ROUND(L72*M72*N72,2) -> 0.6
... A74: 16 | B74: 청주성화(2)지구 택지개발조성공사 영향평가용역 | C74: - OOOOOO | E74: LH | F74: 38834 | G74: 39482 | H74: =IF(G74-F74>=90,G74-F74,0) -> 648 | I74: 38834 | J74: 39482 | K74: =IF(J74-I74>=30,J74-I74,0) -> 648 | L74: =K74/H74 -> 1 | M74: 1 | N74: 1 | O74: =ROUND(L74*M74*N74,2) -> 1
A75: 총계 | O75: =SUM(O61:O74) -> 8.75
A77: =배점기준!C7 -> 0 | C77: 분야 책임평가자 | D77: 홍길동
A78: 번호 | B78: 참여용역명 | C78: 사업개요 | D78: 참여분야 | E78: 발주청 (발주자) | F78: 계약기간 | I78: 참여기간 | L78: 참여율 | M78: 실적계수 | O78: 적용 건수 | P78: 비고
F79: 착수일 | G79: 준공일 | H79: 용역일 | I79: 참여개시일 | J79: 참여종료일 | K79: 참여일 | M79: 평가종류 | N79: 사업종류
A80: 1 | B80: 대전노은지구 택지개발사업 영향평가 | C80: - OOOOOO | E80: LH | F80: 34645 | G80: 36522 | H80: =IF(G80-F80>=90,G80-F80,0) -> 1877 | I80: 34645 | J80: 36522 | K80: =IF(J80-I80>=30,J80-I80,0) -> 1877 | L80: =K80/H80 -> 1 | M80: 1 | N80: 0.6 | O80: =ROUND(L80*M80*N80,2) -> 0.6
A81: 2 | B81: 남양주마석지구 택지개발사업 영향평가 | C81: - OOOOOO | E81: LH | F81: 34692 | G81: 37063 | H81: =IF(G81-F81>=90,G81-F81,0) -> 2371 | I81: 34692 | J81: 36525 | K81: =IF(J81-I81>=30,J81-I81,0) -> 1833 | L81: =K81/H81 -> 0.77309152 | M81: 0.6 | N81: 0.6 | O81: =ROUND(L81*M81*N81,2) -> 0.28
A82: 3 | B82: 부천상동지구 택지개발사업 영향평가 | C82: - OOOOOO | E82: LH | F82: 34967 | G82: 36871 | H82: =IF(G82-F82>=90,G82-F82,0) -> 1904 | I82: 34967 | J82: 36871 | K82: =IF(J82-I82>=30,J82-I82,0) -> 1904 | L82: =K82/H82 -> 1 | M82: 1 | N82: 1 | O82: =ROUND(L82*M82*N82,2) -> 1
A83: 4 | B83: 용인죽전지구 택지개발사업 영향평가 | C83: - OOOOOO | E83: LH | F83: 36194 | G83: 37008 | H83: =IF(G83-F83>=90,G83-F83,0) -> 814 | I83: 36194 | J83: 37008 | K83: =IF(J83-I83>=30,J83-I83,0) -> 814 | L83: =K83/H83 -> 1 | M83: 0.6 | N83: 1 | O83: =ROUND(L83*M83*N83,2) -> 0.6
A84: 5 | B84: 의정부녹양지구 택지개발사업 영향평가용역 | C84: - OOOOOO | E84: LH | F84: 37369 | G84: 37954 | H84: =IF(G84-F84>=90,G84-F84,0) -> 585 | I84: 37369 | J84: 37954 | K84: =IF(J84-I84>=30,J84-I84,0) -> 585 | L84: =K84/H84 -> 1 | M84: 1 | N84: 0.6 | O84: =ROUND(L84*M84*N84,2) -> 0.6
A85: 7 | B85: 강동권역 도시개발사업 영향평가 | C85: - OOOOOO | E85: LH | F85: 37673 | G85: 38929 | H85: =IF(G85-F85>=90,G85-F85,0) -> 1256 | I85: 37673 | J85: 38929 | K85: =IF(J85-I85>=30,J85-I85,0) -> 1256 | L85: =K85/H85 -> 1 | M85: 0.6 | N85: 0.6 | O85: =ROUND(L85*M85*N85,2) -> 0.36
A86: 8 | B86: 남양주별내지구 택지개발사업 영향평가 | C86: - OOOOOO | E86: LH | F86: 38240 | G86: 39562 | H86: =IF(G86-F86>=90,G86-F86,0) -> 1322 | I86: 38240 | J86: 39562 | K86: =IF(J86-I86>=30,J86-I86,0) -> 1322 | L86: =K86/H86 -> 1 | M86: 1 | N86: 1 | O86: =ROUND(L86*M86*N86,2) -> 1
A87: 9 | B87: 아산배방지구 영향평가용역 | C87: - OOOOOO | E87: LH | F87: 38078 | G87: 38660 | H87: =IF(G87-F87>=90,G87-F87,0) -> 582 | I87: 38078 | J87: 38660 | K87: =IF(J87-I87>=30,J87-I87,0) -> 582 | L87: =K87/H87 -> 1 | M87: 0.6 | N87: 1 | O87: =ROUND(L87*M87*N87,2) -> 0.6
A88: 10 | B88: 청주성화2지구 택지개발사업 영향평가 | C88: - OOOOOO | E88: LH | F88: 38127 | G88: 38717 | H88: =IF(G88-F88>=90,G88-F88,0) -> 590 | I88: 38127 | J88: 38717 | K88: =IF(J88-I88>=30,J88-I88,0) -> 590 | L88: =K88/H88 -> 1 | M88: 1 | N88: 0.6 | O88: =ROUND(L88*M88*N88,2) -> 0.6
A89: 11 | B89: 인천삼산3지구 택지개발사업 영향평가 | C89: - OOOOOO | E89: LH | F89: 38098 | G89: 38717 | H89: =IF(G89-F89>=90,G89-F89,0) -> 619 | I89: 38098 | J89: 38656 | K89: =IF(J89-I89>=30,J89-I89,0) -> 558 | L89: =K89/H89 -> 0.90145396 | M89: 0.6 | N89: 0.6 | O89: =ROUND(L89*M89*N89,2) -> 0.32
A90: 12 | B90: 광명소하지구 택지개발사업 영향평가용역 | C90: - OOOOOO | E90: LH | F90: 37376 | G90: 38730 | H90: =IF(G90-F90>=90,G90-F90,0) -> 1354 | I90: 38472 | J90: 38730 | K90: =IF(J90-I90>=30,J90-I90,0) -> 258 | L90: =K90/H90 -> 0.19054653 | M90: 1 | N90: 1 | O90: =ROUND(L90*M90*N90,2) -> 0.19
A91: 13 | B91: 천안00국민임대주택단지예정지구 영향평가용역 | C91: - OOOOOO | E91: LH | F91: 38750 | G91: 39082 | H91: =IF(G91-F91>=90,G91-F91,0) -> 332 | I91: 38750 | J91: 39082 | K91: =IF(J91-I91>=30,J91-I91,0) -> 332 | L91: =K91/H91 -> 1 | M91: 0.6 | N91: 1 | O91: =ROUND(L91*M91*N91,2) -> 0.6
... A93: 16 | B93: 청주성화(2)지구 택지개발조성공사 영향평가용역 | C93: - OOOOOO | E93: LH | F93: 38834 | G93: 39482 | H93: =IF(G93-F93>=90,G93-F93,0) -> 648 | I93: 38834 | J93: 39482 | K93: =IF(J93-I93>=30,J93-I93,0) -> 648 | L93: =K93/H93 -> 1 | M93: 1 | N93: 1 | O93: =ROUND(L93*M93*N93,2) -> 1
A94: 총계 | O94: =SUM(O80:O93) -> 8.75
A96: =배점기준!C8 -> 0 | C96: 분야 책임평가자 | D96: 홍길동
A97: 번호 | B97: 참여용역명 | C97: 사업개요 | E97: 발주청 (발주자) | F97: 계약기간 | I97: 참여기간 | L97: 참여율 | M97: 실적계수 | O97: 적용 건수 | P97: 비고
F98: 착수일 | G98: 준공일 | H98: 용역일 | I98: 참여개시일 | J98: 참여종료일 | K98: 참여일 | M98: 평가종류 | N98: 사업종류
A99: 1 | B99: 대전노은지구 택지개발사업 영향평가 | C99: - OOOOOO | E99: LH | F99: 34645 | G99: 36522 | H99: =IF(G99-F99>=90,G99-F99,0) -> 1877 | I99: 34645 | J99: 36522 | K99: =IF(J99-I99>=30,J99-I99,0) -> 1877 | L99: =K99/H99 -> 1 | M99: 1 | N99: 0.6 | O99: =ROUND(L99*M99*N99,2) -> 0.6
A100: 2 | B100: 남양주마석지구 택지개발사업 영향평가 | C100: - OOOOOO | E100: LH | F100: 34692 | G100: 37063 | H100: =IF(G100-F100>=90,G100-F100,0) -> 2371 | I100: 34692 | J100: 36525 | K100: =IF(J100-I100>=30,J100-I100,0) -> 1833 | L100: =K100/H100 -> 0.77309152 | M100: 0.6 | N100: 0.6 | O100: =ROUND(L100*M100*N100,2) -> 0.28
A101: 3 | B101: 부천상동지구 택지개발사업 영향평가 | C101: - OOOOOO | E101: LH | F101: 34967 | G101: 36871 | H101: =IF(G101-F101>=90,G101-F101,0) -> 1904 | I101: 34967 | J101: 36871 | K101: =IF(J101-I101>=30,J101-I101,0) -> 1904 | L101: =K101/H101 -> 1 | M101: 1 | N101: 1 | O101: =ROUND(L101*M101*N101,2) -> 1
A102: 4 | B102: 용인죽전지구 택지개발사업 영향평가 | C102: - OOOOOO | E102: LH | F102: 36194 | G102: 37008 | H102: =IF(G102-F102>=90,G102-F102,0) -> 814 | I102: 36194 | J102: 37008 | K102: =IF(J102-I102>=30,J102-I102,0) -> 814 | L102: =K102/H102 -> 1 | M102: 0.6 | N102: 1 | O102: =ROUND(L102*M102*N102,2) -> 0.6
A103: 5 | B103: 의정부녹양지구 택지개발사업 영향평가용역 | C103: - OOOOOO | E103: LH | F103: 37369 | G103: 37954 | H103: =IF(G103-F103>=90,G103-F103,0) -> 585 | I103: 37369 | J103: 37954 | K103: =IF(J103-I103>=30,J103-I103,0) -> 585 | L103: =K103/H103 -> 1 | M103: 1 | N103: 0.6 | O103: =ROUND(L103*M103*N103,2) -> 0.6
A104: 7 | B104: 강동권역 도시개발사업 영향평가 | C104: - OOOOOO | E104: LH | F104: 37673 | G104: 38929 | H104: =IF(G104-F104>=90,G104-F104,0) -> 1256 | I104: 37673 | J104: 38929 | K104: =IF(J104-I104>=30,J104-I104,0) -> 1256 | L104: =K104/H104 -> 1 | M104: 0.6 | N104: 0.6 | O104: =ROUND(L104*M104*N104,2) -> 0.36
A105: 8 | B105: 남양주별내지구 택지개발사업 영향평가 | C105: - OOOOOO | E105: LH | F105: 38240 | G105: 39562 | H105: =IF(G105-F105>=90,G105-F105,0) -> 1322 | I105: 38240 | J105: 39562 | K105: =IF(J105-I105>=30,J105-I105,0) -> 1322 | L105: =K105/H105 -> 1 | M105: 1 | N105: 1 | O105: =ROUND(L105*M105*N105,2) -> 1
A106: 9 | B106: 아산배방지구 영향평가용역 | C106: - OOOOOO | E106: LH | F106: 38078 | G106: 38660 | H106: =IF(G106-F106>=90,G106-F106,0) -> 582 | I106: 38078 | J106: 38660 | K106: =IF(J106-I106>=30,J106-I106,0) -> 582 | L106: =K106/H106 -> 1 | M106: 0.6 | N106: 1 | O106: =ROUND(L106*M106*N106,2) -> 0.6
A107: 10 | B107: 청주성화2지구 택지개발사업 영향평가 | C107: - OOOOOO | E107: LH | F107: 38127 | G107: 38717 | H107: =IF(G107-F107>=90,G107-F107,0) -> 590 | I107: 38127 | J107: 38717 | K107: =IF(J107-I107>=30,J107-I107,0) -> 590 | L107: =K107/H107 -> 1 | M107: 1 | N107: 0.6 | O107: =ROUND(L107*M107*N107,2) -> 0.6
A108: 11 | B108: 인천삼산3지구 택지개발사업 영향평가 | C108: - OOOOOO | E108: LH | F108: 38098 | G108: 38717 | H108: =IF(G108-F108>=90,G108-F108,0) -> 619 | I108: 38098 | J108: 38656 | K108: =IF(J108-I108>=30,J108-I108,0) -> 558 | L108: =K108/H108 -> 0.90145396 | M108: 0.6 | N108: 0.6 | O108: =ROUND(L108*M108*N108,2) -> 0.32
A109: 12 | B109: 광명소하지구 택지개발사업 영향평가용역 | C109: - OOOOOO | E109: LH | F109: 37376 | G109: 38730 | H109: =IF(G109-F109>=90,G109-F109,0) -> 1354 | I109: 38472 | J109: 38730 | K109: =IF(J109-I109>=30,J109-I109,0) -> 258 | L109: =K109/H109 -> 0.19054653 | M109: 1 | N109: 1 | O109: =ROUND(L109*M109*N109,2) -> 0.19
...

Sheet 분야별실적
A1: =배점기준!$C$3 -> 대기관리 | C1: 분야 평가자 | D1: 아무개
A2: 번호 | B2: 참여용역명 | C2: 사업개요 | D2: 참여분야 | E2: 발주청 (발주자) | F2: 계약기간 | I2: 참여기간 | L2: 참여율 | M2: 실적계수 | O2: 적용 건수 | P2: 비고
F3: 착수일 | G3: 준공일 | H3: 용역일 | I3: 참여개시일 | J3: 참여종료일 | K3: 참여일 | M3: 평가종류 | N3: 사업종류
A4: 1 | B4: 대전노은지구 택지개발사업 영향평가 | C4: - OOOOOO | E4: LH | F4: 34645 | G4: 36522 | H4: =IF(G4-F4>=90,G4-F4,0) -> 1877 | I4: 34645 | J4: 36522 | K4: =IF(J4-I4>=30,J4-I4,0) -> 1877 | L4: =K4/H4 -> 1 | M4: 1 | N4: 1 | O4: =ROUND(L4*M4*N4,2) -> 1
A5: 2 | B5: 남양주마석지구 택지개발사업 영향평가 | C5: - OOOOOO | E5: LH | F5: 34692 | G5: 37063 | H5: =IF(G5-F5>=90,G5-F5,0) -> 2371 | I5: 34692 | J5: 36525 | K5: =IF(J5-I5>=30,J5-I5,0) -> 1833 | L5: =K5/H5 -> 0.77309152 | M5: 0.6 | N5: 0.6 | O5: =ROUND(L5*M5*N5,2) -> 0.28 | AA5: 분류
A6: 3 | B6: 부천상동지구 택지개발사업 영향평가 | C6: - OOOOOO | E6: LH | F6: 34967 | G6: 36871 | H6: =IF(G6-F6>=90,G6-F6,0) -> 1904 | I6: 34967 | J6: 36871 | K6: =IF(J6-I6>=30,J6-I6,0) -> 1904 | L6: =K6/H6 -> 1 | M6: 1 | N6: 1 | O6: =ROUND(L6*M6*N6,2) -> 1 | AA6: 1
A7: 4 | B7: 용인죽전지구 택지개발사업 영향평가 | C7: - OOOOOO | E7: LH | F7: 36194 | G7: 37008 | H7: =IF(G7-F7>=90,G7-F7,0) -> 814 | I7: 36194 | J7: 37008 | K7: =IF(J7-I7>=30,J7-I7,0) -> 814 | L7: =K7/H7 -> 1 | M7: 0.6 | N7: 1 | O7: =ROUND(L7*M7*N7,2) -> 0.6 | AA7: 0.6
A8: 5 | B8: 의정부녹양지구 택지개발사업 영향평가용역 | C8: - OOOOOO | E8: LH | F8: 37369 | G8: 37954 | H8: =IF(G8-F8>=90,G8-F8,0) -> 585 | I8: 37369 | J8: 37954 | K8: =IF(J8-I8>=30,J8-I8,0) -> 585 | L8: =K8/H8 -> 1 | M8: 1 | N8: 0.6 | O8: =ROUND(L8*M8*N8,2) -> 0.6
A9: 7 | B9: 강동권역 도시개발사업 영향평가 | C9: - OOOOOO | E9: LH | F9: 37673 | G9: 38929 | H9: =IF(G9-F9>=90,G9-F9,0) -> 1256 | I9: 37673 | J9: 38929 | K9: =IF(J9-I9>=30,J9-I9,0) -> 1256 | L9: =K9/H9 -> 1 | M9: 0.6 | N9: 0.6 | O9: =ROUND(L9*M9*N9,2) -> 0.36
A10: 8 | B10: 남양주별내지구 택지개발사업 영향평가 | C10: - OOOOOO | E10: LH | F10: 38240 | G10: 39562 | H10: =IF(G10-F10>=90,G10-F10,0) -> 1322 | I10: 38240 | J10: 39562 | K10: =IF(J10-I10>=30,J10-I10,0) -> 1322 | L10: =K10/H10 -> 1 | M10: 1 | N10: 1 | O10: =ROUND(L10*M10*N10,2) -> 1
A11: 9 | B11: 아산배방지구 영향평가용역 | C11: - OOOOOO | E11: LH | F11: 38078 | G11: 38660 | H11: =IF(G11-F11>=90,G11-F11,0) -> 582 | I11: 38078 | J11: 38660 | K11: =IF(J11-I11>=30,J11-I11,0) -> 582 | L11: =K11/H11 -> 1 | M11: 0.6 | N11: 1 | O11: =ROUND(L11*M11*N11,2) -> 0.6
A12: 10 | B12: 청주성화2지구 택지개발사업 영향평가 | C12: - OOOOOO | E12: LH | F12: 38127 | G12: 38717 | H12: =IF(G12-F12>=90,G12-F12,0) -> 590 | I12: 38127 | J12: 38717 | K12: =IF(J12-I12>=30,J12-I12,0) -> 590 | L12: =K12/H12 -> 1 | M12: 1 | N12: 0.6 | O12: =ROUND(L12*M12*N12,2) -> 0.6
A13: 11 | B13: 인천삼산3지구 택지개발사업 영향평가 | C13: - OOOOOO | E13: LH | F13: 38098 | G13: 38717 | H13: =IF(G13-F13>=90,G13-F13,0) -> 619 | I13: 38098 | J13: 38656 | K13: =IF(J13-I13>=30,J13-I13,0) -> 558 | L13: =K13/H13 -> 0.90145396 | M13: 0.6 | N13: 0.6 | O13: =ROUND(L13*M13*N13,2) -> 0.32
A14: 12 | B14: 광명소하지구 택지개발사업 영향평가용역 | C14: - OOOOOO | E14: LH | F14: 37376 | G14: 38730 | H14: =IF(G14-F14>=90,G14-F14,0) -> 1354 | I14: 38472 | J14: 38730 | K14: =IF(J14-I14>=30,J14-I14,0) -> 258 | L14: =K14/H14 -> 0.19054653 | M14: 1 | N14: 1 | O14: =ROUND(L14*M14*N14,2) -> 0.19
A15: 13 | B15: 천안00국민임대주택단지예정지구 영향평가용역 | C15: - OOOOOO | E15: LH | F15: 38750 | G15: 39082 | H15: =IF(G15-F15>=90,G15-F15,0) -> 332 | I15: 38750 | J15: 39082 | K15: =IF(J15-I15>=30,J15-I15,0) -> 332 | L15: =K15/H15 -> 1 | M15: 0.6 | N15: 1 | O15: =ROUND(L15*M15*N15,2) -> 0.6
A16: 15 | B16: 하남풍산지구 택지개발사업 영향평가 | C16: - OOOOOO | E16: LH | F16: 37435 | G16: 39414 | H16: =IF(G16-F16>=90,G16-F16,0) -> 1979 | I16: 37435 | J16: 39414 | K16: =IF(J16-I16>=30,J16-I16,0) -> 1979 | L16: =K16/H16 -> 1 | M16: 1 | N16: 1 | O16: =ROUND(L16*M16*N16,2) -> 1
A17: 16 | B17: 청주성화(2)지구 택지개발조성공사 영향평가용역 | C17: - OOOOOO | E17: LH | F17: 38834 | G17: 39482 | H17: =IF(G17-F17>=90,G17-F17,0) -> 648 | I17: 38834 | J17: 39482 | K17: =IF(J17-I17>=30,J17-I17,0) -> 648 | L17: =K17/H17 -> 1 | M17: 1 | N17: 1 | O17: =ROUND(L17*M17*N17,2) -> 1
A18: 총계 | O18: =SUM(O4:O17) -> 9.15
A20: =배점기준!C4 -> 수질관리 | C20: 분야 평가자 | D20: 아무개
A21: 번호 | B21: 참여용역명 | C21: 사업개요 | D21: 참여분야 | E21: 발주청 (발주자) | F21: 계약기간 | I21: 참여기간 | L21: 참여율 | M21: 실적계수 | O21: 적용 건수 | P21: 비고
F22: 착수일 | G22: 준공일 | H22: 용역일 | I22: 참여개시일 | J22: 참여종료일 | K22: 참여일 | M22: 평가종류 | N22: 사업종류
A23: 1 | B23: 대전노은지구 택지개발사업 영향평가 | C23: - OOOOOO | E23: LH | F23: 34645 | G23: 36522 | H23: =IF(G23-F23>=90,G23-F23,0) -> 1877 | I23: 34645 | J23: 36522 | K23: =IF(J23-I23>=30,J23-I23,0) -> 1877 | L23: =K23/H23 -> 1 | M23: 1 | N23: 0.6 | O23: =ROUND(L23*M23*N23,2) -> 0.6
A24: 2 | B24: 남양주마석지구 택지개발사업 영향평가 | C24: - OOOOOO | E24: LH | F24: 34692 | G24: 37063 | H24: =IF(G24-F24>=90,G24-F24,0) -> 2371 | I24: 34692 | J24: 36525 | K24: =IF(J24-I24>=30,J24-I24,0) -> 1833 | L24: =K24/H24 -> 0.77309152 | M24: 0.6 | N24: 0.6 | O24: =ROUND(L24*M24*N24,2) -> 0.28
A25: 3 | B25: 부천상동지구 택지개발사업 영향평가 | C25: - OOOOOO | E25: LH | F25: 34967 | G25: 36871 | H25: =IF(G25-F25>=90,G25-F25,0) -> 1904 | I25: 34967 | J25: 36871 | K25: =IF(J25-I25>=30,J25-I25,0) -> 1904 | L25: =K25/H25 -> 1 | M25: 1 | N25: 1 | O25: =ROUND(L25*M25*N25,2) -> 1
A26: 4 | B26: 용인죽전지구 택지개발사업 영향평가 | C26: - OOOOOO | E26: LH | F26: 36194 | G26: 37008 | H26: =IF(G26-F26>=90,G26-F26,0) -> 814 | I26: 36194 | J26: 37008 | K26: =IF(J26-I26>=30,J26-I26,0) -> 814 | L26: =K26/H26 -> 1 | M26: 0.6 | N26: 1 | O26: =ROUND(L26*M26*N26,2) -> 0.6
A27: 5 | B27: 의정부녹양지구 택지개발사업 영향평가용역 | C27: - OOOOOO | E27: LH | F27: 37369 | G27: 37954 | H27: =IF(G27-F27>=90,G27-F27,0) -> 585 | I27: 37369 | J27: 37954 | K27: =IF(J27-I27>=30,J27-I27,0) -> 585 | L27: =K27/H27 -> 1 | M27: 1 | N27: 0.6 | O27: =ROUND(L27*M27*N27,2) -> 0.6
A28: 7 | B28: 강동권역 도시개발사업 영향평가 | C28: - OOOOOO | E28: LH | F28: 37673 | G28: 38929 | H28: =IF(G28-F28>=90,G28-F28,0) -> 1256 | I28: 37673 | J28: 38929 | K28: =IF(J28-I28>=30,J28-I28,0) -> 1256 | L28: =K28/H28 -> 1 | M28: 0.6 | N28: 0.6 | O28: =ROUND(L28*M28*N28,2) -> 0.36
A29: 8 | B29: 남양주별내지구 택지개발사업 영향평가 | C29: - OOOOOO | E29: LH | F29: 38240 | G29: 39562 | H29: =IF(G29-F29>=90,G29-F29,0) -> 1322 | I29: 38240 | J29: 39562 | K29: =IF(J29-I29>=30,J29-I29,0) -> 1322 | L29: =K29/H29 -> 1 | M29: 1 | N29: 1 | O29: =ROUND(L29*M29*N29,2) -> 1
A30: 9 | B30: 아산배방지구 영향평가용역 | C30: - OOOOOO | E30: LH | F30: 38078 | G30: 38660 | H30: =IF(G30-F30>=90,G30-F30,0) -> 582 | I30: 38078 | J30: 38660 | K30: =IF(J30-I30>=30,J30-I30,0) -> 582 | L30: =K30/H30 -> 1 | M30: 0.6 | N30: 1 | O30: =ROUND(L30*M30*N30,2) -> 0.6
A31: 10 | B31: 청주성화2지구 택지개발사업 영향평가 | C31: - OOOOOO | E31: LH | F31: 38127 | G31: 38717 | H31: =IF(G31-F31>=90,G31-F31,0) -> 590 | I31: 38127 | J31: 38717 | K31: =IF(J31-I31>=30,J31-I31,0) -> 590 | L31: =K31/H31 -> 1 | M31: 1 | N31: 0.6 | O31: =ROUND(L31*M31*N31,2) -> 0.6
A32: 11 | B32: 인천삼산3지구 택지개발사업 영향평가 | C32: - OOOOOO | E32: LH | F32: 38098 | G32: 38717 | H32: =IF(G32-F32>=90,G32-F32,0) -> 619 | I32: 38098 | J32: 38656 | K32: =IF(J32-I32>=30,J32-I32,0) -> 558 | L32: =K32/H32 -> 0.90145396 | M32: 0.6 | N32: 0.6 | O32: =ROUND(L32*M32*N32,2) -> 0.32
A33: 12 | B33: 광명소하지구 택지개발사업 영향평가용역 | C33: - OOOOOO | E33: LH | F33: 37376 | G33: 38730 | H33: =IF(G33-F33>=90,G33-F33,0) -> 1354 | I33: 38472 | J33: 38730 | K33: =IF(J33-I33>=30,J33-I33,0) -> 258 | L33: =K33/H33 -> 0.19054653 | M33: 1 | N33: 1 | O33: =ROUND(L33*M33*N33,2) -> 0.19
A34: 13 | B34: 천안00국민임대주택단지예정지구 영향평가용역 | C34: - OOOOOO | E34: LH | F34: 38750 | G34: 39082 | H34: =IF(G34-F34>=90,G34-F34,0) -> 332 | I34: 38750 | J34: 39082 | K34: =IF(J34-I34>=30,J34-I34,0) -> 332 | L34: =K34/H34 -> 1 | M34: 0.6 | N34: 1 | O34: =ROUND(L34*M34*N34,2) -> 0.6
... A36: 16 | B36: 청주성화(2)지구 택지개발조성공사 영향평가용역 | C36: - OOOOOO | E36: LH | F36: 38834 | G36: 39482 | H36: =IF(G36-F36>=90,G36-F36,0) -> 648 | I36: 38834 | J36: 39482 | K36: =IF(J36-I36>=30,J36-I36,0) -> 648 | L36: =K36/H36 -> 1 | M36: 1 | N36: 1 | O36: =ROUND(L36*M36*N36,2) -> 1
A37: 총계 | O37: =SUM(O23:O36) -> 8.75
A39: =배점기준!C5 -> 소음진동 | C39: 분야 평가자 | D39: 아무개
A40: 번호 | B40: 참여용역명 | C40: 사업개요 | D40: 참여분야 | E40: 발주청 (발주자) | F40: 계약기간 | I40: 참여기간 | L40: 참여율 | M40: 실적계수 | O40: 적용 건수 | P40: 비고
F41: 착수일 | G41: 준공일 | H41: 용역일 | I41: 참여개시일 | J41: 참여종료일 | K41: 참여일 | M41: 평가종류 | N41: 사업종류
A42: 1 | B42: 대전노은지구 택지개발사업 영향평가 | C42: - OOOOOO | E42: LH | F42: 34645 | G42: 36522 | H42: =IF(G42-F42>=90,G42-F42,0) -> 1877 | I42: 34645 | J42: 36522 | K42: =IF(J42-I42>=30,J42-I42,0) -> 1877 | L42: =K42/H42 -> 1 | M42: 1 | N42: 0.6 | O42: =ROUND(L42*M42*N42,2) -> 0.6
A43: 2 | B43: 남양주마석지구 택지개발사업 영향평가 | C43: - OOOOOO | E43: LH | F43: 34692 | G43: 37063 | H43: =IF(G43-F43>=90,G43-F43,0) -> 2371 | I43: 34692 | J43: 36525 | K43: =IF(J43-I43>=30,J43-I43,0) -> 1833 | L43: =K43/H43 -> 0.77309152 | M43: 0.6 | N43: 0.6 | O43: =ROUND(L43*M43*N43,2) -> 0.28
A44: 3 | B44: 부천상동지구 택지개발사업 영향평가 | C44: - OOOOOO | E44: LH | F44: 34967 | G44: 36871 | H44: =IF(G44-F44>=90,G44-F44,0) -> 1904 | I44: 34967 | J44: 36871 | K44: =IF(J44-I44>=30,J44-I44,0) -> 1904 | L44: =K44/H44 -> 1 | M44: 1 | N44: 1 | O44: =ROUND(L44*M44*N44,2) -> 1
A45: 4 | B45: 용인죽전지구 택지개발사업 영향평가 | C45: - OOOOOO | E45: LH | F45: 36194 | G45: 37008 | H45: =IF(G45-F45>=90,G45-F45,0) -> 814 | I45: 36194 | J45: 37008 | K45: =IF(J45-I45>=30,J45-I45,0) -> 814 | L45: =K45/H45 -> 1 | M45: 0.6 | N45: 1 | O45: =ROUND(L45*M45*N45,2) -> 0.6
A46: 5 | B46: 의정부녹양지구 택지개발사업 영향평가용역 | C46: - OOOOOO | E46: LH | F46: 37369 | G46: 37954 | H46: =IF(G46-F46>=90,G46-F46,0) -> 585 | I46: 37369 | J46: 37954 | K46: =IF(J46-I46>=30,J46-I46,0) -> 585 | L46: =K46/H46 -> 1 | M46: 1 | N46: 0.6 | O46: =ROUND(L46*M46*N46,2) -> 0.6
A47: 7 | B47: 강동권역 도시개발사업 영향평가 | C47: - OOOOOO | E47: LH | F47: 37673 | G47: 38929 | H47: =IF(G47-F47>=90,G47-F47,0) -> 1256 | I47: 37673 | J47: 38929 | K47: =IF(J47-I47>=30,J47-I47,0) -> 1256 | L47: =K47/H47 -> 1 | M47: 0.6 | N47: 0.6 | O47: =ROUND(L47*M47*N47,2) -> 0.36
A48: 8 | B48: 남양주별내지구 택지개발사업 영향평가 | C48: - OOOOOO | E48: LH | F48: 38240 | G48: 39562 | H48: =IF(G48-F48>=90,G48-F48,0) -> 1322 | I48: 38240 | J48: 39562 | K48: =IF(J48-I48>=30,J48-I48,0) -> 1322 | L48: =K48/H48 -> 1 | M48: 1 | N48: 1 | O48: =ROUND(L48*M48*N48,2) -> 1
A49: 9 | B49: 아산배방지구 영향평가용역 | C49: - OOOOOO | E49: LH | F49: 38078 | G49: 38660 | H49: =IF(G49-F49>=90,G49-F49,0) -> 582 | I49: 38078 | J49: 38660 | K49: =IF(J49-I49>=30,J49-I49,0) -> 582 | L49: =K49/H49 -> 1 | M49: 0.6 | N49: 1 | O49: =ROUND(L49*M49*N49,2) -> 0.6
A50: 10 | B50: 청주성화2지구 택지개발사업 영향평가 | C50: - OOOOOO | E50: LH | F50: 38127 | G50: 38717 | H50: =IF(G50-F50>=90,G50-F50,0) -> 590 | I50: 38127 | J50: 38717 | K50: =IF(J50-I50>=30,J50-I50,0) -> 590 | L50: =K50/H50 -> 1 | M50: 1 | N50: 0.6 | O50: =ROUND(L50*M50*N50,2) -> 0.6
A51: 11 | B51: 인천삼산3지구 택지개발사업 영향평가 | C51: - OOOOOO | E51: LH | F51: 38098 | G51: 38717 | H51: =IF(G51-F51>=90,G51-F51,0) -> 619 | I51: 38098 | J51: 38656 | K51: =IF(J51-I51>=30,J51-I51,0) -> 558 | L51: =K51/H51 -> 0.90145396 | M51: 0.6 | N51: 0.6 | O51: =ROUND(L51*M51*N51,2) -> 0.32
A52: 12 | B52: 광명소하지구 택지개발사업 영향평가용역 | C52: - OOOOOO | E52: LH | F52: 37376 | G52: 38730 | H52: =IF(G52-F52>=90,G52-F52,0) -> 1354 | I52: 38472 | J52: 38730 | K52: =IF(J52-I52>=30,J52-I52,0) -> 258 | L52: =K52/H52 -> 0.19054653 | M52: 1 | N52: 1 | O52: =ROUND(L52*M52*N52,2) -> 0.19
A53: 13 | B53: 천안00국민임대주택단지예정지구 영향평가용역 | C53: - OOOOOO | E53: LH | F53: 38750 | G53: 39082 | H53: =IF(G53-F53>=90,G53-F53,0) -> 332 | I53: 38750 | J53: 39082 | K53: =IF(J53-I53>=30,J53-I53,0) -> 332 | L53: =K53/H53 -> 1 | M53: 0.6 | N53: 1 | O53: =ROUND(L53*M53*N53,2) -> 0.6
... A55: 16 | B55: 청주성화(2)지구 택지개발조성공사 영향평가용역 | C55: - OOOOOO | E55: LH | F55: 38834 | G55: 39482 | H55: =IF(G55-F55>=90,G55-F55,0) -> 648 | I55: 38834 | J55: 39482 | K55: =IF(J55-I55>=30,J55-I55,0) -> 648 | L55: =K55/H55 -> 1 | M55: 1 | N55: 1 | O55: =ROUND(L55*M55*N55,2) -> 1
A56: 총계 | O56: =SUM(O42:O55) -> 8.75
A58: =배점기준!C6 -> 폐기물처리 | C58: 분야 평가자 | D58: 아무개
A59: 번호 | B59: 참여용역명 | C59: 사업개요 | D59: 참여분야 | E59: 발주청 (발주자) | F59: 계약기간 | I59: 참여기간 | L59: 참여율 | M59: 실적계수 | O59: 적용 건수 | P59: 비고
F60: 착수일 | G60: 준공일 | H60: 용역일 | I60: 참여개시일 | J60: 참여종료일 | K60: 참여일 | M60: 평가종류 | N60: 사업종류
A61: 1 | B61: 대전노은지구 택지개발사업 영향평가 | C61: - OOOOOO | E61: LH | F61: 34645 | G61: 36522 | H61: =IF(G61-F61>=90,G61-F61,0) -> 1877 | I61: 34645 | J61: 36522 | K61: =IF(J61-I61>=30,J61-I61,0) -> 1877 | L61: =K61/H61 -> 1 | M61: 1 | N61: 0.6 | O61: =ROUND(L61*M61*N61,2) -> 0.6
A62: 2 | B62: 남양주마석지구 택지개발사업 영향평가 | C62: - OOOOOO | E62: LH | F62: 34692 | G62: 37063 | H62: =IF(G62-F62>=90,G62-F62,0) -> 2371 | I62: 34692 | J62: 36525 | K62: =IF(J62-I62>=30,J62-I62,0) -> 1833 | L62: =K62/H62 -> 0.77309152 | M62: 0.6 | N62: 0.6 | O62: =ROUND(L62*M62*N62,2) -> 0.28
A63: 3 | B63: 부천상동지구 택지개발사업 영향평가 | C63: - OOOOOO | E63: LH | F63: 34967 | G63: 36871 | H63: =IF(G63-F63>=90,G63-F63,0) -> 1904 | I63: 34967 | J63: 36871 | K63: =IF(J63-I63>=30,J63-I63,0) -> 1904 | L63: =K63/H63 -> 1 | M63: 1 | N63: 1 | O63: =ROUND(L63*M63*N63,2) -> 1
A64: 4 | B64: 용인죽전지구 택지개발사업 영향평가 | C64: - OOOOOO | E64: LH | F64: 36194 | G64: 37008 | H64: =IF(G64-F64>=90,G64-F64,0) -> 814 | I64: 36194 | J64: 37008 | K64: =IF(J64-I64>=30,J64-I64,0) -> 814 | L64: =K64/H64 -> 1 | M64: 0.6 | N64: 1 | O64: =ROUND(L64*M64*N64,2) -> 0.6
A65: 5 | B65: 의정부녹양지구 택지개발사업 영향평가용역 | C65: - OOOOOO | E65: LH | F65: 37369 | G65: 37954 | H65: =IF(G65-F65>=90,G65-F65,0) -> 585 | I65: 37369 | J65: 37954 | K65: =IF(J65-I65>=30,J65-I65,0) -> 585 | L65: =K65/H65 -> 1 | M65: 1 | N65: 0.6 | O65: =ROUND(L65*M65*N65,2) -> 0.6
A66: 7 | B66: 강동권역 도시개발사업 영향평가 | C66: - OOOOOO | E66: LH | F66: 37673 | G66: 38929 | H66: =IF(G66-F66>=90,G66-F66,0) -> 1256 | I66: 37673 | J66: 38929 | K66: =IF(J66-I66>=30,J66-I66,0) -> 1256 | L66: =K66/H66 -> 1 | M66: 0.6 | N66: 0.6 | O66: =ROUND(L66*M66*N66,2) -> 0.36
A67: 8 | B67: 남양주별내지구 택지개발사업 영향평가 | C67: - OOOOOO | E67: LH | F67: 38240 | G67: 39562 | H67: =IF(G67-F67>=90,G67-F67,0) -> 1322 | I67: 38240 | J67: 39562 | K67: =IF(J67-I67>=30,J67-I67,0) -> 1322 | L67: =K67/H67 -> 1 | M67: 1 | N67: 1 | O67: =ROUND(L67*M67*N67,2) -> 1
A68: 9 | B68: 아산배방지구 영향평가용역 | C68: - OOOOOO | E68: LH | F68: 38078 | G68: 38660 | H68: =IF(G68-F68>=90,G68-F68,0) -> 582 | I68: 38078 | J68: 38660 | K68: =IF(J68-I68>=30,J68-I68,0) -> 582 | L68: =K68/H68 -> 1 | M68: 0.6 | N68: 1 | O68: =ROUND(L68*M68*N68,2) -> 0.6
A69: 10 | B69: 청주성화2지구 택지개발사업 영향평가 | C69: - OOOOOO | E69: LH | F69: 38127 | G69: 38717 | H69: =IF(G69-F69>=90,G69-F69,0) -> 590 | I69: 38127 | J69: 38717 | K69: =IF(J69-I69>=30,J69-I69,0) -> 590 | L69: =K69/H69 -> 1 | M69: 1 | N69: 0.6 | O69: =ROUND(L69*M69*N69,2) -> 0.6
A70: 11 | B70: 인천삼산3지구 택지개발사업 영향평가 | C70: - OOOOOO | E70: LH | F70: 38098 | G70: 38717 | H70: =IF(G70-F70>=90,G70-F70,0) -> 619 | I70: 38098 | J70: 38656 | K70: =IF(J70-I70>=30,J70-I70,0) -> 558 | L70: =K70/H70 -> 0.90145396 | M70: 0.6 | N70: 0.6 | O70: =ROUND(L70*M70*N70,2) -> 0.32
A71: 12 | B71: 광명소하지구 택지개발사업 영향평가용역 | C71: - OOOOOO | E71: LH | F71: 37376 | G71: 38730 | H71: =IF(G71-F71>=90,G71-F71,0) -> 1354 | I71: 38472 | J71: 38730 | K71: =IF(J71-I71>=30,J71-I71,0) -> 258 | L71: =K71/H71 -> 0.19054653 | M71: 1 | N71: 1 | O71: =ROUND(L71*M71*N71,2) -> 0.19
A72: 13 | B72: 천안00국민임대주택단지예정지구 영향평가용역 | C72: - OOOOOO | E72: LH | F72: 38750 | G72: 39082 | H72: =IF(G72-F72>=90,G72-F72,0) -> 332 | I72: 38750 | J72: 39082 | K72: =IF(J72-I72>=30,J72-I72,0) -> 332 | L72: =K72/H72 -> 1 | M72: 0.6 | N72: 1 | O72: =ROUND(L72*M72*N72,2) -> 0.6
... A74: 16 | B74: 청주성화(2)지구 택지개발조성공사 영향평가용역 | C74: - OOOOOO | E74: LH | F74: 38834 | G74: 39482 | H74: =IF(G74-F74>=90,G74-F74,0) -> 648 | I74: 38834 | J74: 39482 | K74: =IF(J74-I74>=30,J74-I74,0) -> 648 | L74: =K74/H74 -> 1 | M74: 1 | N74: 1 | O74: =ROUND(L74*M74*N74,2) -> 1
A75: 총계 | O75: =SUM(O61:O74) -> 8.75
A77: =배점기준!C7 -> 0 | C77: 분야 평가자 | D77: 아무개
A78: 번호 | B78: 참여용역명 | C78: 사업개요 | D78: 참여분야 | E78: 발주청 (발주자) | F78: 계약기간 | I78: 참여기간 | L78: 참여율 | M78: 실적계수 | O78: 적용 건수 | P78: 비고
F79: 착수일 | G79: 준공일 | H79: 용역일 | I79: 참여개시일 | J79: 참여종료일 | K79: 참여일 | M79: 평가종류 | N79: 사업종류
A80: 1 | B80: 대전노은지구 택지개발사업 영향평가 | C80: - OOOOOO | E80: LH | F80: 34645 | G80: 36522 | H80: =IF(G80-F80>=90,G80-F80,0) -> 1877 | I80: 34645 | J80: 36522 | K80: =IF(J80-I80>=30,J80-I80,0) -> 1877 | L80: =K80/H80 -> 1 | M80: 1 | N80: 0.6 | O80: =ROUND(L80*M80*N80,2) -> 0.6
A81: 2 | B81: 남양주마석지구 택지개발사업 영향평가 | C81: - OOOOOO | E81: LH | F81: 34692 | G81: 37063 | H81: =IF(G81-F81>=90,G81-F81,0) -> 2371 | I81: 34692 | J81: 36525 | K81: =IF(J81-I81>=30,J81-I81,0) -> 1833 | L81: =K81/H81 -> 0.77309152 | M81: 0.6 | N81: 0.6 | O81: =ROUND(L81*M81*N81,2) -> 0.28
A82: 3 | B82: 부천상동지구 택지개발사업 영향평가 | C82: - OOOOOO | E82: LH | F82: 34967 | G82: 36871 | H82: =IF(G82-F82>=90,G82-F82,0) -> 1904 | I82: 34967 | J82: 36871 | K82: =IF(J82-I82>=30,J82-I82,0) -> 1904 | L82: =K82/H82 -> 1 | M82: 1 | N82: 1 | O82: =ROUND(L82*M82*N82,2) -> 1
A83: 4 | B83: 용인죽전지구 택지개발사업 영향평가 | C83: - OOOOOO | E83: LH | F83: 36194 | G83: 37008 | H83: =IF(G83-F83>=90,G83-F83,0) -> 814 | I83: 36194 | J83: 37008 | K83: =IF(J83-I83>=30,J83-I83,0) -> 814 | L83: =K83/H83 -> 1 | M83: 0.6 | N83: 1 | O83: =ROUND(L83*M83*N83,2) -> 0.6
A84: 5 | B84: 의정부녹양지구 택지개발사업 영향평가용역 | C84: - OOOOOO | E84: LH | F84: 37369 | G84: 37954 | H84: =IF(G84-F84>=90,G84-F84,0) -> 585 | I84: 37369 | J84: 37954 | K84: =IF(J84-I84>=30,J84-I84,0) -> 585 | L84: =K84/H84 -> 1 | M84: 1 | N84: 0.6 | O84: =ROUND(L84*M84*N84,2) -> 0.6
A85: 7 | B85: 강동권역 도시개발사업 영향평가 | C85: - OOOOOO | E85: LH | F85: 37673 | G85: 38929 | H85: =IF(G85-F85>=90,G85-F85,0) -> 1256 | I85: 37673 | J85: 38929 | K85: =IF(J85-I85>=30,J85-I85,0) -> 1256 | L85: =K85/H85 -> 1 | M85: 0.6 | N85: 0.6 | O85: =ROUND(L85*M85*N85,2) -> 0.36
A86: 8 | B86: 남양주별내지구 택지개발사업 영향평가 | C86: - OOOOOO | E86: LH | F86: 38240 | G86: 39562 | H86: =IF(G86-F86>=90,G86-F86,0) -> 1322 | I86: 38240 | J86: 39562 | K86: =IF(J86-I86>=30,J86-I86,0) -> 1322 | L86: =K86/H86 -> 1 | M86: 1 | N86: 1 | O86: =ROUND(L86*M86*N86,2) -> 1
A87: 9 | B87: 아산배방지구 영향평가용역 | C87: - OOOOOO | E87: LH | F87: 38078 | G87: 38660 | H87: =IF(G87-F87>=90,G87-F87,0) -> 582 | I87: 38078 | J87: 38660 | K87: =IF(J87-I87>=30,J87-I87,0) -> 582 | L87: =K87/H87 -> 1 | M87: 0.6 | N87: 1 | O87: =ROUND(L87*M87*N87,2) -> 0.6
A88: 10 | B88: 청주성화2지구 택지개발사업 영향평가 | C88: - OOOOOO | E88: LH | F88: 38127 | G88: 38717 | H88: =IF(G88-F88>=90,G88-F88,0) -> 590 | I88: 38127 | J88: 38717 | K88: =IF(J88-I88>=30,J88-I88,0) -> 590 | L88: =K88/H88 -> 1 | M88: 1 | N88: 0.6 | O88: =ROUND(L88*M88*N88,2) -> 0.6
A89: 11 | B89: 인천삼산3지구 택지개발사업 영향평가 | C89: - OOOOOO | E89: LH | F89: 38098 | G89: 38717 | H89: =IF(G89-F89>=90,G89-F89,0) -> 619 | I89: 38098 | J89: 38656 | K89: =IF(J89-I89>=30,J89-I89,0) -> 558 | L89: =K89/H89 -> 0.90145396 | M89: 0.6 | N89: 0.6 | O89: =ROUND(L89*M89*N89,2) -> 0.32
A90: 12 | B90: 광명소하지구 택지개발사업 영향평가용역 | C90: - OOOOOO | E90: LH | F90: 37376 | G90: 38730 | H90: =IF(G90-F90>=90,G90-F90,0) -> 1354 | I90: 38472 | J90: 38730 | K90: =IF(J90-I90>=30,J90-I90,0) -> 258 | L90: =K90/H90 -> 0.19054653 | M90: 1 | N90: 1 | O90: =ROUND(L90*M90*N90,2) -> 0.19
A91: 13 | B91: 천안00국민임대주택단지예정지구 영향평가용역 | C91: - OOOOOO | E91: LH | F91: 38750 | G91: 39082 | H91: =IF(G91-F91>=90,G91-F91,0) -> 332 | I91: 38750 | J91: 39082 | K91: =IF(J91-I91>=30,J91-I91,0) -> 332 | L91: =K91/H91 -> 1 | M91: 0.6 | N91: 1 | O91: =ROUND(L91*M91*N91,2) -> 0.6
... A93: 16 | B93: 청주성화(2)지구 택지개발조성공사 영향평가용역 | C93: - OOOOOO | E93: LH | F93: 38834 | G93: 39482 | H93: =IF(G93-F93>=90,G93-F93,0) -> 648 | I93: 38834 | J93: 39482 | K93: =IF(J93-I93>=30,J93-I93,0) -> 648 | L93: =K93/H93 -> 1 | M93: 1 | N93: 1 | O93: =ROUND(L93*M93*N93,2) -> 1
A94: 총계 | O94: =SUM(O80:O93) -> 8.75
A96: =배점기준!C8 -> 0 | C96: 분야 평가자 | D96: 아무개
A97: 번호 | B97: 참여용역명 | C97: 사업개요 | D97: 참여분야 | E97: 발주청 (발주자) | F97: 계약기간 | I97: 참여기간 | L97: 참여율 | M97: 실적계수 | O97: 적용 건수 | P97: 비고
F98: 착수일 | G98: 준공일 | H98: 용역일 | I98: 참여개시일 | J98: 참여종료일 | K98: 참여일 | M98: 평가종류 | N98: 사업종류
A99: 1 | B99: 대전노은지구 택지개발사업 영향평가 | C99: - OOOOOO | E99: LH | F99: 34645 | G99: 36522 | H99: =IF(G99-F99>=90,G99-F99,0) -> 1877 | I99: 34645 | J99: 36522 | K99: =IF(J99-I99>=30,J99-I99,0) -> 1877 | L99: =K99/H99 -> 1 | M99: 1 | N99: 0.6 | O99: =ROUND(L99*M99*N99,2) -> 0.6
A100: 2 | B100: 남양주마석지구 택지개발사업 영향평가 | C100: - OOOOOO | E100: LH | F100: 34692 | G100: 37063 | H100: =IF(G100-F100>=90,G100-F100,0) -> 2371 | I100: 34692 | J100: 36525 | K100: =IF(J100-I100>=30,J100-I100,0) -> 1833 | L100: =K100/H100 -> 0.77309152 | M100: 0.6 | N100: 0.6 | O100: =ROUND(L100*M100*N100,2) -> 0.28
A101: 3 | B101: 부천상동지구 택지개발사업 영향평가 | C101: - OOOOOO | E101: LH | F101: 34967 | G101: 36871 | H101: =IF(G101-F101>=90,G101-F101,0) -> 1904 | I101: 34967 | J101: 36871 | K101: =IF(J101-I101>=30,J101-I101,0) -> 1904 | L101: =K101/H101 -> 1 | M101: 1 | N101: 1 | O101: =ROUND(L101*M101*N101,2) -> 1
A102: 4 | B102: 용인죽전지구 택지개발사업 영향평가 | C102: - OOOOOO | E102: LH | F102: 36194 | G102: 37008 | H102: =IF(G102-F102>=90,G102-F102,0) -> 814 | I102: 36194 | J102: 37008 | K102: =IF(J102-I102>=30,J102-I102,0) -> 814 | L102: =K102/H102 -> 1 | M102: 0.6 | N102: 1 | O102: =ROUND(L102*M102*N102,2) -> 0.6
A103: 5 | B103: 의정부녹양지구 택지개발사업 영향평가용역 | C103: - OOOOOO | E103: LH | F103: 37369 | G103: 37954 | H103: =IF(G103-F103>=90,G103-F103,0) -> 585 | I103: 37369 | J103: 37954 | K103: =IF(J103-I103>=30,J103-I103,0) -> 585 | L103: =K103/H103 -> 1 | M103: 1 | N103: 0.6 | O103: =ROUND(L103*M103*N103,2) -> 0.6
A104: 7 | B104: 강동권역 도시개발사업 영향평가 | C104: - OOOOOO | E104: LH | F104: 37673 | G104: 38929 | H104: =IF(G104-F104>=90,G104-F104,0) -> 1256 | I104: 37673 | J104: 38929 | K104: =IF(J104-I104>=30,J104-I104,0) -> 1256 | L104: =K104/H104 -> 1 | M104: 0.6 | N104: 0.6 | O104: =ROUND(L104*M104*N104,2) -> 0.36
A105: 8 | B105: 남양주별내지구 택지개발사업 영향평가 | C105: - OOOOOO | E105: LH | F105: 38240 | G105: 39562 | H105: =IF(G105-F105>=90,G105-F105,0) -> 1322 | I105: 38240 | J105: 39562 | K105: =IF(J105-I105>=30,J105-I105,0) -> 1322 | L105: =K105/H105 -> 1 | M105: 1 | N105: 1 | O105: =ROUND(L105*M105*N105,2) -> 1
A106: 9 | B106: 아산배방지구 영향평가용역 | C106: - OOOOOO | E106: LH | F106: 38078 | G106: 38660 | H106: =IF(G106-F106>=90,G106-F106,0) -> 582 | I106: 38078 | J106: 38660 | K106: =IF(J106-I106>=30,J106-I106,0) -> 582 | L106: =K106/H106 -> 1 | M106: 0.6 | N106: 1 | O106: =ROUND(L106*M106*N106,2) -> 0.6
A107: 10 | B107: 청주성화2지구 택지개발사업 영향평가 | C107: - OOOOOO | E107: LH | F107: 38127 | G107: 38717 | H107: =IF(G107-F107>=90,G107-F107,0) -> 590 | I107: 38127 | J107: 38717 | K107: =IF(J107-I107>=30,J107-I107,0) -> 590 | L107: =K107/H107 -> 1 | M107: 1 | N107: 0.6 | O107: =ROUND(L107*M107*N107,2) -> 0.6
A108: 11 | B108: 인천삼산3지구 택지개발사업 영향평가 | C108: - OOOOOO | E108: LH | F108: 38098 | G108: 38717 | H108: =IF(G108-F108>=90,G108-F108,0) -> 619 | I108: 38098 | J108: 38656 | K108: =IF(J108-I108>=30,J108-I108,0) -> 558 | L108: =K108/H108 -> 0.90145396 | M108: 0.6 | N108: 0.6 | O108: =ROUND(L108*M108*N108,2) -> 0.32
A109: 12 | B109: 광명소하지구 택지개발사업 영향평가용역 | C109: - OOOOOO | E109: LH | F109: 37376 | G109: 38730 | H109: =IF(G109-F109>=90,G109-F109,0) -> 1354 | I109: 38472 | J109: 38730 | K109: =IF(J109-I109>=30,J109-I109,0) -> 258 | L109: =K109/H109 -> 0.19054653 | M109: 1 | N109: 1 | O109: =ROUND(L109*M109*N109,2) -> 0.19
...

Sheet 업무여유도
A1: 업무여유도 (17점)
B2: □ 총괄평가자(4점)
C3: =배점기준!B13 -> 총괄평가자 | E3: 홍길동
B4: 번호 | C4: 참여용역명 | E4: 참여용역 | G4: 계약기간 (일) | H4: 계약금액 (백만원) | I4: 잔여기간 (일) | J4: 1인당 중복금액 (백만원) | K4: 용역중지일 | L4: 중지사유 | M4: 입찰공고일
E5: 착수일 | F5: 준공일 | M5: =배점기준!$H$2 -> 42039
B6: 1 | C6: 0000 개발사업 환경영향평가용역 | E6: 42018 | F6: 42323 | G6: =F6-E6+1 -> 306 | H6: 440 | I6: =IF((F6-M5)>=365,365,(F6-M5)) -> 284 | J6: =ROUND((H6*(I6/G6)/10),0) -> 41
B7: 2 | C7: 00000 특화농공단지 기본 및 실시설계용역 | E7: 42040 | F7: 42347 | G7: =F7-E7+1 -> 308 | H7: 403 | I7: =IF((F7-M6)>=365,365,(F7-M6)) -> 365 | J7: =ROUND((H7*(I7/G7)/10),0) -> 48
B8: 3 | C8: 00000 개발사업 개발사업 조사설계용역 | E8: 42018 | F8: 42323 | G8: =F8-E8+1 -> 306 | H8: 440 | I8: =IF((F8-M7)>=365,365,(F8-M7)) -> 365 | J8: =ROUND((H8*(I8/G8)/10),0) -> 52
B9: 합 계 | J9: =(SUM(J6:J8))/100 -> 1.41 | K9: =IF((J9-2.5)>=0,(J9-2.5),0) -> 0
B11: □ 분야별 책임기술자(7점)
C12: =배점기준!$C$3 -> 대기관리 | D12: 분야 책임평가자 | E12: 김철수
B13: 번호 | C13: 참여용역명 | E13: 참여용역 | G13: 계약기간 (일) | H13: 계약금액 (백만원) | I13: 잔여기간 (일) | J13: 1인당 중복금액 (백만원) | K13: 용역중지일 | L13: 중지사유 | M13: 입찰공고일
E14: 착수일 | F14: 준공일 | M14: =배점기준!$H$2 -> 42039
B15: 1 | C15: 0000 개발사업 환경영향평가용역 | E15: 42018 | F15: 42323 | G15: =F15-E15+1 -> 306 | H15: 440 | I15: =IF((F15-M14)>=365,365,(F15-M14)) -> 284 | J15: =ROUND((H15*(I15/G15)/10),0) -> 41
B16: 2 | C16: 00000 특화농공단지 기본 및 실시설계용역 | E16: 42040 | F16: 42347 | G16: =F16-E16+1 -> 308 | H16: 403 | I16: =IF((F16-M15)>=365,365,(F16-M15)) -> 365 | J16: =ROUND((H16*(I16/G16)/10),0) -> 48
B17: 3 | C17: 00000 개발사업 개발사업 조사설계용역 | E17: 42018 | F17: 42323 | G17: =F17-E17+1 -> 306 | H17: 440 | I17: =IF((F17-M16)>=365,365,(F17-M16)) -> 365 | J17: =ROUND((H17*(I17/G17)/10),0) -> 52
B18: 합 계 | J18: =(SUM(J15:J17))/100 -> 1.41 | K18: =IF((J18-2.5)>=0,(J18-2.5),0) -> 0
C20: =배점기준!$C$4 -> 수질관리 | D20: 분야 책임평가자 | E20: 박나리
B21: 번호 | C21: 참여용역명 | E21: 참여용역 | G21: 계약기간 (일) | H21: 계약금액 (백만원) | I21: 잔여기간 (일) | J21: 1인당 중복금액 (백만원) | K21: 용역중지일 | L21: 중지사유 | M21: 입찰공고일
E22: 착수일 | F22: 준공일 | M22: =배점기준!$H$2 -> 42039
B23: 1 | C23: 청라국제도시 친환경복합단지 개발사업 실시설계용역 | E23: 42018 | F23: 42323 | G23: =F23-E23+1 -> 306 | H23: 440 | I23: =IF((F23-M22)>=365,365,(F23-M22)) -> 284 | J23: =ROUND((H23*(I23/G23)/10),0) -> 41
B24: 2 | C24: 무안군 신규 특화농공단지 기본 및 실시설계용역 | E24: 42040 | F24: 42347 | G24: =F24-E24+1 -> 308 | H24: 403 | I24: =IF((F24-M23)>=365,365,(F24-M23)) -> 365 | J24: =ROUND((H24*(I24/G24)/10),0) -> 48
B25: 3 | C25: 청라국제도시 친환경복합단지 개발사업 실시설계용역 | E25: 42018 | F25: 42323 | G25: =F25-E25+1 -> 306 | H25: 440 | I25: =IF((F25-M24)>=365,365,(F25-M24)) -> 365 | J25: =ROUND((H25*(I25/G25)/10),0) -> 52
B26: 합 계 | J26: =(SUM(J23:J25))/100 -> 1.41 | K26: =IF((J26-2.5)>=0,(J26-2.5),0) -> 0
C28: =배점기준!$C$5 -> 소음진동 | D28: 분야 책임평가자 | E28: 이순신
B29: 번호 | C29: 참여용역명 | E29: 참여용역 | G29: 계약기간 (일) | H29: 계약금액 (백만원) | I29: 잔여기간 (일) | J29: 1인당 중복금액 (백만원) | K29: 용역중지일 | L29: 중지사유 | M29: 입찰공고일
E30: 착수일 | F30: 준공일 | M30: =배점기준!$H$2 -> 42039
B31: 1 | C31: 청라국제도시 친환경복합단지 개발사업 실시설계용역 | E31: 42018 | F31: 42323 | G31: =F31-E31 -> 305 | H31: 440 | I31: =IF((F31-M30)>=365,365,(F31-M30)) -> 284 | J31: =ROUND((H31*(I31/G31)/10),0) -> 41
B32: 2 | C32: 무안군 신규 특화농공단지 기본 및 실시설계용역 | E32: 42040 | F32: 42347 | G32: =F32-E32 -> 307 | H32: 403 | I32: =IF((F32-M31)>=365,365,(F32-M31)) -> 365 | J32: =ROUND((H32*(I32/G32)/10),0) -> 48
B33: 3 | C33: 청라국제도시 친환경복합단지 개발사업 실시설계용역 | E33: 42018 | F33: 42323 | G33: =F33-E33 -> 305 | H33: 440 | I33: =IF((F33-M32)>=365,365,(F33-M32)) -> 365 | J33: =ROUND((H33*(I33/G33)/10),0) -> 53
B34: 합 계 | J34: =(SUM(J31:J33))/100 -> 1.42 | K34: =IF((J34-2.5)>=0,(J34-2.5),0) -> 0
C36: =배점기준!$C$6 -> 폐기물처리 | D36: 분야 책임평가자 | E36: 아무개
B37: 번호 | C37: 참여용역명 | E37: 참여용역 | G37: 계약기간 (일) | H37: 계약금액 (백만원) | I37: 잔여기간 (일) | J37: 1인당 중복금액 (백만원) | K37: 용역중지일 | L37: 중지사유 | M37: 입찰공고일
E38: 착수일 | F38: 준공일 | M38: =배점기준!$H$2 -> 42039
B39: 1 | C39: 청라국제도시 친환경복합단지 개발사업 실시설계용역 | E39: 42018 | F39: 42323 | G39: =F39-E39+1 -> 306 | H39: 440 | I39: =IF((F39-M38)>=365,365,(F39-M38)) -> 284 | J39: =ROUND((H39*(I39/G39)/10),0) -> 41
B40: 2 | C40: 무안군 신규 특화농공단지 기본 및 실시설계용역 | E40: 42040 | F40: 42347 | G40: =F40-E40+1 -> 308 | H40: 403 | I40: =IF((F40-M39)>=365,365,(F40-M39)) -> 365 | J40: =ROUND((H40*(I40/G40)/10),0) -> 48
B41: 3 | C41: 청라국제도시 친환경복합단지 개발사업 실시설계용역 | E41: 42018 | F41: 42323 | G41: =F41-E41+1 -> 306 | H41: 440 | I41: =IF((F41-M40)>=365,365,(F41-M40)) -> 365 | J41: =ROUND((H41*(I41/G41)/10),0) -> 52
B42: 합 계 | J42: =(SUM(J39:J41))/100 -> 1.41 | K42: =IF((J42-2.5)>=0,(J42-2.5),0) -> 0
C44: =배점기준!$C$7 -> 0 | D44: 분야 책임평가자 | E44: 김준수
B45: 번호 | C45: 참여용역명 | E45: 참여용역 | G45: 계약기간 (일) | H45: 계약금액 (백만원) | I45: 잔여기간 (일) | J45: 1인당 중복금액 (백만원) | K45: 용역중지일 | L45: 중지사유 | M45: 입찰공고일
E46: 착수일 | F46: 준공일 | M46: =배점기준!$H$2 -> 42039
B47: 1 | C47: 청라국제도시 친환경복합단지 개발사업 실시설계용역 | E47: 42018 | F47: 42323 | G47: =F47-E47+1 -> 306 | H47: 440 | I47: =IF((F47-M46)>=365,365,(F47-M46)) -> 284 | J47: =ROUND((H47*(I47/G47)/10),0) -> 41
B48: 2 | C48: 무안군 신규 특화농공단지 기본 및 실시설계용역 | E48: 42040 | F48: 42347 | G48: =F48-E48+1 -> 308 | H48: 403 | I48: =IF((F48-M47)>=365,365,(F48-M47)) -> 365 | J48: =ROUND((H48*(I48/G48)/10),0) -> 48
B49: 3 | C49: 청라국제도시 친환경복합단지 개발사업 실시설계용역 | E49: 42018 | F49: 42323 | G49: =F49-E49+1 -> 306 | H49: 440 | I49: =IF((F49-M48)>=365,365,(F49-M48)) -> 365 | J49: =ROUND((H49*(I49/G49)/10),0) -> 52
B50: 합 계 | J50: =(SUM(J47:J49))/100 -> 1.41 | K50: =IF((J50-2.5)>=0,(J50-2.5),0) -> 0
C52: =배점기준!$C$8 -> 0 | D52: 분야 책임평가자 | E52: 장영실
B53: 번호 | C53: 참여용역명 | E53: 참여용역 | G53: 계약기간 (일) | H53: 계약금액 (백만원) | I53: 잔여기간 (일) | J53: 1인당 중복금액 (백만원) | K53: 용역중지일 | L53: 중지사유 | M53: 입찰공고일
E54: 착수일 | F54: 준공일 | M54: =배점기준!$H$2 -> 42039
B55: 1 | C55: 청라국제도시 친환경복합단지 개발사업 실시설계용역 | E55: 42018 | F55: 42323 | G55: =F55-E55+1 -> 306 | H55: 440 | I55: =IF((F55-M54)>=365,365,(F55-M54)) -> 284 | J55: =ROUND((H55*(I55/G55)/10),0) -> 41
B56: 2 | C56: 무안군 신규 특화농공단지 기본 및 실시설계용역 | E56: 42040 | F56: 42347 | G56: =F56-E56+1 -> 308 | H56: 403 | I56: =IF((F56-M55)>=365,365,(F56-M55)) -> 365 | J56: =ROUND((H56*(I56/G56)/10),0) -> 48
B57: 3 | C57: 청라국제도시 친환경복합단지 개발사업 실시설계용역 | E57: 42018 | F57: 42323 | G57: =F57-E57+1 -> 306 | H57: 440 | I57: =IF((F57-M56)>=365,365,(F57-M56)) -> 365 | J57: =ROUND((H57*(I57/G57)/10),0) -> 52
B58: 합 계 | J58: =(SUM(J55:J57))/100 -> 1.41 | K58: =IF((J58-2.5)>=0,(J58-2.5),0) -> 0
B60: □ 분야별 평가자(6점)
C61: =배점기준!$C$3 -> 대기관리 | D61: 분야 평가자 | E61: 김철수 | Q61: 주) 1. | R61: 사업책임기술자, 분야별책임기술자별로 작성합니다.
B62: 번호 | C62: 참여용역명 | E62: 참여용역 | G62: 계약기간 (일) | H62: 계약금액 (백만원) | I62: 잔여기간 (일) | J62: 1인당 중복금액 (백만원) | K62: 용역중지일 | L62: 중지사유 | M62: 입찰공고일 | Q62: 2. | R62: 공고일기준 잔여과업기간이 3개월이상인 용역에 대하여 작성합니다.
E63: 착수일 | F63: 준공일 | M63: =배점기준!$H$2 -> 42039 | Q63: 3. | R63: 용역계약서사본, 참여기술자명단 등 현재 수행중인 용역현황을 파악할 수 있는 증빙서류를 첨부합니다.
B64: 1 | C64: 0000 개발사업 환경영향평가용역 | E64: 42018 | F64: 42323 | G64: =F64-E64+1 -> 306 | H64: 440 | I64: =IF((F64-M63)>=365,365,(F64-M63)) -> 284 | J64: =ROUND((H64*(I64/G64)/10),0) -> 41 | Q64: 4. | R64: 현재 중지중인 용역에 대하여도 모두 기재하시기 바라며, 잔여용역금액합계나 중복적용건수에는 반영하지 않습니다. 이경우에 해당시 중지일 및 중지사유 기재. 공사발주완료된 경우는 확인할수 있는 근거서류를 제시한경우만 인정합니다.
B65: 2 | C65: 00000 특화농공단지 기본 및 실시설계용역 | E65: 42040 | F65: 42347 | G65: =F65-E65+1 -> 308 | H65: 403 | I65: =IF((F65-M64)>=365,365,(F65-M64)) -> 365 | J65: =ROUND((H65*(I65/G65)/10),0) -> 48 | Q65: 5. | R65: 기입란이 부족한 경우 행 삽입,삭제가 가능하며, 행삽입,삭제시 실적이 합계에서 누락되지 않도록 반드시 확인(중첩도 시트) 주의해야 합니다
B66: 3 | C66: 00000 개발사업 개발사업 조사설계용역 | E66: 42018 | F66: 42323 | G66: =F66-E66+1 -> 306 | H66: 440 | I66: =IF((F66-M65)>=365,365,(F66-M65)) -> 365 | J66: =ROUND((H66*(I66/G66)/10),0) -> 52
B67: 합 계 | J67: =(SUM(J64:J66))/100 -> 1.41 | K67: =IF((J67-2.5)>=0,(J67-2.5),0) -> 0
C69: =배점기준!$C$4 -> 수질관리 | D69: 분야 평가자 | E69: 박나리
B70: 번호 | C70: 참여용역명 | E70: 참여용역 | G70: 계약기간 (일) | H70: 계약금액 (백만원) | I70: 잔여기간 (일) | J70: 1인당 중복금액 (백만원) | K70: 용역중지일 | L70: 중지사유 | M70: 입찰공고일
E71: 착수일 | F71: 준공일 | M71: =배점기준!$H$2 -> 42039
B72: 1 | C72: 청라국제도시 친환경복합단지 개발사업 실시설계용역 | E72: 42018 | F72: 42323 | G72: =F72-E72+1 -> 306 | H72: 440 | I72: =IF((F72-M71)>=365,365,(F72-M71)) -> 284 | J72: =ROUND((H72*(I72/G72)/10),0) -> 41
B73: 2 | C73: 무안군 신규 특화농공단지 기본 및 실시설계용역 | E73: 42040 | F73: 42347 | G73: =F73-E73+1 -> 308 | H73: 403 | I73: =IF((F73-M72)>=365,365,(F73-M72)) -> 365 | J73: =ROUND((H73*(I73/G73)/10),0) -> 48
B74: 3 | C74: 청라국제도시 친환경복합단지 개발사업 실시설계용역 | E74: 42018 | F74: 42323 | G74: =F74-E74+1 -> 306 | H74: 440 | I74: =IF((F74-M73)>=365,365,(F74-M73)) -> 365 | J74: =ROUND((H74*(I74/G74)/10),0) -> 52
B75: 합 계 | J75: =(SUM(J72:J74))/100 -> 1.41 | K75: =IF((J75-2.5)>=0,(J75-2.5),0) -> 0
C77: =배점기준!$C$5 -> 소음진동 | D77: 분야 평가자 | E77: 이순신
B78: 번호 | C78: 참여용역명 | E78: 참여용역 | G78: 계약기간 (일) | H78: 계약금액 (백만원) | I78: 잔여기간 (일) | J78: 1인당 중복금액 (백만원) | K78: 용역중지일 | L78: 중지사유 | M78: 입찰공고일
E79: 착수일 | F79: 준공일 | M79: =배점기준!$H$2 -> 42039
B80: 1 | C80: 청라국제도시 친환경복합단지 개발사업 실시설계용역 | E80: 42018 | F80: 42323 | G80: =F80-E80+1 -> 306 | H80: 440 | I80: =IF((F80-M79)>=365,365,(F80-M79)) -> 284 | J80: =ROUND((H80*(I80/G80)/10),0) -> 41
B81: 2 | C81: 무안군 신규 특화농공단지 기본 및 실시설계용역 | E81: 42040 | F81: 42347 | G81: =F81-E81+1 -> 308 | H81: 403 | I81: =IF((F81-M80)>=365,365,(F81-M80)) -> 365 | J81: =ROUND((H81*(I81/G81)/10),0) -> 48
B82: 3 | C82: 청라국제도시 친환경복합단지 개발사업 실시설계용역 | E82: 42018 | F82: 42323 | G82: =F82-E82+1 -> 306 | H82: 440 | I82: =IF((F82-M81)>=365,365,(F82-M81)) -> 365 | J82: =ROUND((H82*(I82/G82)/10),0) -> 52
B83: 합 계 | J83: =(SUM(J80:J82))/100 -> 1.41 | K83: =IF((J83-2.5)>=0,(J83-2.5),0) -> 0
C85: =배점기준!$C$6 -> 폐기물처리 | D85: 분야 평가자 | E85: 아무개
B86: 번호 | C86: 참여용역명 | E86: 참여용역 | G86: 계약기간 (일) | H86: 계약금액 (백만원) | I86: 잔여기간 (일) | J86: 1인당 중복금액 (백만원) | K86: 용역중지일 | L86: 중지사유 | M86: 입찰공고일
E87: 착수일 | F87: 준공일 | M87: =배점기준!$H$2 -> 42039
B88: 1 | C88: 청라국제도시 친환경복합단지 개발사업 실시설계용역 | E88: 42018 | F88: 42323 | G88: =F88-E88+1 -> 306 | H88: 440 | I88: =IF((F88-M87)>=365,365,(F88-M87)) -> 284 | J88: =ROUND((H88*(I88/G88)/10),0) -> 41
B89: 2 | C89: 무안군 신규 특화농공단지 기본 및 실시설계용역 | E89: 42040 | F89: 42347 | G89: =F89-E89+1 -> 308 | H89: 403 | I89: =IF((F89-M88)>=365,365,(F89-M88)) -> 365 | J89: =ROUND((H89*(I89/G89)/10),0) -> 48
B90: 3 | C90: 청라국제도시 친환경복합단지 개발사업 실시설계용역 | E90: 42018 | F90: 42323 | G90: =F90-E90+1 -> 306 | H90: 440 | I90: =IF((F90-M89)>=365,365,(F90-M89)) -> 365 | J90: =ROUND((H90*(I90/G90)/10),0) -> 52
B91: 합 계 | J91: =(SUM(J88:J90))/100 -> 1.41 | K91: =IF((J91-2.5)>=0,(J91-2.5),0) -> 0
C93: =배점기준!$C$7 -> 0 | D93: 분야 평가자 | E93: 김준수
B94: 번호 | C94: 참여용역명 | E94: 참여용역 | G94: 계약기간 (일) | H94: 계약금액 (백만원) | I94: 잔여기간 (일) | J94: 1인당 중복금액 (백만원) | K94: 용역중지일 | L94: 중지사유 | M94: 입찰공고일
E95: 착수일 | F95: 준공일 | M95: =배점기준!$H$2 -> 42039
B96: 1 | C96: 청라국제도시 친환경복합단지 개발사업 실시설계용역 | E96: 42018 | F96: 42323 | G96: =F96-E96+1 -> 306 | H96: 440 | I96: =IF((F96-M95)>=365,365,(F96-M95)) -> 284 | J96: =ROUND((H96*(I96/G96)/10),0) -> 41
B97: 2 | C97: 무안군 신규 특화농공단지 기본 및 실시설계용역 | E97: 42040 | F97: 42347 | G97: =F97-E97+1 -> 308 | H97: 403 | I97: =IF((F97-M96)>=365,365,(F97-M96)) -> 365 | J97: =ROUND((H97*(I97/G97)/10),0) -> 48
B98: 3 | C98: 청라국제도시 친환경복합단지 개발사업 실시설계용역 | E98: 42018 | F98: 42323 | G98: =F98-E98+1 -> 306 | H98: 440 | I98: =IF((F98-M97)>=365,365,(F98-M97)) -> 365 | J98: =ROUND((H98*(I98/G98)/10),0) -> 52
B99: 합 계 | J99: =(SUM(J96:J98))/100 -> 1.41 | K99: =IF((J99-2.5)>=0,(J99-2.5),0) -> 0
C101: =배점기준!$C$8 -> 0 | D101: 분야 평가자 | E101: 장영실
B102: 번호 | C102: 참여용역명 | E102: 참여용역 | G102: 계약기간 (일) | H102: 계약금액 (백만원) | I102: 잔여기간 (일) | J102: 1인당 중복금액 (백만원) | K102: 용역중지일 | L102: 중지사유 | M102: 입찰공고일
E103: 착수일 | F103: 준공일 | M103: =배점기준!$H$2 -> 42039
B104: 1 | C104: 청라국제도시 친환경복합단지 개발사업 실시설계용역 | E104: 42018 | F104: 42323 | G104: =F104-E104+1 -> 306 | H104: 440 | I104: =IF((F104-M103)>=365,365,(F104-M103)) -> 284 | J104: =ROUND((H104*(I104/G104)/10),0) -> 41
B105: 2 | C105: 무안군 신규 특화농공단지 기본 및 실시설계용역 | E105: 42040 | F105: 42347 | G105: =F105-E105+1 -> 308 | H105: 403 | I105: =IF((F105-M104)>=365,365,(F105-M104)) -> 365 | J105: =ROUND((H105*(I105/G105)/10),0) -> 48
B106: 3 | C106: 청라국제도시 친환경복합단지 개발사업 실시설계용역 | E106: 42018 | F106: 42323 | G106: =F106-E106+1 -> 306 | H106: 440 | I106: =IF((F106-M105)>=365,365,(F106-M105)) -> 365 | J106: =ROUND((H106*(I106/G106)/10),0) -> 52
B107: 합 계 | J107: =(SUM(J104:J106))/100 -> 1.41 | K107: =IF((J107-2.5)>=0,(J107-2.5),0) -> 0
B108: 주) 1. | C108: 총괄평가자, 분야별책임평가자 및 평가자별로 작성합니다.(LH전자조달시스템 업무중복도 작서요령 참조)
B109: 2. | C109: 공고일기준 잔여과업기간이 3개월이상인 용역에 대하여 작성합니다.
B110: 3. | C110: 용역계약서사본, 참여기술자명단 등 현재 수행중인 용역현황을 파악할 수 있는 증빙서류를 첨부합니다.
B111: 4. | C111: 현재 중지중인 용역에 대하여도 모두 기재하시기 바라며, 잔여용역금액합계나 중복적용건수에는 반영하지 않습니다. 이경우에 해당시 중지일 및 중지사유 기재. 공사발주완료된 경우는 확인할수 있는 근거서류를 제시한경우만 인정합니다.
B112: 5. | C112: 기입란이 부족한 경우 행 삽입,삭제가 가능하며, 행삽입,삭제시 실적이 합계에서 누락되지 않도록 반드시 확인(중첩도 시트) 주의해야 합니다

Sheet 교육훈련
B1: 참여평가자 교육실적
B3: 참여분야 | C3: 성 명 | D3: 교육과정명 | E3: 교육기간 | F3: 교육기관 | G3: 인원
B4: 2주이상교육자
B5: 총괄평가자
B6: 대기분야 책임평가자
B7: 수질관리 책임평가자
B8: 대기분야 평가자
B9: 수질관리 평가자
B10: 계 | G10: =COUNTA(B5:B9) -> 5
B12: 1주 이상 2주 미만교육자
B13: 총괄평가자
B14: 대기분야 책임평가자
B15: 수질관리 책임평가자
B16: 대기분야 평가자
B17: 수질관리 평가자
B18: 계 | G18: =COUNTA(B13:B17) -> 5

Sheet 과업의이해도
B1: 과업의 이해도
B3: ■ 전단계 용역 중 당해 용역 참여현황
B4: 용 역 명 | C4: 용 역 기 간 | F4: 참여분야 | G4: 참여자 | H4: 참여기간 | K4: 인정 인원
C5: 착수일 | D5: 준공일 | E5: 일수 | H5: 착수일 | I5: 준공일 | J5: 일수
B6: 00000 택지개발사업 전력환경영향평가 용역 | C6: 42005 | D6: 42369 | E6: =D6-C6+1 -> 365 | G6: 홍길동 | H6: 42005 | I6: 42369 | J6: =I6-H6+1 -> 365 | K6: =IF(J6>=($E$6/2),1,0) -> 1
H7: 42154 | I7: 42369 | J7: =I7-H7+1 -> 216 | K7: =IF(J7>=($E$6/2),1,0) -> 1
H8: 42217 | I8: 42369 | J8: =I8-H8+1 -> 153 | K8: =IF(J8>=($E$6/2),1,0) -> 0
H9: 42309 | I9: 42338 | J9: =I9-H9+1 -> 30 | K9: =IF(J9>=($E$6/2),1,0) -> 0
H10: 42186 | I10: 42246 | J10: =I10-H10+1 -> 61 | K10: =IF(J10>=($E$6/2),1,0) -> 0
B11: 계 | K11: =SUM(K6:K10) -> 2

Sheet 환경평가업체
A1: 2. 환경영향평가등 수행실적(15점)
B3: 항목 | C3: 배점 | D3: 업체명 | E3: 실적 | F3: 점수 | G3: 지분율 | H3: 평가
B5: 실적건수 (건) | C5: =배점기준!D91 -> 7 | D5: =참여업체!C6 -> ㈜ㅁㅁ엔지니어링 | E5: =업체수행실적!L20 -> 7.32 | F5: =IF(E5>=배점기준!$F$91,배점기준!$F$92,IF(E5>=배점기준!$G$91,배점기준!$G$92,IF(E5>=배점기준!$H$91,배점기준!$H$92,IF(E5>=배점기준!$I$91,배점기준!$I$92,IF(E5<배점기준!$J$91,배점기준!$J$92))))) -> 5.6 | G5: =참여업체!C7 -> 0.5 | H5: =ROUND((F5*G5)+(F6*G6)+(F7*G7),2) -> 5.6
D6: =참여업체!D6 -> ㅇㅇ엔지니어링㈜ | E6: =업체수행실적!L41 -> 7.32 | F6: =IF(E6>=배점기준!$F$91,배점기준!$F$92,IF(E6>=배점기준!$G$91,배점기준!$G$92,IF(E6>=배점기준!$H$91,배점기준!$H$92,IF(E6>=배점기준!$I$91,배점기준!$I$92,IF(E6<배점기준!$J$91,배점기준!$J$92))))) -> 5.6 | G6: =참여업체!D7 -> 0.3
D7: =참여업체!E6 -> ◇◇기술공사㈜ | E7: =업체수행실적!L62 -> 7.32 | F7: =IF(E7>=배점기준!$F$91,배점기준!$F$92,IF(E7>=배점기준!$G$91,배점기준!$G$92,IF(E7>=배점기준!$H$91,배점기준!$H$92,IF(E7>=배점기준!$I$91,배점기준!$I$92,IF(E7<배점기준!$J$91,배점기준!$J$92))))) -> 5.6 | G7: =참여업체!E7 -> 0.2
B8: 실적금액 (억원) | C8: =배점기준!D93 -> 7 | D8: =참여업체!C6 -> ㈜ㅁㅁ엔지니어링 | E8: =업체수행실적!M21 -> 4.22 | F8: =IF(E8>=배점기준!$F$93,배점기준!$F$94,IF(E8>=배점기준!$G$93,배점기준!$G$94,IF(E8>=배점기준!$H$93,배점기준!$H$94,IF(E8>=배점기준!$I$93,배점기준!$I$94,IF(E8<배점기준!$J$93,배점기준!$J$94))))) -> 7 | G8: =참여업체!C7 -> 0.5 | H8: =ROUND((F8*G8)+(F9*G9)+(F10*G10),2) -> 7
D9: =참여업체!D6 -> ㅇㅇ엔지니어링㈜ | E9: =업체수행실적!M42 -> 4.22 | F9: =IF(E9>=배점기준!$F$93,배점기준!$F$94,IF(E9>=배점기준!$G$93,배점기준!$G$94,IF(E9>=배점기준!$H$93,배점기준!$H$94,IF(E9>=배점기준!$I$93,배점기준!$I$94,IF(E9<배점기준!$J$93,배점기준!$J$94))))) -> 7 | G9: =참여업체!D7 -> 0.3
D10: =참여업체!E6 -> ◇◇기술공사㈜ | E10: =업체수행실적!M63 -> 4.22 | F10: =IF(E10>=배점기준!$F$93,배점기준!$F$94,IF(E10>=배점기준!$G$93,배점기준!$G$94,IF(E10>=배점기준!$H$93,배점기준!$H$94,IF(E10>=배점기준!$I$93,배점기준!$I$94,IF(E10<배점기준!$J$93,배점기준!$J$94))))) -> 7 | G10: =참여업체!E7 -> 0.2

Sheet 업체수행실적
A1: ■ 환경영향평가등 수행실적
B2: =참여업체!C6 -> ㈜ㅁㅁ엔지니어링
A3: 번호 | B3: 참여용역명 | C3: 사업개요 | D3: 발주처 | E3: 용역기간 | G3: 준공금액 (백만원) | H3: 분야별 실적인정금액 (백만원) | I3: 도급 지분 | J3: 실적계수 | L3: 실적건수 | M3: 실적금액 (백만원) | N3: 비고
E4: 착수일 | F4: 준공일 | J4: 평가종류 | K4: 사업종류 | R4: 분류
A5: 1 | B5: 파주운정(1)지구택지개발사업 영향평가 | D5: LH | E5: 38307 | F5: 39249 | G5: 500 | H5: 200 | I5: 0.8 | J5: 1 | K5: 0.6 | L5: =I5*J5*K5 -> 0.48 | M5: =H5*I5*J5*K5 -> 96 | R5: 1
A6: 2 | B6: 김포양곡지구 택개지구 영향평가 | D6: LH | E6: 38098 | F6: 39314 | G6: 600 | H6: 300 | I6: 0.7 | J6: 1 | K6: 0.6 | L6: =I6*J6*K6 -> 0.42 | M6: =H6*I6*J6*K6 -> 126 | R6: 0.6
A7: 3 | B7: 부천범박지구 국민임대단지 영향평가 | D7: LH | E7: 38784 | F7: 39301 | G7: 500 | H7: 200 | I7: 0.7 | J7: 1 | K7: 0.6 | L7: =I7*J7*K7 -> 0.42 | M7: =H7*I7*J7*K7 -> 84
A8: 4 | B8: 제천강저지구 국민임대단지 영향평가 | D8: LH | E8: 38828 | F8: 39314 | G8: 1000 | H8: 500 | I8: 1 | J8: 1 | K8: 0.6 | L8: =I8*J8*K8 -> 0.6 | M8: =H8*I8*J8*K8 -> 300
A9: 5 | B9: OO지구 영향평가 | D9: LH | E9: 38098 | F9: 39314 | G9: 300 | H9: 100 | I9: 0.8 | J9: 1 | K9: 0.6 | L9: =I9*J9*K9 -> 0.48 | M9: =H9*I9*J9*K9 -> 48
A10: 6 | B10: OO지구 영향평가 | D10: LH | E10: 38098 | F10: 39314 | G10: 300 | H10: 100 | I10: 0.7 | J10: 1 | K10: 0.6 | L10: =I10*J10*K10 -> 0.42 | M10: =H10*I10*J10*K10 -> 42
A11: 7 | B11: OO지구 영향평가 | D11: LH | E11: 38098 | F11: 39314 | G11: 900 | H11: 400 | I11: 0.9 | J11: 1 | K11: 0.6 | L11: =I11*J11*K11 -> 0.54 | M11: =H11*I11*J11*K11 -> 216
A12: 8 | B12: OO지구 영향평가 | D12: LH | E12: 38098 | F12: 39314 | G12: 300 | H12: 100 | I12: 0.9 | J12: 1 | K12: 0.6 | L12: =I12*J12*K12 -> 0.54 | M12: =H12*I12*J12*K12 -> 54
A13: 9 | B13: OO지구 영향평가 | D13: LH | E13: 38098 | F13: 39314 | G13: 1000 | H13: 500 | I13: 0.9 | J13: 1 | K13: 0.6 | L13: =I13*J13*K13 -> 0.54 | M13: =H13*I13*J13*K13 -> 270
A14: 10 | B14: OO지구 영향평가 | D14: LH | E14: 38098 | F14: 39314 | G14: 1000 | H14: 500 | I14: 0.7 | J14: 1 | K14: 0.6 | L14: =I14*J14*K14 -> 0.42 | M14: =H14*I14*J14*K14 -> 210
A15: 11 | B15: OO지구 환경영향평가 | D15: LH | E15: 38098 | F15: 39314 | G15: 340 | H15: 240 | I15: 0.7 | J15: 1 | K15: 0.6 | L15: =I15*J15*K15 -> 0.42 | M15: =H15*I15*J15*K15 -> 100.8
A16: 12 | B16: OO지구 광역교통개선대책 | D16: LH | E16: 38098 | F16: 39314 | G16: 800 | H16: 400 | I16: 1 | J16: 1 | K16: 0.6 | L16: =I16*J16*K16 -> 0.6 | M16: =H16*I16*J16*K16 -> 240
A17: 13 | B17: OO지구 교통영향평가 | D17: LH | E17: 38098 | F17: 39314 | G17: 500 | H17: 200 | I17: 0.8 | J17: 1 | K17: 0.6 | L17: =I17*J17*K17 -> 0.48 | M17: =H17*I17*J17*K17 -> 96
A18: 14 | B18: OO지구 영향평가 | D18: LH | E18: 38098 | F18: 39314 | G18: 400 | H18: 150 | I18: 0.7 | J18: 1 | K18: 0.6 | L18: =I18*J18*K18 -> 0.42 | M18: =H18*I18*J18*K18 -> 63
A19: 15 | B19: OO지구 광역교통개선대책 | D19: LH | E19: 38098 | F19: 39314 | G19: 580 | H19: 300 | I19: 0.9 | J19: 1 | K19: 0.6 | L19: =I19*J19*K19 -> 0.54 | M19: =H19*I19*J19*K19 -> 162
A20: 소 계 | L20: =ROUND(SUM(L5:L19),2) -> 7.32 | M20: =ROUND(SUM(M5:M19),0) -> 2108
A21: 산 정 점 수 | M21: =ROUND(M20/(배점기준!$H$4/1000),2) -> 4.22
B23: =참여업체!D6 -> ㅇㅇ엔지니어링㈜
A24: 번호 | B24: 참여용역명 | C24: 사업개요 | D24: 발주처 | E24: 용역기간 | G24: 준공금액 (백만원) | H24: 분야별 실적인정금액 (백만원) | I24: 도급 지분 | J24: 실적계수 | L24: 실적건수 | M24: 실적금액 (백만원) | N24: 비고
E25: 착수일 | F25: 준공일 | J25: 평가종류 | K25: 사업종류 | R25: 분류
A26: 1 | B26: 파주운정(1)지구택지개발사업 영향평가 | D26: LH | E26: 38307 | F26: 39249 | G26: 500 | H26: 200 | I26: 0.8 | J26: 1 | K26: 0.6 | L26: =I26*J26*K26 -> 0.48 | M26: =H26*I26*J26*K26 -> 96 | R26: 1
A27: 2 | B27: 김포양곡지구 택개지구 영향평가 | D27: LH | E27: 38098 | F27: 39314 | G27: 600 | H27: 300 | I27: 0.7 | J27: 1 | K27: 0.6 | L27: =I27*J27*K27 -> 0.42 | M27: =H27*I27*J27*K27 -> 126 | R27: 0.6
A28: 3 | B28: 부천범박지구 국민임대단지 영향평가 | D28: LH | E28: 38784 | F28: 39301 | G28: 500 | H28: 200 | I28: 0.7 | J28: 1 | K28: 0.6 | L28: =I28*J28*K28 -> 0.42 | M28: =H28*I28*J28*K28 -> 84
A29: 4 | B29: 제천강저지구 국민임대단지 영향평가 | D29: LH | E29: 38828 | F29: 39314 | G29: 1000 | H29: 500 | I29: 1 | J29: 1 | K29: 0.6 | L29: =I29*J29*K29 -> 0.6 | M29: =H29*I29*J29*K29 -> 300
A30: 5 | B30: OO지구 영향평가 | D30: LH | E30: 38098 | F30: 39314 | G30: 300 | H30: 100 | I30: 0.8 | J30: 1 | K30: 0.6 | L30: =I30*J30*K30 -> 0.48 | M30: =H30*I30*J30*K30 -> 48
A31: 6 | B31: OO지구 영향평가 | D31: LH | E31: 38098 | F31: 39314 | G31: 300 | H31: 100 | I31: 0.7 | J31: 1 | K31: 0.6 | L31: =I31*J31*K31 -> 0.42 | M31: =H31*I31*J31*K31 -> 42
A32: 7 | B32: OO지구 영향평가 | D32: LH | E32: 38098 | F32: 39314 | G32: 900 | H32: 400 | I32: 0.9 | J32: 1 | K32: 0.6 | L32: =I32*J32*K32 -> 0.54 | M32: =H32*I32*J32*K32 -> 216
A33: 8 | B33: OO지구 영향평가 | D33: LH | E33: 38098 | F33: 39314 | G33: 300 | H33: 100 | I33: 0.9 | J33: 1 | K33: 0.6 | L33: =I33*J33*K33 -> 0.54 | M33: =H33*I33*J33*K33 -> 54
A34: 9 | B34: OO지구 영향평가 | D34: LH | E34: 38098 | F34: 39314 | G34: 1000 | H34: 500 | I34: 0.9 | J34: 1 | K34: 0.6 | L34: =I34*J34*K34 -> 0.54 | M34: =H34*I34*J34*K34 -> 270
A35: 10 | B35: OO지구 영향평가 | D35: LH | E35: 38098 | F35: 39314 | G35: 1000 | H35: 500 | I35: 0.7 | J35: 1 | K35: 0.6 | L35: =I35*J35*K35 -> 0.42 | M35: =H35*I35*J35*K35 -> 210
A36: 11 | B36: OO지구 환경영향평가 | D36: LH | E36: 38098 | F36: 39314 | G36: 340 | H36: 240 | I36: 0.7 | J36: 1 | K36: 0.6 | L36: =I36*J36*K36 -> 0.42 | M36: =H36*I36*J36*K36 -> 100.8
A37: 12 | B37: OO지구 광역교통개선대책 | D37: LH | E37: 38098 | F37: 39314 | G37: 800 | H37: 400 | I37: 1 | J37: 1 | K37: 0.6 | L37: =I37*J37*K37 -> 0.6 | M37: =H37*I37*J37*K37 -> 240
A38: 13 | B38: OO지구 교통영향평가 | D38: LH | E38: 38098 | F38: 39314 | G38: 500 | H38: 200 | I38: 0.8 | J38: 1 | K38: 0.6 | L38: =I38*J38*K38 -> 0.48 | M38: =H38*I38*J38*K38 -> 96
A39: 14 | B39: OO지구 영향평가 | D39: LH | E39: 38098 | F39: 39314 | G39: 400 | H39: 150 | I39: 0.7 | J39: 1 | K39: 0.6 | L39: =I39*J39*K39 -> 0.42 | M39: =H39*I39*J39*K39 -> 63
A40: 15 | B40: OO지구 광역교통개선대책 | D40: LH | E40: 38098 | F40: 39314 | G40: 580 | H40: 300 | I40: 0.9 | J40: 1 | K40: 0.6 | L40: =I40*J40*K40 -> 0.54 | M40: =H40*I40*J40*K40 -> 162
A41: 소 계 | L41: =ROUND(SUM(L26:L40),2) -> 7.32 | M41: =ROUND(SUM(M26:M40),0) -> 2108
A42: 산 정 점 수 | M42: =ROUND(M41/(배점기준!$H$4/1000),2) -> 4.22
B44: =참여업체!E6 -> ◇◇기술공사㈜
A45: 번호 | B45: 참여용역명 | C45: 사업개요 | D45: 발주처 | E45: 용역기간 | G45: 준공금액 (백만원) | H45: 분야별 실적인정금액 (백만원) | I45: 도급 지분 | J45: 실적계수 | L45: 실적건수 | M45: 실적금액 (백만원) | N45: 비고
E46: 착수일 | F46: 준공일 | J46: 평가종류 | K46: 사업종류 | R46: 분류
A47: 1 | B47: 파주운정(1)지구택지개발사업 영향평가 | D47: LH | E47: 38307 | F47: 39249 | G47: 500 | H47: 200 | I47: 0.8 | J47: 1 | K47: 0.6 | L47: =I47*J47*K47 -> 0.48 | M47: =H47*I47*J47*K47 -> 96 | R47: 1
A48: 2 | B48: 김포양곡지구 택개지구 영향평가 | D48: LH | E48: 38098 | F48: 39314 | G48: 600 | H48: 300 | I48: 0.7 | J48: 1 | K48: 0.6 | L48: =I48*J48*K48 -> 0.42 | M48: =H48*I48*J48*K48 -> 126 | R48: 0.6
A49: 3 | B49: 부천범박지구 국민임대단지 영향평가 | D49: LH | E49: 38784 | F49: 39301 | G49: 500 | H49: 200 | I49: 0.7 | J49: 1 | K49: 0.6 | L49: =I49*J49*K49 -> 0.42 | M49: =H49*I49*J49*K49 -> 84
A50: 4 | B50: 제천강저지구 국민임대단지 영향평가 | D50: LH | E50: 38828 | F50: 39314 | G50: 1000 | H50: 500 | I50: 1 | J50: 1 | K50: 0.6 | L50: =I50*J50*K50 -> 0.6 | M50: =H50*I50*J50*K50 -> 300
A51: 5 | B51: OO지구 영향평가 | D51: LH | E51: 38098 | F51: 39314 | G51: 300 | H51: 100 | I51: 0.8 | J51: 1 | K51: 0.6 | L51: =I51*J51*K51 -> 0.48 | M51: =H51*I51*J51*K51 -> 48
A52: 6 | B52: OO지구 영향평가 | D52: LH | E52: 38098 | F52: 39314 | G52: 300 | H52: 100 | I52: 0.7 | J52: 1 | K52: 0.6 | L52: =I52*J52*K52 -> 0.42 | M52: =H52*I52*J52*K52 -> 42
A53: 7 | B53: OO지구 영향평가 | D53: LH | E53: 38098 | F53: 39314 | G53: 900 | H53: 400 | I53: 0.9 | J53: 1 | K53: 0.6 | L53: =I53*J53*K53 -> 0.54 | M53: =H53*I53*J53*K53 -> 216
A54: 8 | B54: OO지구 영향평가 | D54: LH | E54: 38098 | F54: 39314 | G54: 300 | H54: 100 | I54: 0.9 | J54: 1 | K54: 0.6 | L54: =I54*J54*K54 -> 0.54 | M54: =H54*I54*J54*K54 -> 54
A55: 9 | B55: OO지구 영향평가 | D55: LH | E55: 38098 | F55: 39314 | G55: 1000 | H55: 500 | I55: 0.9 | J55: 1 | K55: 0.6 | L55: =I55*J55*K55 -> 0.54 | M55: =H55*I55*J55*K55 -> 270
A56: 10 | B56: OO지구 영향평가 | D56: LH | E56: 38098 | F56: 39314 | G56: 1000 | H56: 500 | I56: 0.7 | J56: 1 | K56: 0.6 | L56: =I56*J56*K56 -> 0.42 | M56: =H56*I56*J56*K56 -> 210
A57: 11 | B57: OO지구 환경영향평가 | D57: LH | E57: 38098 | F57: 39314 | G57: 340 | H57: 240 | I57: 0.7 | J57: 1 | K57: 0.6 | L57: =I57*J57*K57 -> 0.42 | M57: =H57*I57*J57*K57 -> 100.8
A58: 12 | B58: OO지구 광역교통개선대책 | D58: LH | E58: 38098 | F58: 39314 | G58: 800 | H58: 400 | I58: 1 | J58: 1 | K58: 0.6 | L58: =I58*J58*K58 -> 0.6 | M58: =H58*I58*J58*K58 -> 240
A59: 13 | B59: OO지구 교통영향평가 | D59: LH | E59: 38098 | F59: 39314 | G59: 500 | H59: 200 | I59: 0.8 | J59: 1 | K59: 0.6 | L59: =I59*J59*K59 -> 0.48 | M59: =H59*I59*J59*K59 -> 96
A60: 14 | B60: OO지구 영향평가 | D60: LH | E60: 38098 | F60: 39314 | G60: 400 | H60: 150 | I60: 0.7 | J60: 1 | K60: 0.6 | L60: =I60*J60*K60 -> 0.42 | M60: =H60*I60*J60*K60 -> 63
A61: 15 | B61: OO지구 광역교통개선대책 | D61: LH | E61: 38098 | F61: 39314 | G61: 580 | H61: 300 | I61: 0.9 | J61: 1 | K61: 0.6 | L61: =I61*J61*K61 -> 0.54 | M61: =H61*I61*J61*K61 -> 162
A62: 소 계 | L62: =ROUND(SUM(L47:L61),2) -> 7.32 | M62: =ROUND(SUM(M47:M61),0) -> 2108
A63: 산 정 점 수 | M63: =ROUND(M62/(배점기준!$H$4/1000),2) -> 4.22
A103: 주)1. | B103: 위 양식은 영향평가 전체에 해당하며, 환경, 교통, 재해 중 특정 용역을 발주하는 경우에는 양식을 수정하여 작성바랍니다. 단, 최종 점수 셀은 유지해야 점수가 합산되오니 주의 바랍니다.
A104: 2. | B104: 실적금액에 따른 건수인정기준은 공동도급비율 적용 전의 금액을 기준으로 산정하며, 건수산정 후 공동도급비율을 반영합니다.
A105: 3. | B105: 발주청이 발행한 실적증명서나 계약서 사본(원본대조필)으로 하되 참여기술자, 용역수행기간, 준공금액 및 공동도급업체수가 확인될 수 있어야 합니다.
A106: 4. | B106: 용역실적증명서(원본 또는 사본)를 첨부하고, 실적대조를 위하여 양식에 작성된 연번을 반드시 기재하시기 바라며, 연번 순서대로 제본하여야 합니다.
A107: 5. | B107: 준공금액란에는 용역전체 금액을 기입하며, 분야별 실적금액란에는 해당분야 실적의 해당금액을 기입합니다. 설계및영향평가 통합용역의 경우 영향평가 해당분야실적분만 인정하며, 설계분야실적분은 인정하지 않습니다.
A108: 6. | B108: 설계·시공일괄입찰 또는 대안입찰방식으로 참여하여 낙찰자 및 설계보상대상자로 지정된 경우에는 해당 발주기관이 발급한 증명서를 첨부하되 해당입찰의 낙찰금액이 확인될 수 있어야 합니다.
A109: 7. | B109: 기입란이 부족한 경우 행 삽입,삭제가 가능하며, 행삽입,삭제시 실적이 합계에서 누락되지 않도록 반드시 확인(유사용역 시트) 주의해야 합니다

Sheet 신용도
A1: 3. 신용도(8점)
B3: □ 업무정지 등(5점)
B4: 세부항목 | D4: 항목별 점수 | G4: 항목별 누계점수 | I4: 평가점수
B5: 업무정지 | D5: =부실벌점!I8 -> -0.26 | G5: =D5+D6+D7+D8+D9 -> -4.12 | I5: =IF((배점기준!D95+G5)>=0,(배점기준!D95+G5),0) -> 0.88
B6: 거짓작성 및 복제 | D6: =부실벌점!I15 -> -3
B7: 부실작성 | D7: =부실벌점!I22 -> -0.2
B8: 입찰참가제한 및 영업정지(평가업체) | D8: =부실벌점!I29 -> -0.26
B9: 기술자격정지 및 업무정지(평가자) | D9: =부실벌점!I46 -> -0.4
B11: □ 재정상태 건실도- 신용평가등급(3점)
B12: 업체명 | C12: 업체규모 | D12: 회사채 | E12: 기업어음 | F12: 기업신용 | G12: 회사채 | H12: 기업어음 | I12: 기업신용 | J12: 업체별 | K12: 지분율 | L12: 평가
D13: 신용도 | E13: 신용도 | F13: 신용도 | G13: 점수 | H13: 점수 | I13: 점수 | J13: 점수
B14: =참여업체!C6 -> ㈜ㅁㅁ엔지니어링 | C14: 대기업/중기업 | D14: AAA | E14: A3- | F14: AAA | G14: =IF(C14="대기업/중기업",I23,I24) -> 3 | H14: =IF(C14="대기업/중기업",J23,J24) -> 2.7 | I14: =IF(C14="대기업/중기업",K23,K24) -> 3 | J14: =MAX(G14:I14) -> 3 | K14: =참여업체!$C$7 -> 0.5 | L14: =ROUND((J14*K14+J15*K15+J16*K16+L45),2) -> 3
B15: =참여업체!D6 -> ㅇㅇ엔지니어링㈜ | C15: 소기업 | D15: BB0 | E15: A3- | F15: A- | G15: =IF(C15="대기업/중기업",I25,I26) -> 2.7 | H15: =IF(C15="대기업/중기업",J25,J26) -> 3 | I15: =IF(C15="대기업/중기업",K25,K26) -> 3 | J15: =MAX(G15:I15) -> 3 | K15: =참여업체!$D$7 -> 0.3
B16: =참여업체!E6 -> ◇◇기술공사㈜ | C16: 소기업 | D16: CCC+ 이하 | E16: B- | F16: A- | G16: =IF($C$16="대기업/중기업",I27,I28) -> 2.4 | H16: =IF($C$16="대기업/중기업",J27,J28) -> 3 | I16: =IF($C$16="대기업/중기업",K27,K28) -> 3 | J16: =MAX(G16:I16) -> 3 | K16: =참여업체!E7 -> 0.2
A18: 주) 1. | B18: 란을 직접입력합니다.
A19: 2. | B19: 재정상태건실도 평가는 유효기간내의 회사채,기업어음,기업신용 중 한가지만 입력하면 됩니다.
A20: 3. | B20: 회사채(또는 기업어음)에 대한 신용평가등급 및 기업신용평가에 따른 평점이 다른 경우에는 높은 평점으로 평가하며, 등급확인서를 제출하지 않은 경우에는 0점으로 평가합니다.
D22: 회사채 | E22: 기업어음 | F22: 기업신용 | H22: 업체규모
D23: AAA | E23: A1 | F23: AAA | H23: 대기업/중기업 | I23: =IF(OR(D14=D$23,D14=D$24,D14=D$25,D14=D$26,D14=D$27,D14=D$28,D14=D$29),3,IF(OR(D14=D$30,D14=D$31,D14=D$32),2.7,IF(OR(D14=D$33,D14=D$34,D14=D$35,D14=D$36,D14=D$37,D14=D$38),2.4,IF(D14=D$39,2.1,0)))) -> 3 | J23: =IF(OR(E14=E$23,E14=E$24,E14=E$25,E14=E$26),3,IF(OR(E14=E$28,E14=E$29,E14=E$27),2.7,IF(OR(E14=E$30,E14=E$31,E14=E$32),2.4,IF(E14=E$33,2.1,0)))) -> 2.7 | K23: =IF(OR(F14=F$23,F14=F$24,F14=F$25,F14=F$26,F14=F$27,F14=F$28,F14=F$29),3,IF(OR(F14=F$30,F14=F$31,F14=F$32),2.7,IF(OR(F14=F$33,F14=F$34,F14=F$35,F14=F$36,F14=F$37,F14=F$38),2.4,IF(F14=F$39,2.1,0)))) -> 3
D24: AA+ | E24: A2+ | F24: AA+ | H24: 소기업 | I24: =IF(OR(D14=D$23,D14=D$24,D14=D$25,D14=D$26,D14=D$27,D14=D$28,D14=D$29),3,IF(OR(D14=D$30,D14=D$31,D14=D$32),3,IF(OR(D14=D$33,D14=D$34,D14=D$35,D14=D$36,D14=D$37,D14=D$38),2.7,IF(D14=D$39,2.4,0)))) -> 3 | J24: =IF(OR(E14=E$23,E14=E$24,E14=E$25,E14=E$26,E14=E$27,E14=E$28,E14=E$29),3,IF(OR(E14=E$30,E14=E$31,E14=E$32),3,IF(OR(E14=E$33,E14=E$34,E14=E$35,E14=E$36,E14=E$37,E14=E$38),2.7,IF(E14=E$39,2.4,0)))) -> 3 | K24: =IF(OR(F14=F$23,F14=F$24,F14=F$25,F14=F$26,F14=F$27,F14=F$28,F14=F$29),3,IF(OR(F14=F$30,F14=F$31,F14=F$32),3,IF(OR(F14=F$33,F14=F$34,F14=F$35,F14=F$36,F14=F$37,F14=F$38),2.7,IF(F14=F$39,2.4,0)))) -> 3
D25: AA0 | E25: A20 | F25: AA0 | H25: 대기업/중기업 | I25: =IF(OR(D15=D$23,D15=D$24,D15=D$25,D15=D$26,D15=D$27,D15=D$28,D15=D$29),3,IF(OR(D15=D$30,D15=D$31,D15=D$32),2.7,IF(OR(D15=D$33,D15=D$34,D15=D$35,D15=D$36,D15=D$37,D15=D$38),2.4,IF(D15=D$39,2.1,0)))) -> 2.4 | J25: =IF(OR(E15=E$23,E15=E$24,E15=E$25,E15=E$26),3,IF(OR(E15=E$28,E15=E$29,E15=E$27),2.7,IF(OR(E15=E$30,E15=E$31,E15=E$32),2.4,IF(E15=E$33,2.1,0)))) -> 2.7 | K25: =IF(OR(F15=F$23,F15=F$24,F15=F$25,F15=F$26,F15=F$27,F15=F$28,F15=F$29),3,IF(OR(F15=F$30,F15=F$31,F15=F$32),2.7,IF(OR(F15=F$33,F15=F$34,F15=F$35,F15=F$36,F15=F$37,F15=F$38),2.4,IF(F15=F$39,2.1,0)))) -> 3
D26: AA- | E26: A2- | F26: AA- | H26: 소기업 | I26: =IF(OR(D15=D$23,D15=D$24,D15=D$25,D15=D$26,D15=D$27,D15=D$28,D15=D$29),3,IF(OR(D15=D$30,D15=D$31,D15=D$32),3,IF(OR(D15=D$33,D15=D$34,D15=D$35,D15=D$36,D15=D$37,D15=D$38),2.7,IF(D15=D$39,2.4,0)))) -> 2.7 | J26: =IF(OR(E15=E$23,E15=E$24,E15=E$25,E15=E$26,E15=E$27,E15=E$28,E15=E$29),3,IF(OR(E15=E$30,E15=E$31,E15=E$32),3,IF(OR(E15=E$33,E15=E$34,E15=E$35,E15=E$36,E15=E$37,E15=E$38),2.7,IF(E15=E$39,2.4,0)))) -> 3 | K26: =IF(OR(F15=F$23,F15=F$24,F15=F$25,F15=F$26,F15=F$27,F15=F$28,F15=F$29),3,IF(OR(F15=F$30,F15=F$31,F15=F$32),3,IF(OR(F15=F$33,F15=F$34,F15=F$35,F15=F$36,F15=F$37,F15=F$38),2.7,IF(F15=F$39,2.4,0)))) -> 3
D27: A+ | E27: A3+ | F27: A+ | H27: 대기업/중기업 | I27: =IF(OR(D16=D$23,D16=D$24,D16=D$25,D16=D$26,D16=D$27,D16=D$28,D16=D$29),3,IF(OR(D16=D$30,D16=D$31,D16=D$32),2.7,IF(OR(D16=D$33,D16=D$34,D16=D$35,D16=D$36,D16=D$37,D16=D$38),2.4,IF(D16=D$39,2.1,0)))) -> 2.1 | J27: =IF(OR(E16=E$23,E16=E$24,E16=E$25,E16=E$26),3,IF(OR(E16=E$28,E16=E$29,E16=E$27),2.7,IF(OR(E16=E$30,E16=E$31,E16=E$32),2.4,IF(E16=E$33,2.1,0)))) -> 2.4 | K27: =IF(OR(F16=F$23,F16=F$24,F16=F$25,F16=F$26,F16=F$27,F16=F$28,F16=F$29),3,IF(OR(F16=F$30,F16=F$31,F16=F$32),2.7,IF(OR(F16=F$33,F16=F$34,F16=F$35,F16=F$36,F16=F$37,F16=F$38),2.4,IF(F16=F$39,2.1,0)))) -> 3
D28: A0 | E28: A30 | F28: A0 | H28: 소기업 | I28: =IF(OR(D16=D$23,D16=D$24,D16=D$25,D16=D$26,D16=D$27,D16=D$28,D16=D$29),3,IF(OR(D16=D$30,D16=D$31,D16=D$32),3,IF(OR(D16=D$33,D16=D$34,D16=D$35,D16=D$36,D16=D$37,D16=D$38),2.7,IF(D16=D$39,2.4,0)))) -> 2.4 | J28: =IF(OR(E16=E$23,E16=E$24,E16=E$25,E16=E$26,E16=E$27,E16=E$28,E16=E$29),3,IF(OR(E16=E$30,E16=E$31,E16=E$32),3,IF(OR(E16=E$33,E16=E$34,E16=E$35,E16=E$36,E16=E$37,E16=E$38),2.7,IF(E16=E$39,2.4,0)))) -> 3 | K28: =IF(OR(F16=F$23,F16=F$24,F16=F$25,F16=F$26,F16=F$27,F16=F$28,F16=F$29),3,IF(OR(F16=F$30,F16=F$31,F16=F$32),3,IF(OR(F16=F$33,F16=F$34,F16=F$35,F16=F$36,F16=F$37,F16=F$38),2.7,IF(F16=F$39,2.4,0)))) -> 3
D29: A- | E29: A3- | F29: A-
D30: BBB+ | E30: B+ | F30: BBB+
D31: BBB0 | E31: B0 | F31: BBB0
D32: BBB- | E32: B- | F32: BBB-
D33: BB+ | E33: C 이하 | F33: BB+
D34: BB0 | E34: 미제출 | F34: BB0
D35: BB- | F35: BB-
D36: B+ | F36: B+
D37: B0 | F37: B0
D38: B- | F38: B-
D39: CCC+ 이하 | F39: CCC+ 이하
D40: 미제출 | F40: 미제출

Sheet 부실벌점
B1: 부실평가자 및 부실업체
B3: 1) 업무정지
B4: 업체명 | C4: 지분율 | D4: 내용 | F4: 정지기간 | H4: 업체별점수 | I4: 평가점수
B5: =참여업체!$C$6 -> ㈜ㅁㅁ엔지니어링 | C5: =참여업체!$C$7 -> 0.5 | F5: 40 | G5: =ROUNDUP(F5/30,0) -> 2 | H5: =ROUND(배점기준!$F$96*G5,2) -> -0.4 | I5: =ROUND(H5*C5,2) -> -0.2
B6: =참여업체!$D$6 -> ㅇㅇ엔지니어링㈜ | C6: =참여업체!$D$7 -> 0.3 | F6: 30 | G6: =ROUNDUP(F6/30,0) -> 1 | H6: =ROUND(배점기준!$F$96*G6,2) -> -0.2 | I6: =ROUND(H6*C6,2) -> -0.06
B7: =참여업체!$E$6 -> ◇◇기술공사㈜ | C7: =참여업체!$E$7 -> 0.2 | F7: 0 | G7: =ROUNDUP(F7/30,0) -> 0 | H7: =ROUND(배점기준!$F$96*G7,2) -> 0 | I7: =ROUND(H7*C7,2) -> 0
B8: 계 | I8: =SUM(I5:I7) -> -0.26
B10: 2) 거짓작성 및 복제
B11: 업체명 | C11: 지분율 | D11: 내용 | F11: 건수 | H11: 업체별점수 | I11: 평가
B12: =참여업체!$C$6 -> ㈜ㅁㅁ엔지니어링 | C12: =참여업체!$C$7 -> 0.5 | F12: 1 | H12: =ROUND(배점기준!$F$98*(F12),2) -> -3 | I12: =ROUND(H12*C12,2) -> -1.5
B13: =참여업체!$D$6 -> ㅇㅇ엔지니어링㈜ | C13: =참여업체!$D$7 -> 0.3 | F13: 1 | H13: =ROUND(배점기준!$F$98*(F13),2) -> -3 | I13: =ROUND(H13*C13,2) -> -0.9
B14: =참여업체!$E$6 -> ◇◇기술공사㈜ | C14: =참여업체!$E$7 -> 0.2 | F14: 1 | H14: =ROUND(배점기준!$F$98*(F14),2) -> -3 | I14: =ROUND(H14*C14,2) -> -0.6
B15: 계 | I15: =SUM(I12:I14) -> -3
B17: 3) 부실작성
B18: 업체명 | C18: 지분율 | D18: 내용 | F18: 건수 | H18: 업체별점수 | I18: 평가
B19: =참여업체!$C$6 -> ㈜ㅁㅁ엔지니어링 | C19: =참여업체!$C$7 -> 0.5 | F19: 1 | H19: =ROUND(배점기준!$F$100*(F19),2) -> -0.2 | I19: =ROUND(H19*C19,2) -> -0.1
B20: =참여업체!$D$6 -> ㅇㅇ엔지니어링㈜ | C20: =참여업체!$D$7 -> 0.3 | F20: 1 | H20: =ROUND(배점기준!$F$100*(F20),2) -> -0.2 | I20: =ROUND(H20*C20,2) -> -0.06
B21: =참여업체!$E$6 -> ◇◇기술공사㈜ | C21: =참여업체!$E$7 -> 0.2 | F21: 1 | H21: =ROUND(배점기준!$F$100*(F21),2) -> -0.2 | I21: =ROUND(H21*C21,2) -> -0.04
B22: 계 | I22: =SUM(I19:I21) -> -0.2
B24: 4) 입찰참가제한 및 영업정지(평가업체), 기술자격정지 및 업무정지(평가사)
B25: 업체명 | C25: 지분율 | D25: 내용 | F25: 정지기간 | H25: 업체별점수 | I25: 평가
B26: =참여업체!$C$6 -> ㈜ㅁㅁ엔지니어링 | C26: =참여업체!$C$7 -> 0.5 | F26: 40 | G26: =ROUNDUP(F26/30,0) -> 2 | H26: =ROUND(배점기준!$F$96*G26,2) -> -0.4 | I26: =ROUND(H26*C26,2) -> -0.2
B27: =참여업체!$D$6 -> ㅇㅇ엔지니어링㈜ | C27: =참여업체!$D$7 -> 0.3 | F27: 30 | G27: =ROUNDUP(F27/30,0) -> 1 | H27: =ROUND(배점기준!$F$96*G27,2) -> -0.2 | I27: =ROUND(H27*C27,2) -> -0.06
B28: =참여업체!$E$6 -> ◇◇기술공사㈜ | C28: =참여업체!$E$7 -> 0.2 | F28: 0 | G28: =ROUNDUP(F28/30,0) -> 0 | H28: =ROUND(배점기준!$F$96*G28,2) -> 0 | I28: =ROUND(H28*C28,2) -> 0
B29: 계 | I29: =SUM(I26:I28) -> -0.26
B31: 5) 기술자격정지 및 업무정지(평가사)
B32: 참여분야 | D32: 성 명 | E32: 내용 | H32: 정지기간 | I32: 평가
B33: 총괄평가자 | D33: 이순신 | H33: 40
B34: =배점기준!C3 -> 대기관리 | C34: 분야 책임평가자 | D34: 홍길동
B35: =배점기준!C4 -> 수질관리 | C35: 분야 책임평가자
B36: =배점기준!C5 -> 소음진동 | C36: 분야 책임평가자
B37: =배점기준!C6 -> 폐기물처리 | C37: 분야 책임평가자
B38: =배점기준!C7 -> 0 | C38: 분야 책임평가자
B39: =배점기준!C8 -> 0 | C39: 분야 책임평가자
B40: =B34 -> 대기관리 | C40: 분야 평가자
B41: =B35 -> 수질관리 | C41: 분야 평가자
B42: =B36 -> 소음진동 | C42: 분야 평가자
B43: =B37 -> 폐기물처리 | C43: 분야 평가자
B44: =B38 -> 0 | C44: 분야 평가자
B45: =B39 -> 0 | C45: 분야 평가자
B46: 계 | H46: =ROUNDUP(SUM(H33:H45)/30,0) -> 2 | I46: =H46*배점기준!F102 -> -0.4
A48: 주) | B48: ※신고자의 경력에 해당하는 양식을 사용하여 작성합니다. 합계건수가 기술자 시트에 입력 되도록 확인합니다.
A49: 1 | B49: 1) ~ 3)「환경형향평가법 시행규칙」[별표3]기준에 의한 행정처분을 받은 경우 적용하고, 4)는 계약관련법 및 「건설기술진흥법」등에 의한 행정처분을 받은 경우 적용
A50: 2 | B50: 환경영향평가등의 작성 외에 관련법령에 따른 검토 협의 감독 등의 환경영향평가 실무에 종사한 기간을 포함하여 작성합니다.
A51: 3 | B51: 점수계산은 참여업자 및 참여평가자의 누계벌점에 따라 감점
A52: 4 | B52: 공동이행방식으로 용역을 수행하는 경우에는 공동수급체의 구성원별 평가점수에 용역참여지분율을 곱하여 산정한 후 이를 합산하고, 참여평가자는 개별점수를 합산한 후 평가점수 적용
A53: 7 | B53: 기입란은 행 삽입,삭제가 가능하며, 행삽입,삭제시 실적이 합계에서 누락되지 않도록 반드시 확인 주의해야 합니다.

Sheet 기술투자
A1: 4. 기술개발 및 투자실적(6점)
B3: □ 개발실적(2점)
B4: 업체명 | C4: 신기술 | D4: 점수 | E4: 특허 | H4: 소계 | I4: 점수 | J4: 실용신안 | L4: 소계 | M4: 점수 | N4: 연구보고서 | O4: 점수 | P4: 지분율 | Q4: 평가
E5: 5년미만 | F5: 5~10년 | G5: 10~20년 | J5: 5년미만 | K5: 5~10년
B6: =참여업체!C6 -> ㈜ㅁㅁ엔지니어링 | C6: ='개발(주관)'!L5 -> 0.37 | D6: =C6*P6+C7*P7+C8*P8 -> 0.385 | E6: ='개발(주관)'!L14 -> 2 | F6: ='개발(주관)'!L11 -> 0.9 | G6: ='개발(주관)'!L8 -> 1 | H6: =ROUND((E6*배점기준!$F$111+F6*배점기준!$G$111+G6*배점기준!$H$111)*배점기준!$G$109,2) -> 1.99 | I6: =ROUND(H6*P6+H7*P7+H8*P8,2) -> 1.99 | J6: ='개발(주관)'!L20 -> 1.5 | K6: ='개발(주관)'!L17 -> 1.5 | L6: =ROUND(J6*배점기준!$F$112+K6*배점기준!$G$112,2) -> 2.7 | M6: =ROUND(L6*P6+L7*P7+L8*P8,2) -> 2.7 | N6: ='개발(주관)'!L23*배점기준!I109 -> 0.15 | O6: =ROUND((N6*P6+N7*P7+N8*P8),2) -> 0.53 | P6: =참여업체!C7 -> 0.5 | Q6: =IF((D6+I6+M6+O6)>=2,2,(D6+I6+M6+O6)) -> 2
B7: =참여업체!D6 -> ㅇㅇ엔지니어링㈜ | C7: ='개발(협력)'!L5 -> 0.4 | E7: ='개발(협력)'!L14 -> 2 | F7: ='개발(협력)'!L11 -> 0.9 | G7: ='개발(협력)'!L8 -> 1 | H7: =ROUND((E7*배점기준!$F$111+F7*배점기준!$G$111+G7*배점기준!$H$111)*배점기준!$G$109,2) -> 1.99 | J7: ='개발(협력)'!L20 -> 1.5 | K7: ='개발(협력)'!L17 -> 1.5 | L7: =ROUND(J7*배점기준!$F$112+K7*배점기준!$G$112,2) -> 2.7 | N7: ='개발(협력)'!L23 -> 1.5 | P7: =참여업체!D7 -> 0.3
B8: =참여업체!E6 -> ◇◇기술공사㈜ | C8: ='개발(협력2)'!L5 -> 0.4 | E8: ='개발(협력2)'!L14 -> 2 | F8: ='개발(협력2)'!L11 -> 0.9 | G8: ='개발(협력2)'!L8 -> 1 | H8: =ROUND((E8*배점기준!$F$111+F8*배점기준!$G$111+G8*배점기준!$H$111)*배점기준!$G$109,2) -> 1.99 | J8: ='개발(협력2)'!L20 -> 1.5 | K8: ='개발(협력2)'!L17 -> 1.5 | L8: =ROUND(J8*배점기준!$F$112+K8*배점기준!$G$112,2) -> 2.7 | P8: =참여업체!E7 -> 0.2
B10: □ 투자실적(2점)
B11: 업체명 | C11: 년도별 | D11: 최근3년간(백만원) | F11: 비율 | G11: 비율평균 | H11: 지분율 | I11: 실적 | J11: 평가
D12: 투자금액 | E12: 건설매출
B13: =B6 -> ㈜ㅁㅁ엔지니어링 | C13: 2012 | D13: 1850 | E13: 35424 | F13: =IF(D13=0,"0",D13/E13) -> 0.052224481 | G13: =(F13+F14+F15)/3 -> 0.063167403 | H13: =P6 -> 0.5 | I13: =G13*H13+G16*H16+G19*H19 -> 0.046772178 | J13: =IF(I13>=배점기준!F113,배점기준!F114,IF(I13>=배점기준!G113,배점기준!G114,IF(I13>=배점기준!H113,배점기준!H114,IF(I13>=배점기준!I113,배점기준!I114,IF(I13<배점기준!J113,배점기준!J114))))) -> 2
C14: =C13+1 -> 2013 | D14: 2008 | E14: 34254 | F14: =IF(D14=0,"0",D14/E14) -> 0.058620891
C15: =C14+1 -> 2014 | D15: 2230 | E15: 28351 | F15: =IF(D15=0,"0",D15/E15) -> 0.078656838
B16: =B7 -> ㅇㅇ엔지니어링㈜ | C16: =C13 -> 2012 | D16: 636 | E16: 19961 | F16: =IF(D16=0,"0",D16/E16) -> 0.031862131 | G16: =(F16+F17+F18)/3 -> 0.030376952 | H16: =P7 -> 0.3
C17: =C14 -> 2013 | D17: 610 | E17: 20961 | F17: =IF(D17=0,"0",D17/E17) -> 0.029101665
C18: =C15 -> 2014 | D18: 753 | E18: 24961 | F18: =IF(D18=0,"0",D18/E18) -> 0.030167061
B19: =B8 -> ◇◇기술공사㈜ | C19: =C13 -> 2012 | D19: 636 | E19: 19961 | F19: =IF(D19=0,"0",D19/E19) -> 0.031862131 | G19: =(F19+F20+F21)/3 -> 0.030376952 | H19: =P8 -> 0.2
C20: =C14 -> 2013 | D20: 610 | E20: 20961 | F20: =IF(D20=0,"0",D20/E20) -> 0.029101665
C21: =C15 -> 2014 | D21: 753 | E21: 24961 | F21: =IF(D21=0,"0",D21/E21) -> 0.030167061
B23: □ 활용실적(2점)
B24: 업체명 | C24: 신기술 | E24: 특허 | G24: 실용신안 | I24: 연구보고서 | K24: 지분율 | L24: 평가
C25: 점수 | D25: 소계 | E25: 점수 | F25: 소계 | G25: 점수 | H25: 소계 | I25: 점수 | J25: 소계
B26: =B6 -> ㈜ㅁㅁ엔지니어링 | C26: ='활용(주관)'!K9 -> 3.28 | D26: =ROUND(C26*K26+C27*K27+C28*K28,2) -> 3.63 | E26: ='활용(주관)'!K13 -> 0.7848 | F26: =ROUND(E26*K26+E27*K27+E28*K28,2) -> 0.65 | G26: ='활용(주관)'!K16 -> 0.3108 | H26: =ROUND(G26*K26+G27*K27+G28*K28,2) -> 0.34 | I26: ='활용(주관)'!K19 -> 0.756 | J26: =ROUND(I26*K26+I27*K27+I28*K28,2) -> 0.9 | K26: =[1]참여업체!$C$7 -> 0.5 | L26: =IF((D26+F26+H26+J26)>=배점기준!D115,2,(D26+F26+H26+J26)) -> 2
B27: =B7 -> ㅇㅇ엔지니어링㈜ | C27: ='활용(협력)'!K9 -> 3.98 | E27: ='활용(협력)'!K12 -> 0.5112 | G27: ='활용(협력)'!K15 -> 0.378 | I27: ='활용(협력)'!K18 -> 1.036 | K27: =[1]참여업체!$D$7 -> 0.3
B28: =B8 -> ◇◇기술공사㈜ | C28: ='활용(협력2)'!K9 -> 3.98 | E28: ='활용(협력2)'!K12 -> 0.5112 | G28: ='활용(협력2)'!K15 -> 0.378 | I28: ='활용(협력)'!K18 -> 1.036 | K28: =[1]참여업체!$E$7 -> 0.2
A31: 주) 1. | B31: 증빙서류는 공인회계사 또는 세무사가 증명한 최근 3회계년 투자실적입니다.
B32: (단, 투자실적에서 R&D사업 참여실적에 적용된 실적금액은 제외)

Sheet 개발(주관)
A1: 개발실적 | D1: =기술투자!B6 -> ㈜ㅁㅁ엔지니어링 | H1: 입찰공고일 : | I1: 39814
A2: 종류 | B2: 번호 | C2: 지정 번호 | D2: 기술명 | E2: 기술개요 | F2: 최초출원인 | G2: 출원 인수 | H2: 지정(출원)일 | I2: 경과기간 | J2: 유효기간 | K2: 분야별 가중치 | L2: 건수
A3: 건설신기술 | B3: 1 | C3: 453호 | D3: 신기술명 | F3: ㈜OOO 외 O인 | G3: 4 | H3: 39570 | I3: =$I$1-H3 -> 244 | J3: 00년 00월 | K3: 1 | L3: =1/G3*K3 -> 0.25
A4: 건설신기술 | B4: 3 | D4: 신기술명 | F4: ㈜OOO 외 O인 | G4: 5 | H4: 39572 | I4: =$I$1-H4 -> 242 | J4: 00년 00월 | K4: 0.6 | L4: =1/G4*K4 -> 0.12
A5: 신기술 소계 | L5: =SUM(L3:L4) -> 0.37
A6: 특허 | B6: 1 | D6: 특허명 | F6: ㈜OOO 외 O인 | G6: 2 | H6: 34823 | I6: =$I$1-H6 -> 4991 | J6: 00년 00월 | K6: 1 | L6: =1/G6*K6 -> 0.5
A7: 특허 | B7: 2 | D7: 특허명 | F7: ㈜OOO 외 O인 | G7: 2 | H7: 35189 | I7: =$I$1-H7 -> 4625 | J7: 00년 00월 | K7: 1 | L7: =1/G7*K7 -> 0.5
A8: 특허 20년미만 소계 | L8: =SUM(L6:L7) -> 1
A9: 특허 | B9: 3 | D9: 특허명 | F9: ㈜OOO 외 O인 | G9: 1 | H9: 37381 | I9: =$I$1-H9 -> 2433 | J9: 00년 00월 | K9: 0.6 | L9: =1/G9*K9 -> 0.6
A10: 특허 | B10: 5 | D10: 특허명 | F10: ㈜OOO 외 O인 | G10: 2 | H10: 37748 | I10: =$I$1-H10 -> 2066 | J10: 00년 00월 | K10: 0.6 | L10: =1/G10*K10 -> 0.3
A11: 특허 10년미만 소계 | L11: =SUM(L9:L10) -> 0.9
A12: 특허 | B12: 6 | D12: 특허명 | F12: ㈜OOO 외 O인 | G12: 1 | H12: 38117 | I12: =$I$1-H12 -> 1697 | J12: 00년 00월 | K12: 1 | L12: =1/G12*K12 -> 1
A13: 특허 | B13: 7 | D13: 특허명 | F13: ㈜OOO 외 O인 | G13: 1 | H13: 38483 | I13: =$I$1-H13 -> 1331 | J13: 00년 00월 | K13: 1 | L13: =1/G13*K13 -> 1
A14: 특허 5년미만 소계 | L14: =SUM(L12:L13) -> 2
A15: 실용신안 | B15: 1 | D15: 실용신안명 | F15: ㈜OOO 외 O인 | G15: 1 | H15: 37015 | I15: =$I$1-H15 -> 2799 | J15: 00년 00월 | K15: 1 | L15: =1/G15*K15 -> 1
A16: 실용신안 | B16: 2 | D16: 실용신안명 | F16: ㈜OOO 외 O인 | G16: 2 | H16: 37380 | I16: =$I$1-H16 -> 2434 | J16: 00년 00월 | K16: 1 | L16: =1/G16*K16 -> 0.5
A17: 실용신안 10년미만 소계 | L17: =SUM(L15:L16) -> 1.5
A18: 실용신안 | B18: 3 | D18: 실용신안명 | F18: ㈜OOO 외 O인 | G18: 1 | H18: 38476 | I18: =$I$1-H18 -> 1338 | J18: 00년 00월 | K18: 1 | L18: =1/G18*K18 -> 1
A19: 실용신안 | B19: 4 | D19: 실용신안명 | F19: ㈜OOO 외 O인 | G19: 2 | H19: 39206 | I19: =$I$1-H19 -> 608 | J19: 00년 00월 | K19: 1 | L19: =1/G19*K19 -> 0.5
A20: 실용신안 5년미만 소계 | L20: =SUM(L18:L19) -> 1.5
A21: 연구보고서 | B21: 1 | D21: 연구보고서명 | F21: ㈜OOO 외 O인 | G21: 1 | H21: 38476 | I21: =$I$1-H21 -> 1338 | J21: 00년 00월 | K21: 1 | L21: =1/G21*K21 -> 1
A22: 연구보고서 | B22: 2 | D22: 연구보고서명 | F22: ㈜OOO 외 O인 | G22: 2 | H22: 39206 | I22: =$I$1-H22 -> 608 | J22: 00년 00월 | K22: 1 | L22: =1/G22*K22 -> 0.5
A23: 연구보고서 소계 | L23: =SUM(L21:L22) -> 1.5
A26: 주) 1. | B26: 증빙서류 좌측에 연번을 반드시 기재후 연번순서대로 제본하여야 합니다.
A27: 2. | B27: 경과기간은 출원일로부터 경과기간을 기재해야 하며, 2인이상 출원시 출원인수로 나누어 산정한 건수로 산정되어집니다.

Sheet 개발(협력)
A1: 개발실적 | D1: =기술투자!B7 -> ㅇㅇ엔지니어링㈜ | H1: 입찰공고일 : | I1: 39814
A2: 종류 | B2: 번호 | C2: 지정 번호 | D2: 기술명 | E2: 기술개요 | F2: 최초출원인 | G2: 출원 인수 | H2: 지정(출원)일 | I2: 경과기간 | J2: 유효기간 | K2: 분야별 가중치 | L2: 건수
A3: 건설신기술 | B3: 1 | D3: 신기술명 | F3: ㈜OOO 외 O인 | G3: 4 | H3: 39570 | I3: =$I$1-H3 -> 244 | J3: 00년 00월 | K3: 1 | L3: =1/G3*K3 -> 0.25
A4: 건설신기술 | B4: 2 | D4: 신기술명 | F4: ㈜OOO 외 O인 | G4: 4 | H4: 39571 | I4: =$I$1-H4 -> 243 | J4: 00년 00월 | K4: 0.6 | L4: =1/G4*K4 -> 0.15
A5: 신기술 소계 | L5: =SUM(L3:L4) -> 0.4
A6: 특허 | B6: 1 | D6: 특허명 | F6: ㈜OOO 외 O인 | G6: 2 | H6: 34823 | I6: =$I$1-H6 -> 4991 | J6: 00년 00월 | K6: 1 | L6: =1/G6*K6 -> 0.5
A7: 특허 | B7: 2 | D7: 특허명 | F7: ㈜OOO 외 O인 | G7: 2 | H7: 35189 | I7: =$I$1-H7 -> 4625 | J7: 00년 00월 | K7: 1 | L7: =1/G7*K7 -> 0.5
A8: 특허 20년미만 소계 | L8: =SUM(L6:L7) -> 1
A9: 특허 | B9: 3 | D9: 특허명 | F9: ㈜OOO 외 O인 | G9: 1 | H9: 37382 | I9: =$I$1-H9 -> 2432 | J9: 00년 00월 | K9: 0.6 | L9: =1/G9*K9 -> 0.6
A10: 특허 | B10: 4 | D10: 특허명 | F10: ㈜OOO 외 O인 | G10: 2 | H10: 37750 | I10: =$I$1-H10 -> 2064 | J10: 00년 00월 | K10: 0.6 | L10: =1/G10*K10 -> 0.3
A11: 특허 10년미만 소계 | L11: =SUM(L9:L10) -> 0.9
A12: 특허 | B12: 5 | D12: 특허명 | F12: ㈜OOO 외 O인 | G12: 1 | H12: 38117 | I12: =$I$1-H12 -> 1697 | J12: 00년 00월 | K12: 1 | L12: =1/G12*K12 -> 1
A13: 특허 | B13: 6 | D13: 특허명 | F13: ㈜OOO 외 O인 | G13: 1 | H13: 38483 | I13: =$I$1-H13 -> 1331 | J13: 00년 00월 | K13: 1 | L13: =1/G13*K13 -> 1
A14: 특허 5년미만 소계 | L14: =SUM(L12:L13) -> 2
A15: 실용신안 | B15: 1 | D15: 실용신안명 | F15: ㈜OOO 외 O인 | G15: 1 | H15: 37015 | I15: =$I$1-H15 -> 2799 | J15: 00년 00월 | K15: 1 | L15: =1/G15*K15 -> 1
A16: 실용신안 | B16: 2 | D16: 실용신안명 | F16: ㈜OOO 외 O인 | G16: 2 | H16: 37380 | I16: =$I$1-H16 -> 2434 | J16: 00년 00월 | K16: 1 | L16: =1/G16*K16 -> 0.5
A17: 실용신안 10년미만 소계 | L17: =SUM(L15:L16) -> 1.5
A18: 실용신안 | B18: 3 | D18: 실용신안명 | F18: ㈜OOO 외 O인 | G18: 1 | H18: 38476 | I18: =$I$1-H18 -> 1338 | J18: 00년 00월 | K18: 1 | L18: =1/G18*K18 -> 1
A19: 실용신안 | B19: 4 | D19: 실용신안명 | F19: ㈜OOO 외 O인 | G19: 2 | H19: 39206 | I19: =$I$1-H19 -> 608 | J19: 00년 00월 | K19: 1 | L19: =1/G19*K19 -> 0.5
A20: 실용신안 5년미만 소계 | L20: =SUM(L18:L19) -> 1.5
A21: 연구보고서 | B21: 1 | D21: 연구보고서명 | F21: ㈜OOO 외 O인 | G21: 1 | H21: 38476 | I21: =$I$1-H21 -> 1338 | J21: 00년 00월 | K21: 1 | L21: =1/G21*K21 -> 1
A22: 연구보고서 | B22: 2 | D22: 연구보고서명 | F22: ㈜OOO 외 O인 | G22: 2 | H22: 39206 | I22: =$I$1-H22 -> 608 | J22: 00년 00월 | K22: 1 | L22: =1/G22*K22 -> 0.5
A23: 연구보고서 소계 | L23: =SUM(L21:L22) -> 1.5
A27: 주) 1. | B27: 증빙서류 좌측에 연번을 반드시 기재후 연번순서대로 제본하여야 합니다.
A28: 2. | B28: 경과기간은 출원일로부터 경과기간을 기재해야 하며, 2인이상 출원시 출원인수로 나누어 산정한 건수로 산정되어집니다.

Sheet 개발(협력2)
A1: 개발실적 | D1: =기술투자!B8 -> ◇◇기술공사㈜ | H1: 입찰공고일 : | I1: 39814
A2: 종류 | B2: 번호 | C2: 지정 번호 | D2: 기술명 | E2: 기술개요 | F2: 최초출원인 | G2: 출원 인수 | H2: 지정(출원)일 | I2: 경과기간 | J2: 유효기간 | K2: 분야별 가중치 | L2: 건수
A3: 건설신기술 | B3: 1 | D3: 신기술명 | F3: ㈜OOO 외 O인 | G3: 4 | H3: 39570 | I3: =$I$1-H3 -> 244 | J3: 00년 00월 | K3: 1 | L3: =1/G3*K3 -> 0.25
A4: 건설신기술 | B4: 2 | D4: 신기술명 | F4: ㈜OOO 외 O인 | G4: 4 | H4: 39571 | I4: =$I$1-H4 -> 243 | J4: 00년 00월 | K4: 0.6 | L4: =1/G4*K4 -> 0.15
A5: 신기술 소계 | L5: =SUM(L3:L4) -> 0.4
A6: 특허 | B6: 1 | D6: 특허명 | F6: ㈜OOO 외 O인 | G6: 2 | H6: 34823 | I6: =$I$1-H6 -> 4991 | J6: 00년 00월 | K6: 1 | L6: =1/G6*K6 -> 0.5
A7: 특허 | B7: 2 | D7: 특허명 | F7: ㈜OOO 외 O인 | G7: 2 | H7: 35189 | I7: =$I$1-H7 -> 4625 | J7: 00년 00월 | K7: 1 | L7: =1/G7*K7 -> 0.5
A8: 특허 20년미만 소계 | L8: =SUM(L6:L7) -> 1
A9: 특허 | B9: 3 | D9: 특허명 | F9: ㈜OOO 외 O인 | G9: 1 | H9: 37382 | I9: =$I$1-H9 -> 2432 | J9: 00년 00월 | K9: 0.6 | L9: =1/G9*K9 -> 0.6
A10: 특허 | B10: 4 | D10: 특허명 | F10: ㈜OOO 외 O인 | G10: 2 | H10: 37750 | I10: =$I$1-H10 -> 2064 | J10: 00년 00월 | K10: 0.6 | L10: =1/G10*K10 -> 0.3
A11: 특허 10년미만 소계 | L11: =SUM(L9:L10) -> 0.9
A12: 특허 | B12: 5 | D12: 특허명 | F12: ㈜OOO 외 O인 | G12: 1 | H12: 38117 | I12: =$I$1-H12 -> 1697 | J12: 00년 00월 | K12: 1 | L12: =1/G12*K12 -> 1
A13: 특허 | B13: 6 | D13: 특허명 | F13: ㈜OOO 외 O인 | G13: 1 | H13: 38483 | I13: =$I$1-H13 -> 1331 | J13: 00년 00월 | K13: 1 | L13: =1/G13*K13 -> 1
A14: 특허 5년미만 소계 | L14: =SUM(L12:L13) -> 2
A15: 실용신안 | B15: 1 | D15: 실용신안명 | F15: ㈜OOO 외 O인 | G15: 1 | H15: 37015 | I15: =$I$1-H15 -> 2799 | J15: 00년 00월 | K15: 1 | L15: =1/G15*K15 -> 1
A16: 실용신안 | B16: 2 | D16: 실용신안명 | F16: ㈜OOO 외 O인 | G16: 2 | H16: 37380 | I16: =$I$1-H16 -> 2434 | J16: 00년 00월 | K16: 1 | L16: =1/G16*K16 -> 0.5
A17: 실용신안 10년미만 소계 | L17: =SUM(L15:L16) -> 1.5
A18: 실용신안 | B18: 3 | D18: 실용신안명 | F18: ㈜OOO 외 O인 | G18: 1 | H18: 38476 | I18: =$I$1-H18 -> 1338 | J18: 00년 00월 | K18: 1 | L18: =1/G18*K18 -> 1
A19: 실용신안 | B19: 4 | D19: 실용신안명 | F19: ㈜OOO 외 O인 | G19: 2 | H19: 39206 | I19: =$I$1-H19 -> 608 | J19: 00년 00월 | K19: 1 | L19: =1/G19*K19 -> 0.5
A20: 실용신안 5년미만 소계 | L20: =SUM(L18:L19) -> 1.5
A21: 연구보고서 | B21: 1 | D21: 연구보고서명 | F21: ㈜OOO 외 O인 | G21: 1 | H21: 38476 | I21: =$I$1-H21 -> 1338 | J21: 00년 00월 | K21: 1 | L21: =1/G21*K21 -> 1
A22: 연구보고서 | B22: 2 | D22: 연구보고서명 | F22: ㈜OOO 외 O인 | G22: 2 | H22: 39206 | I22: =$I$1-H22 -> 608 | J22: 00년 00월 | K22: 1 | L22: =1/G22*K22 -> 0.5
A23: 연구보고서 소계 | L23: =SUM(L21:L22) -> 1.5
A24: 주) 1. | B24: 증빙서류 좌측에 연번을 반드시 기재후 연번순서대로 제본하여야 합니다.
A25: 2. | B25: 경과기간은 출원일로부터 경과기간을 기재해야 하며, 2인이상 출원시 출원인수로 나누어 산정한 건수로 산정되어집니다.

Sheet 활용(주관)
A1: 활용실적 (주관사)
A2: 종류 | B2: 번호 | C2: 지정 번호 | D2: 기술명 | E2: 경과기간 가중치 | F2: 실적금액 (백만원) | G2: 실적 건수 | H2: 분야별 가중치 | I2: 금액 가중치 | J2: 건수 가중치 | K2: 점수 | L2: 비고
A3: 신기술 | B3: 1 | C3: 703 | D3: 신기술명 | E3: 1 | F3: 110 | G3: 0.6 | H3: 1 | I3: =IF(F3>=2000,1,IF(F3>=1800,0.9,IF(F3>=1600,0.8,IF(F3>=1400,0.7,IF(F3>=1200,0.6,0))))) -> 0 | J3: =IF(G3>=5,1,IF(G3>=4,0.9,IF(G3>=3,0.8,IF(G3>=2,0.7,IF(G3>=1,0.6,0))))) -> 0 | K3: =배점기준!$F$109*H3*MAX(I3,J3)*E3 -> 0
A4: 신기술 | B4: 2 | C4: 701 | D4: 신기술명 | E4: 1 | F4: 1200 | G4: 0.5 | H4: 0.6 | I4: =IF(F4>=2000,1,IF(F4>=1800,0.9,IF(F4>=1600,0.8,IF(F4>=1400,0.7,IF(F4>=1200,0.6,0))))) -> 0.6 | J4: =IF(G4>=5,1,IF(G4>=4,0.9,IF(G4>=3,0.8,IF(G4>=2,0.7,IF(G4>=1,0.6,0))))) -> 0 | K4: =배점기준!$F$109*H4*MAX(I4,J4)*E4 -> 0.36
A5: 신기술 | B5: 3 | C5: 800 | D5: 신기술명 | E5: 1 | F5: 1450 | G5: 1 | H5: 0.6 | I5: =IF(F5>=2000,1,IF(F5>=1800,0.9,IF(F5>=1600,0.8,IF(F5>=1400,0.7,IF(F5>=1200,0.6,0))))) -> 0.7 | J5: =IF(G5>=5,1,IF(G5>=4,0.9,IF(G5>=3,0.8,IF(G5>=2,0.7,IF(G5>=1,0.6,0))))) -> 0.6 | K5: =배점기준!$F$109*H5*MAX(I5,J5)*E5 -> 0.42
A6: 신기술 | B6: 4 | C6: 258 | D6: 신기술명 | E6: 1 | F6: 1550 | G6: 2 | H6: 1 | I6: =IF(F6>=2000,1,IF(F6>=1800,0.9,IF(F6>=1600,0.8,IF(F6>=1400,0.7,IF(F6>=1200,0.6,0))))) -> 0.7 | J6: =IF(G6>=5,1,IF(G6>=4,0.9,IF(G6>=3,0.8,IF(G6>=2,0.7,IF(G6>=1,0.6,0))))) -> 0.7 | K6: =배점기준!$F$109*H6*MAX(I6,J6)*E6 -> 0.7
A7: 신기술 | B7: 5 | C7: 701 | D7: 신기술명 | E7: 1 | F7: 1660 | G7: 3 | H7: 1 | I7: =IF(F7>=2000,1,IF(F7>=1800,0.9,IF(F7>=1600,0.8,IF(F7>=1400,0.7,IF(F7>=1200,0.6,0))))) -> 0.8 | J7: =IF(G7>=5,1,IF(G7>=4,0.9,IF(G7>=3,0.8,IF(G7>=2,0.7,IF(G7>=1,0.6,0))))) -> 0.8 | K7: =배점기준!$F$109*H7*MAX(I7,J7)*E7 -> 0.8
A8: 신기술 | B8: 6 | C8: 800 | D8: 신기술명 | E8: 1 | F8: 2001 | G8: 4 | H8: 1 | I8: =IF(F8>=2000,1,IF(F8>=1800,0.9,IF(F8>=1600,0.8,IF(F8>=1400,0.7,IF(F8>=1200,0.6,0))))) -> 1 | J8: =IF(G8>=5,1,IF(G8>=4,0.9,IF(G8>=3,0.8,IF(G8>=2,0.7,IF(G8>=1,0.6,0))))) -> 0.9 | K8: =배점기준!$F$109*H8*MAX(I8,J8)*E8 -> 1
A9: 신기술 소계 | K9: =SUM(K3:K8) -> 3.28
A10: 특허 | B10: 11 | C10: 701 | D10: 특허명 | E10: 1 | F10: 110 | G10: 1 | H10: 1 | I10: =IF(F10>=2000,1,IF(F10>=1800,0.9,IF(F10>=1600,0.8,IF(F10>=1400,0.7,IF(F10>=1200,0.6,0))))) -> 0 | J10: =IF(G10>=5,1,IF(G10>=4,0.9,IF(G10>=3,0.8,IF(G10>=2,0.7,IF(G10>=1,0.6,0))))) -> 0.6 | K10: =배점기준!$G$109*MAX(I10,J10)*E10*H10 -> 0.36
A11: 특허 | B11: 12 | C11: 800 | D11: 특허명 | E11: 0.8 | F11: 1200 | G11: 1 | H11: 0.6 | I11: =IF(F11>=2000,1,IF(F11>=1800,0.9,IF(F11>=1600,0.8,IF(F11>=1400,0.7,IF(F11>=1200,0.6,0))))) -> 0.6 | J11: =IF(G11>=5,1,IF(G11>=4,0.9,IF(G11>=3,0.8,IF(G11>=2,0.7,IF(G11>=1,0.6,0))))) -> 0.6 | K11: =배점기준!$G$109*MAX(I11,J11)*E11*H11 -> 0.1728
A12: 특허 | B12: 13 | C12: 258 | D12: 특허명 | E12: 0.6 | F12: 1450 | G12: 1 | H12: 1 | I12: =IF(F12>=2000,1,IF(F12>=1800,0.9,IF(F12>=1600,0.8,IF(F12>=1400,0.7,IF(F12>=1200,0.6,0))))) -> 0.7 | J12: =IF(G12>=5,1,IF(G12>=4,0.9,IF(G12>=3,0.8,IF(G12>=2,0.7,IF(G12>=1,0.6,0))))) -> 0.6 | K12: =배점기준!$G$109*MAX(I12,J12)*E12*H12 -> 0.252
A13: 특허 소계 | K13: =SUM(K10:K12) -> 0.7848
A14: 실용신안 | B14: 14 | C14: 701 | D14: 실용신안명 | E14: 1 | F14: 1200 | G14: 2 | H14: 1 | I14: =IF(F14>=2000,1,IF(F14>=1800,0.9,IF(F14>=1600,0.8,IF(F14>=1400,0.7,IF(F14>=1200,0.6,0))))) -> 0.6 | J14: =IF(G14>=5,1,IF(G14>=4,0.9,IF(G14>=3,0.8,IF(G14>=2,0.7,IF(G14>=1,0.6,0))))) -> 0.7 | K14: =배점기준!$H$109*MAX(I14,J14)*E14*H14 -> 0.21
A15: 실용신안 | B15: 15 | C15: 800 | D15: 실용신안명 | E15: 0.8 | F15: 1450 | G15: 1 | H15: 0.6 | I15: =IF(F15>=2000,1,IF(F15>=1800,0.9,IF(F15>=1600,0.8,IF(F15>=1400,0.7,IF(F15>=1200,0.6,0))))) -> 0.7 | J15: =IF(G15>=5,1,IF(G15>=4,0.9,IF(G15>=3,0.8,IF(G15>=2,0.7,IF(G15>=1,0.6,0))))) -> 0.6 | K15: =배점기준!$H$109*MAX(I15,J15)*E15*H15 -> 0.1008
A16: 실용신안 소계 | K16: =SUM(K14:K15) -> 0.3108
A17: 연구보고서 | B17: 14 | C17: 701 | D17: 연구보고서명 | E17: 1 | F17: 1200 | G17: 2 | H17: 0.6 | I17: =IF(F17>=2000,1,IF(F17>=1800,0.9,IF(F17>=1600,0.8,IF(F17>=1400,0.7,IF(F17>=1200,0.6,0))))) -> 0.6 | J17: =IF(G17>=5,1,IF(G17>=4,0.9,IF(G17>=3,0.8,IF(G17>=2,0.7,IF(G17>=1,0.6,0))))) -> 0.7 | K17: =배점기준!$F$109*MAX(I17,J17)*E17*H17 -> 0.42
A18: 연구보고서 | B18: 15 | C18: 800 | D18: 연구보고서명 | E18: 0.8 | F18: 1450 | G18: 1 | H18: 0.6 | I18: =IF(F18>=2000,1,IF(F18>=1800,0.9,IF(F18>=1600,0.8,IF(F18>=1400,0.7,IF(F18>=1200,0.6,0))))) -> 0.7 | J18: =IF(G18>=5,1,IF(G18>=4,0.9,IF(G18>=3,0.8,IF(G18>=2,0.7,IF(G18>=1,0.6,0))))) -> 0.6 | K18: =배점기준!$F$109*MAX(I18,J18)*E18*H18 -> 0.336
A19: 실용신안 소계 | K19: =SUM(K17:K18) -> 0.756

Sheet 활용(협력)
A1: 신기술 활용실적 (협력사)
A2: 종류 | B2: 번호 | C2: 지정 번호 | D2: 기술명 | E2: 경과기간 가중치 | F2: 실적금액 (백만원) | G2: 실적 건수 | H2: 분야별 가중치 | I2: 금액 가중치 | J2: 건수 가중치 | K2: 점수 | L2: 비고
A3: 신기술 | B3: 1 | C3: 703 | D3: 신기술명 | E3: 1 | F3: 1550 | G3: 2 | H3: 1 | I3: =IF(F3>=2000,1,IF(F3>=1800,0.9,IF(F3>=1600,0.8,IF(F3>=1400,0.7,IF(F3>=1200,0.6,0))))) -> 0.7 | J3: =IF(G3>=5,1,IF(G3>=4,0.9,IF(G3>=3,0.8,IF(G3>=2,0.7,IF(G3>=1,0.6,0))))) -> 0.7 | K3: =배점기준!$F$109*MAX(I3,J3)*E3*H3 -> 0.7
A4: 신기술 | B4: 2 | C4: 701 | D4: 신기술명 | E4: 1 | F4: 1660 | G4: 3 | H4: 0.6 | I4: =IF(F4>=2000,1,IF(F4>=1800,0.9,IF(F4>=1600,0.8,IF(F4>=1400,0.7,IF(F4>=1200,0.6,0))))) -> 0.8 | J4: =IF(G4>=5,1,IF(G4>=4,0.9,IF(G4>=3,0.8,IF(G4>=2,0.7,IF(G4>=1,0.6,0))))) -> 0.8 | K4: =배점기준!$F$109*MAX(I4,J4)*E4*H4 -> 0.48
A5: 신기술 | B5: 3 | C5: 800 | D5: 신기술명 | E5: 1 | F5: 2001 | G5: 4 | H5: 0.6 | I5: =IF(F5>=2000,1,IF(F5>=1800,0.9,IF(F5>=1600,0.8,IF(F5>=1400,0.7,IF(F5>=1200,0.6,0))))) -> 1 | J5: =IF(G5>=5,1,IF(G5>=4,0.9,IF(G5>=3,0.8,IF(G5>=2,0.7,IF(G5>=1,0.6,0))))) -> 0.9 | K5: =배점기준!$F$109*MAX(I5,J5)*E5*H5 -> 0.6
A6: 신기술 | B6: 4 | C6: 258 | D6: 신기술명 | E6: 1 | F6: 3500 | G6: 1 | H6: 1 | I6: =IF(F6>=2000,1,IF(F6>=1800,0.9,IF(F6>=1600,0.8,IF(F6>=1400,0.7,IF(F6>=1200,0.6,0))))) -> 1 | J6: =IF(G6>=5,1,IF(G6>=4,0.9,IF(G6>=3,0.8,IF(G6>=2,0.7,IF(G6>=1,0.6,0))))) -> 0.6 | K6: =배점기준!$F$109*MAX(I6,J6)*E6*H6 -> 1
A7: 신기술 | B7: 5 | C7: 704 | D7: 신기술명 | E7: 1 | F7: 1050 | G7: 1 | H7: 1 | I7: =IF(F7>=2000,1,IF(F7>=1800,0.9,IF(F7>=1600,0.8,IF(F7>=1400,0.7,IF(F7>=1200,0.6,0))))) -> 0 | J7: =IF(G7>=5,1,IF(G7>=4,0.9,IF(G7>=3,0.8,IF(G7>=2,0.7,IF(G7>=1,0.6,0))))) -> 0.6 | K7: =배점기준!$F$109*MAX(I7,J7)*E7*H7 -> 0.6
A8: 신기술 | B8: 6 | C8: 700 | D8: 신기술명 | E8: 1 | F8: 1300 | G8: 1 | H8: 1 | I8: =IF(F8>=2000,1,IF(F8>=1800,0.9,IF(F8>=1600,0.8,IF(F8>=1400,0.7,IF(F8>=1200,0.6,0))))) -> 0.6 | J8: =IF(G8>=5,1,IF(G8>=4,0.9,IF(G8>=3,0.8,IF(G8>=2,0.7,IF(G8>=1,0.6,0))))) -> 0.6 | K8: =배점기준!$F$109*MAX(I8,J8)*E8*H8 -> 0.6
A9: 신기술 소계 | K9: =SUM(K3:K8) -> 3.98
A10: 특허 | B10: 7 | C10: 652 | D10: 특허명 | E10: 1 | F10: 110 | G10: 1 | H10: 1 | I10: =IF(F10>=2000,1,IF(F10>=1800,0.9,IF(F10>=1600,0.8,IF(F10>=1400,0.7,IF(F10>=1200,0.6,0))))) -> 0 | J10: =IF(G10>=5,1,IF(G10>=4,0.9,IF(G10>=3,0.8,IF(G10>=2,0.7,IF(G10>=1,0.6,0))))) -> 0.6 | K10: =배점기준!$G$109*MAX(I10,J10)*E10*H10 -> 0.36
A11: 특허 | B11: 8 | C11: 682 | D11: 특허명 | E11: 0.6 | F11: 1450 | G11: 1 | H11: 0.6 | I11: =IF(F11>=2000,1,IF(F11>=1800,0.9,IF(F11>=1600,0.8,IF(F11>=1400,0.7,IF(F11>=1200,0.6,0))))) -> 0.7 | J11: =IF(G11>=5,1,IF(G11>=4,0.9,IF(G11>=3,0.8,IF(G11>=2,0.7,IF(G11>=1,0.6,0))))) -> 0.6 | K11: =배점기준!$G$109*MAX(I11,J11)*E11*H11 -> 0.1512
A12: 특허 소계 | K12: =SUM(K10:K11) -> 0.5112
A13: 실용신안 | B13: 9 | C13: 254 | D13: 실용신안명 | E13: 1 | F13: 1200 | G13: 2 | H13: 1 | I13: =IF(F13>=2000,1,IF(F13>=1800,0.9,IF(F13>=1600,0.8,IF(F13>=1400,0.7,IF(F13>=1200,0.6,0))))) -> 0.6 | J13: =IF(G13>=5,1,IF(G13>=4,0.9,IF(G13>=3,0.8,IF(G13>=2,0.7,IF(G13>=1,0.6,0))))) -> 0.7 | K13: =배점기준!$H$109*MAX(I13,J13)*E13*H13 -> 0.21
A14: 실용신안 | B14: 10 | C14: 268 | D14: 실용신안명 | E14: 0.8 | F14: 1450 | G14: 1 | H14: 1 | I14: =IF(F14>=2000,1,IF(F14>=1800,0.9,IF(F14>=1600,0.8,IF(F14>=1400,0.7,IF(F14>=1200,0.6,0))))) -> 0.7 | J14: =IF(G14>=5,1,IF(G14>=4,0.9,IF(G14>=3,0.8,IF(G14>=2,0.7,IF(G14>=1,0.6,0))))) -> 0.6 | K14: =배점기준!$H$109*MAX(I14,J14)*E14*H14 -> 0.168
A15: 실용신안 소계 | K15: =SUM(K13:K14) -> 0.378
A16: 연구보고서 | B16: 11 | C16: 254 | D16: 연구보고서명 | E16: 1 | F16: 1200 | G16: 2 | H16: 1 | I16: =IF(F16>=2000,1,IF(F16>=1800,0.9,IF(F16>=1600,0.8,IF(F16>=1400,0.7,IF(F16>=1200,0.6,0))))) -> 0.6 | J16: =IF(G16>=5,1,IF(G16>=4,0.9,IF(G16>=3,0.8,IF(G16>=2,0.7,IF(G16>=1,0.6,0))))) -> 0.7 | K16: =배점기준!$F$109*MAX(I16,J16)*E16*H16 -> 0.7
A17: 연구보고서 | B17: 12 | C17: 268 | D17: 연구보고서명 | E17: 0.8 | F17: 1450 | G17: 1 | H17: 0.6 | I17: =IF(F17>=2000,1,IF(F17>=1800,0.9,IF(F17>=1600,0.8,IF(F17>=1400,0.7,IF(F17>=1200,0.6,0))))) -> 0.7 | J17: =IF(G17>=5,1,IF(G17>=4,0.9,IF(G17>=3,0.8,IF(G17>=2,0.7,IF(G17>=1,0.6,0))))) -> 0.6 | K17: =배점기준!$F$109*MAX(I17,J17)*E17*H17 -> 0.336
A18: 연구보고서 소계 | K18: =SUM(K16:K17) -> 1.036

Sheet 활용(협력2)
A1: 신기술 활용실적 (협력사)
A2: 종류 | B2: 번호 | C2: 지정 번호 | D2: 기술명 | E2: 경과기간 가중치 | F2: 실적금액 (백만원) | G2: 실적 건수 | H2: 분야별 가중치 | I2: 금액 가중치 | J2: 건수 가중치 | K2: 점수 | L2: 비고
A3: 신기술 | B3: 1 | C3: 703 | D3: 신기술명 | E3: 1 | F3: 1550 | G3: 2 | H3: 1 | I3: =IF(F3>=2000,1,IF(F3>=1800,0.9,IF(F3>=1600,0.8,IF(F3>=1400,0.7,IF(F3>=1200,0.6,0))))) -> 0.7 | J3: =IF(G3>=5,1,IF(G3>=4,0.9,IF(G3>=3,0.8,IF(G3>=2,0.7,IF(G3>=1,0.6,0))))) -> 0.7 | K3: =배점기준!$F$109*MAX(I3,J3)*E3*H3 -> 0.7
A4: 신기술 | B4: 2 | C4: 701 | D4: 신기술명 | E4: 1 | F4: 1660 | G4: 3 | H4: 0.6 | I4: =IF(F4>=2000,1,IF(F4>=1800,0.9,IF(F4>=1600,0.8,IF(F4>=1400,0.7,IF(F4>=1200,0.6,0))))) -> 0.8 | J4: =IF(G4>=5,1,IF(G4>=4,0.9,IF(G4>=3,0.8,IF(G4>=2,0.7,IF(G4>=1,0.6,0))))) -> 0.8 | K4: =배점기준!$F$109*MAX(I4,J4)*E4*H4 -> 0.48
A5: 신기술 | B5: 3 | C5: 800 | D5: 신기술명 | E5: 1 | F5: 2001 | G5: 4 | H5: 0.6 | I5: =IF(F5>=2000,1,IF(F5>=1800,0.9,IF(F5>=1600,0.8,IF(F5>=1400,0.7,IF(F5>=1200,0.6,0))))) -> 1 | J5: =IF(G5>=5,1,IF(G5>=4,0.9,IF(G5>=3,0.8,IF(G5>=2,0.7,IF(G5>=1,0.6,0))))) -> 0.9 | K5: =배점기준!$F$109*MAX(I5,J5)*E5*H5 -> 0.6
A6: 신기술 | B6: 4 | C6: 258 | D6: 신기술명 | E6: 1 | F6: 3500 | G6: 1 | H6: 1 | I6: =IF(F6>=2000,1,IF(F6>=1800,0.9,IF(F6>=1600,0.8,IF(F6>=1400,0.7,IF(F6>=1200,0.6,0))))) -> 1 | J6: =IF(G6>=5,1,IF(G6>=4,0.9,IF(G6>=3,0.8,IF(G6>=2,0.7,IF(G6>=1,0.6,0))))) -> 0.6 | K6: =배점기준!$F$109*MAX(I6,J6)*E6*H6 -> 1
A7: 신기술 | B7: 5 | C7: 704 | D7: 신기술명 | E7: 1 | F7: 1050 | G7: 1 | H7: 1 | I7: =IF(F7>=2000,1,IF(F7>=1800,0.9,IF(F7>=1600,0.8,IF(F7>=1400,0.7,IF(F7>=1200,0.6,0))))) -> 0 | J7: =IF(G7>=5,1,IF(G7>=4,0.9,IF(G7>=3,0.8,IF(G7>=2,0.7,IF(G7>=1,0.6,0))))) -> 0.6 | K7: =배점기준!$F$109*MAX(I7,J7)*E7*H7 -> 0.6
A8: 신기술 | B8: 6 | C8: 700 | D8: 신기술명 | E8: 1 | F8: 1300 | G8: 1 | H8: 1 | I8: =IF(F8>=2000,1,IF(F8>=1800,0.9,IF(F8>=1600,0.8,IF(F8>=1400,0.7,IF(F8>=1200,0.6,0))))) -> 0.6 | J8: =IF(G8>=5,1,IF(G8>=4,0.9,IF(G8>=3,0.8,IF(G8>=2,0.7,IF(G8>=1,0.6,0))))) -> 0.6 | K8: =배점기준!$F$109*MAX(I8,J8)*E8*H8 -> 0.6
A9: 신기술 소계 | K9: =SUM(K3:K8) -> 3.98
A10: 특허 | B10: 7 | C10: 652 | D10: 특허명 | E10: 1 | F10: 110 | G10: 1 | H10: 1 | I10: =IF(F10>=2000,1,IF(F10>=1800,0.9,IF(F10>=1600,0.8,IF(F10>=1400,0.7,IF(F10>=1200,0.6,0))))) -> 0 | J10: =IF(G10>=5,1,IF(G10>=4,0.9,IF(G10>=3,0.8,IF(G10>=2,0.7,IF(G10>=1,0.6,0))))) -> 0.6 | K10: =배점기준!$G$109*MAX(I10,J10)*E10*H10 -> 0.36
A11: 특허 | B11: 8 | C11: 682 | D11: 특허명 | E11: 0.6 | F11: 1450 | G11: 1 | H11: 0.6 | I11: =IF(F11>=2000,1,IF(F11>=1800,0.9,IF(F11>=1600,0.8,IF(F11>=1400,0.7,IF(F11>=1200,0.6,0))))) -> 0.7 | J11: =IF(G11>=5,1,IF(G11>=4,0.9,IF(G11>=3,0.8,IF(G11>=2,0.7,IF(G11>=1,0.6,0))))) -> 0.6 | K11: =배점기준!$G$109*MAX(I11,J11)*E11*H11 -> 0.1512
A12: 특허 소계 | K12: =SUM(K10:K11) -> 0.5112
A13: 실용신안 | B13: 9 | C13: 254 | D13: 실용신안명 | E13: 1 | F13: 1200 | G13: 2 | H13: 1 | I13: =IF(F13>=2000,1,IF(F13>=1800,0.9,IF(F13>=1600,0.8,IF(F13>=1400,0.7,IF(F13>=1200,0.6,0))))) -> 0.6 | J13: =IF(G13>=5,1,IF(G13>=4,0.9,IF(G13>=3,0.8,IF(G13>=2,0.7,IF(G13>=1,0.6,0))))) -> 0.7 | K13: =배점기준!$H$109*MAX(I13,J13)*E13*H13 -> 0.21
A14: 실용신안 | B14: 10 | C14: 268 | D14: 실용신안명 | E14: 0.8 | F14: 1450 | G14: 1 | H14: 1 | I14: =IF(F14>=2000,1,IF(F14>=1800,0.9,IF(F14>=1600,0.8,IF(F14>=1400,0.7,IF(F14>=1200,0.6,0))))) -> 0.7 | J14: =IF(G14>=5,1,IF(G14>=4,0.9,IF(G14>=3,0.8,IF(G14>=2,0.7,IF(G14>=1,0.6,0))))) -> 0.6 | K14: =배점기준!$H$109*MAX(I14,J14)*E14*H14 -> 0.168
A15: 실용신안 소계 | K15: =SUM(K13:K14) -> 0.378
A16: 연구보고서 | B16: 11 | C16: 254 | D16: 연구보고서명 | E16: 1 | F16: 1200 | G16: 2 | H16: 1 | I16: =IF(F16>=2000,1,IF(F16>=1800,0.9,IF(F16>=1600,0.8,IF(F16>=1400,0.7,IF(F16>=1200,0.6,0))))) -> 0.6 | J16: =IF(G16>=5,1,IF(G16>=4,0.9,IF(G16>=3,0.8,IF(G16>=2,0.7,IF(G16>=1,0.6,0))))) -> 0.7 | K16: =배점기준!$F$109*MAX(I16,J16)*E16*H16 -> 0.7
A17: 연구보고서 | B17: 12 | C17: 268 | D17: 연구보고서명 | E17: 0.8 | F17: 1450 | G17: 1 | H17: 0.6 | I17: =IF(F17>=2000,1,IF(F17>=1800,0.9,IF(F17>=1600,0.8,IF(F17>=1400,0.7,IF(F17>=1200,0.6,0))))) -> 0.7 | J17: =IF(G17>=5,1,IF(G17>=4,0.9,IF(G17>=3,0.8,IF(G17>=2,0.7,IF(G17>=1,0.6,0))))) -> 0.6 | K17: =배점기준!$F$109*MAX(I17,J17)*E17*H17 -> 0.336
A18: 연구보고서명 소계 | K18: =SUM(K16:K17) -> 1.036

Sheet 가감점
A1: 6. 가감점
B3: 구분 | C3: 업체명 | D3: 지분율 | E3: 점수 | F3: 평 가
B5: 최근3년간 하도급 준수여부 | C5: =참여업체!C6 -> ㈜ㅁㅁ엔지니어링 | D5: =참여업체!$C$7 -> 0.5 | F5: =E5*D5+E6*D6+D7*E7 -> 0
C6: =참여업체!D6 -> ㅇㅇ엔지니어링㈜ | D6: =참여업체!$D$7 -> 0.3
C7: =참여업체!E6 -> ◇◇기술공사㈜ | D7: =참여업체!$E$7 -> 0.2
B8: 입찰불성실 여부 | C8: =참여업체!C9 -> 0 | D8: =참여업체!$C$7 -> 0.5 | F8: =E8*D8+E9*D9+D10*E10 -> 0
C9: =참여업체!D9 -> 0 | D9: =참여업체!$D$7 -> 0.3
C10: =참여업체!E9 -> 0 | D10: =참여업체!$E$7 -> 0.2
B11: 계 | F11: =SUM(F5:F10) -> 0
